BEGIN:VCALENDAR
VERSION:2.0
PRODID:-//https://techplay.jp//JP
CALSCALE:GREGORIAN
METHOD:PUBLISH
X-WR-CALDESC:プログラミング勉強部屋
X-WR-CALNAME:プログラミング勉強部屋
X-WR-TIMEZONE:Asia/Tokyo
BEGIN:VTIMEZONE
TZID:Asia/Tokyo
BEGIN:STANDARD
DTSTART:19700101T000000
TZOFFSETFROM:+0900
TZOFFSETTO:+0900
TZNAME:JST
END:STANDARD
END:VTIMEZONE
BEGIN:VEVENT
UID:744745@techplay.jp
SUMMARY:プログラミング勉強部屋
DTSTART;TZID=Asia/Tokyo:20190806T180000
DTEND;TZID=Asia/Tokyo:20190806T220000
DTSTAMP:20260425T201642Z
CREATED:20190805T141928Z
DESCRIPTION:イベント詳細はこちら\nhttps://techplay.jp/event/74474
 5?utm_medium=referral&utm_source=ics&utm_campaign=ics\n\nプログラミ
 ング他、ICT関連のことを学びたい方々へ\n自由にもく
 もく勉強可能なフリースペースを用意しました！ \n一
 人でやると、つまづいちゃって進まない・・\nご安心
 ください！現役エンジニアのメンター（先生）やコー
 チが、あなたの質問や相談に応えてくれます！ \n＊メ
 ンターも知っている事、そうでない事ございます。詳
 しくは紹介文をご参照ください。\n第１週目のメンタ
 ーは大西康智氏です。\nメンター紹介:\n国立大学でコ
 ンピュータによる数値解析について教鞭をとった後、2
 000年に独立。  \n独立後は、各種サーバ構築やシステム
 開発、Webサービスの開発を行っています。 \nPHP/Python/C/
 C++/Fortranなど、新旧プログラム言語を使ってます。 \n
 また、Raspberry PiやArduinoなど、組み込みシステムの開発
 (Cもしくはアセンブラ)、\n電子回路の設計から回路基
 板の制作を行っています。  \n趣味は模型制作。関数電
 卓やポケコンの収集癖があります。 \n**その他の週の
 メンター情報はこのリンク からご参照ください！\n参
 加対象\n\nプログラミング（言語問わず）もくもく勉強
 したい方 \nプログラミング以外でもICTに関連する事、
 もくもく勉強したい方 \n同じ事、違う事関わらず、ICT
 を学んでいる方々と交流したい方 \n家帰ると寝ちゃう
 し、遊んじゃうし仕事終わりにどこかで勉強していき
 たいって方 \n\n参加条件\n初心者の方から、ベテランの
 方までスキルレベルは問いません！ \nICTに関連する学
 び\nご自身でテキストやノートPC等を持ち込み出来る方
 。 \n（スペースにも技術書が置いてあります。持ち出
 しはできませんが、勉強会の間の貸し出しは可能です
 。） \nコーチ枠について\nプロフェッショナルの方で
 なくても大丈夫です！ \nこの言語の初心者の方なら、
 フォローできると思います〜という方も大歓迎！ \n（
 ネットワーキングタイムで対応可能言語を教えてくだ
 さい！） \neLVでは教える事も学びの１つと考えていま
 す！ \nコーチ枠申し込みの方はコーヒー無料サービス
 付きです！ \n■対象言語\nJAVA、Python、Ruby、JavaScript、Sc
 heme、Lisp、PL/SQL、C/C++、PHP、Swift、Fortran、VBA、.NET(VB、C#
 )\n■他の開催日\nこのリンク からご確認ください！\n
 毎月第1〜4火曜日に開催します。第5火曜日には開催し
 ません。\n■Timeスケジュール\n\n\n\nTime\n内容\n備考\n\n\n
 \n\n18:00\n勉強部屋OPEN！\n\n\n\n18:00~19:30\n自習タイム\n途
 中入場OK！\n\n\n途中どこかで\nネットワーキングTime\nお
 茶でも飲みながら1分ほどの自己紹介をいただければ！
 \n\n\n20:00~21:30\n自習タイム\n途中退場OK！\n\n\n\n※途中参
 加、入場可能です！\n※メンターは19:00予定で入場しま
 す。\n■参加資格\n\n無断欠席しない人\nITエンジニアま
 たはITエンジニアを目指す人\n初回参加者の方は名刺を
 ご持参ください\n\n■学習環境\nWi-Fi・Cloudの実行環境を
 お1人様1インスタンスご用意いたします。\nPCやテキス
 トは持参ください。\n■ご注意\nメンターは現役エンジ
 ニアですので、仕事の都合等で参加できない可能性が
 あることをご了承願います。その際は参加者同士でフ
 ォロー出来ればと思っております。\nまた、当企画は
 料金や参加規程など予告なく変更する可能性がありま
 す。\n\n\neLVオフィシャルサイト、またイベント告知サ
 イトなどへの掲載目的として勉強会、交流会風景の撮
 影を行わせて頂いております。掲載へ不都合が御座い
 ます方は、恐れ入りますが運営スタッフまでお申し出
 下さい。\n\n\nお席は先着順にご案内しております。ご
 来場が遅くなった場合、パイプ椅子のお席になる可能
 性があること、ご了承下さい。\n\n\n次の目的で、ご参
 加のみなさまに関する個人情報を提出いただいた名刺
 より収集します。\n「eLVイベント情報配信」「ニュー
 スレターの配信」「イベント・サービス企画のための
 調査・分析 」この他、収集目的がある場合は、収集時
 に通知します。\n\n\n■開催中の各種勉強部屋（2018/6/27
 現在）\n\nプログラミング勉強部屋　　　　　毎月第1
 ・2・3・4火曜日（予定）\nInfrastructure as Code勉強部屋　
 毎月第2・4火曜日（予定）\n\n■参加者アンケート（リ
 ピート参加者の方もお気付きの点があれば忌憚ないご
 意見おまちしてます！）\nhttps://goo.gl/dW6nBu\n\n\n\n\n■IT
 エンジニアコミュニティeLVとは？\n\neLVはスキルアップ
 に資する誰でも参加可能なコミュニティです。\n※他
 のイベントはこちらからチェック下さい。\nhttps://elv.co
 nnpass.com/\n※Co-Creation BAR（ICT関係者の集うBAR）のイベン
 トはこちらからチェック下さい。\nhttps://elv-ccb.connpass.c
 om/
LOCATION:Co-CreationLABO 102-0093　　東京都千代田区平河町1-4-3 
  (平河町伏見ビル 2F)
URL:https://techplay.jp/event/744745?utm_medium=referral&utm_source=ics&utm
 _campaign=ics
END:VEVENT
END:VCALENDAR
