BEGIN:VCALENDAR
VERSION:2.0
PRODID:-//https://techplay.jp//JP
CALSCALE:GREGORIAN
METHOD:PUBLISH
X-WR-CALDESC:スマートスピーカー対応機器を自作するワー
 クショップ #1
X-WR-CALNAME:スマートスピーカー対応機器を自作するワー
 クショップ #1
X-WR-TIMEZONE:Asia/Tokyo
BEGIN:VTIMEZONE
TZID:Asia/Tokyo
BEGIN:STANDARD
DTSTART:19700101T000000
TZOFFSETFROM:+0900
TZOFFSETTO:+0900
TZNAME:JST
END:STANDARD
END:VTIMEZONE
BEGIN:VEVENT
UID:745116@techplay.jp
SUMMARY:スマートスピーカー対応機器を自作するワークシ
 ョップ #1
DTSTART;TZID=Asia/Tokyo:20190927T193000
DTEND;TZID=Asia/Tokyo:20190927T213000
DTSTAMP:20260420T222705Z
CREATED:20190807T142408Z
DESCRIPTION:イベント詳細はこちら\nhttps://techplay.jp/event/74511
 6?utm_medium=referral&utm_source=ics&utm_campaign=ics\n\n開催概要\n
 遂にHomePodが日本発売！HomeKit対応機器を作るワークシ
 ョップを開催します。\n電子工作が初めての方も参加
 できるように半田付け不要のブレッドボードを使って
 、\nHomeKit対応機器を参加者で作ります。\n※短時間で
 動作確認まで行うため、予め難易度が高い部分は組立
 済みです。\n募集内容\nすべて、無料の先着順です。\n-
  ワークショップ参加　10名(2名人組で組立予定)\n- お手
 伝いスタッフ　5名（電子工作経験者）\n- 見学 10名\n\n\
 n\n※お手伝いスタッフはHomeKit対応機器の配線チェック
 および電源ショットチェックをお願いします。\n会場\n
 スマートニュース株式会社\n住所：渋谷区神宮前6丁目2
 5−16 (いちご神宮前ビル 2F)\n最寄り駅：JR渋谷駅または
 原宿駅からそれぞれ徒歩10分弱、明治神宮前駅から徒
 歩5分程度\n懇親会\nスポンサーのスマートニュース株
 式会社様に軽食、飲み物をご提供いただきます。\nタ
 イムスケジュール\n2019年9月27日 金曜日\n19:15-19:30 開場
 ・受付\n19:30-19:35 スポンサーから連絡事項\n19:35-19:40 こ
 のイベントについて\n19:40-19:50 HomeKitの基礎\n19:50-20:00 
 電子工作の基礎\n20:00-20:30 HomeKit対応機器を作る\n20:30-20
 :45 動作確認\n20:45-21:30 懇親会\n21:30-      解散・撤収\n\n\
 n\n当日の受付\n名刺1枚を持参の上、いちご神宮前ビル
 到着後、エレベーターにて、2Fまでお越しください。\n
 注意事項\n\nNDAの都合上、参加はApple Developer Programに加
 入している方に限らせて頂きます。\nAppleとの契約上守
 秘義務の課せられている情報等については、個人の責
 任において管理をお願いいたします。\nNDAに関するこ
 とで何かトラブルが発生した場合、運営側は責任を負
 いませんのでご了承ください。\n参加目的が不適切だ
 と判断される場合、運営側で参加をキャンセルさせて
 いただきます。\n
LOCATION:スマートニュース株式会社 渋谷区神宮前6丁目25
 −16 (いちご神宮前ビル 2F)
URL:https://techplay.jp/event/745116?utm_medium=referral&utm_source=ics&utm
 _campaign=ics
END:VEVENT
END:VCALENDAR
