BEGIN:VCALENDAR
VERSION:2.0
PRODID:-//https://techplay.jp//JP
CALSCALE:GREGORIAN
METHOD:PUBLISH
X-WR-CALDESC:ゲームに没頭する会
X-WR-CALNAME:ゲームに没頭する会
X-WR-TIMEZONE:Asia/Tokyo
BEGIN:VTIMEZONE
TZID:Asia/Tokyo
BEGIN:STANDARD
DTSTART:19700101T000000
TZOFFSETFROM:+0900
TZOFFSETTO:+0900
TZNAME:JST
END:STANDARD
END:VTIMEZONE
BEGIN:VEVENT
UID:745149@techplay.jp
SUMMARY:ゲームに没頭する会
DTSTART;TZID=Asia/Tokyo:20190914T100000
DTEND;TZID=Asia/Tokyo:20190914T220000
DTSTAMP:20260424T021011Z
CREATED:20190808T060021Z
DESCRIPTION:イベント詳細はこちら\nhttps://techplay.jp/event/74514
 9?utm_medium=referral&utm_source=ics&utm_campaign=ics\n\n”大画面で
 ひたすらゲームをしてみたい”\nそんなことを思った
 ことはありませんか？\n\n三ノ宮のスペースを24時間借
 りて、好きな時にいつでもゲームをできる場所を確保
 しました\n\n是非お気軽に足を運んでください^^\n\nみん
 なで集まって、ゲームを楽しみましょう♪\n\n＊ゲーム
 の内容は特に決まってので、普段使っているゲーム機
 やソフトをご自由に持ち込んでください！\n＊この日
 は1日場所を開けているので、好きな時間に来て好きな
 時間にお帰りいただいて大丈夫です！！！\n＊お菓子
 やドリンクも用意してます^^\n\n【時間】\n10時〜22時\n\n
 【主催者情報】\n・佐比内優太（さひないゆうた）\n神
 戸大学工学部所属。ゲームが大好きで、youtubeにて攻略
 動画をアップしている。\nゲームを通してみんなで盛
 り上がりたいと思い、ゲーム仲間を探している。\n\n・
 木村正志（きむらまさし）\nプロジェクションマッピ
 ングやゲーム制作など、プログラミングの現場に携わ
 る。\n音ゲーを中心としたゲームにハマっている。
LOCATION:エキマエ会議室三ノ宮base01 兵庫県神戸市中央区
 琴ノ緒町4-3-1　4階
URL:https://techplay.jp/event/745149?utm_medium=referral&utm_source=ics&utm
 _campaign=ics
END:VEVENT
END:VCALENDAR
