BEGIN:VCALENDAR
VERSION:2.0
PRODID:-//https://techplay.jp//JP
CALSCALE:GREGORIAN
METHOD:PUBLISH
X-WR-CALDESC:【2019年10月08日：名古屋開催】人工知能テクノ
 ロジーを実ビジネスで活用するには？Vol.66
X-WR-CALNAME:【2019年10月08日：名古屋開催】人工知能テクノ
 ロジーを実ビジネスで活用するには？Vol.66
X-WR-TIMEZONE:Asia/Tokyo
BEGIN:VTIMEZONE
TZID:Asia/Tokyo
BEGIN:STANDARD
DTSTART:19700101T000000
TZOFFSETFROM:+0900
TZOFFSETTO:+0900
TZNAME:JST
END:STANDARD
END:VTIMEZONE
BEGIN:VEVENT
UID:745575@techplay.jp
SUMMARY:【2019年10月08日：名古屋開催】人工知能テクノロ
 ジーを実ビジネスで活用するには？Vol.66
DTSTART;TZID=Asia/Tokyo:20191008T150000
DTEND;TZID=Asia/Tokyo:20191008T180000
DTSTAMP:20260422T071207Z
CREATED:20190812T020115Z
DESCRIPTION:イベント詳細はこちら\nhttps://techplay.jp/event/74557
 5?utm_medium=referral&utm_source=ics&utm_campaign=ics\n\n人工知能テ
 クノロジーを実ビジネスで活用するには？Vol.66～ 米国
 シアトルにおける人工知能最新動向 ～詳細は下記URLを
 参照ください。http://www.classcat.com/2019/08/09/1008すでに多
 くの企業が人工知能の研究・開発に乗り出しており、
 人工知能テクノロジーは、あらゆる業界・業種に適応
 され、活用の範囲を拡大しております。また、急速な
 進化により、私たちの暮らしに溶け込み、社会を変え
 つつあります。 しかしながら具体的に何をどこから始
 めてよいのか？理解できずに人工知能テクノロジーを
 採用できていない企業も少なくありません。本セミナ
 ーでは、人工知能テクノロジーを活用する上での考慮
 点ならびに活用のための具体的なステップと適応エリ
 アを検討していただける豊富な活用事例を紹介いたし
 ます。また、人工知能テクノロジー活用プロジェクト
 の考慮ポイントの紹介と共に、企業のノウハウを人工
 知能テクノロジーで実装した場合の運用における考慮
 ポイントを解説いたします。特別講演として、米国ワ
 シントン州シアトルに拠点を置くInnovation Finders Capital
 社から米国シアトルにおける人工知能テクノロジーの
 研究開発動向や各スタートアップの取組みについての
 最新情報を提供いただきます。セミナー参加者向け個
 別相談会(無償)実施中！http://www.classcat.com/ai_individual_con
 sultation日時：2019年10月8日(火) 15:00-18:00 (14:30 受付開始)
 会場：オムニセミナールーム住所：〒460-0004 愛知県名
 古屋市中区新栄町 2-13 栄第一生命ビルディング8F 地図
 ：https://goo.gl/maps/MtSr9r4GU342共催：(株)クラスキャット、
 (株)XEENUTS後援：Innovation Finders Capital GP\, LLC、働き方改
 革推進コンソーシアム参加費：無料 (事前登録制)定員
 ：30名 (申込順で受付：定員になり次第受付終了)対象
 ：経営責任者ならびに役員 (含む経営責任者からの依
 頼を受けた責任者)交通手段名鉄瀬戸線 栄町（愛知県
 ）駅から徒歩3分名古屋市営地下鉄東山線 栄駅から徒
 歩3分名古屋市営地下鉄名城線 栄（愛知県）駅から徒
 歩3分道案内地下鉄栄駅12番出口を出て後ろ（東）方向
 に進み、セブンイレブンのある信号を北に渡るとスグ
 です。 (1階にファミリーマートとマクドナルドが入っ
 ています。)※セッションのタイトル・講師・時間配分
 などは、やむなく変更されることがあります。予めご
 了承くださいますようお願いいたします。お問合せは 
 cc-seminar@classcat.com までお気軽にお問合せください。
LOCATION:オムニセミナールーム 名古屋市中区新栄町 2-13 
 栄第一生命ビルディング8F 
URL:https://techplay.jp/event/745575?utm_medium=referral&utm_source=ics&utm
 _campaign=ics
END:VEVENT
END:VCALENDAR
