BEGIN:VCALENDAR
VERSION:2.0
PRODID:-//https://techplay.jp//JP
CALSCALE:GREGORIAN
METHOD:PUBLISH
X-WR-CALDESC:基礎統計入門 前編(9/15)
X-WR-CALNAME:基礎統計入門 前編(9/15)
X-WR-TIMEZONE:Asia/Tokyo
BEGIN:VTIMEZONE
TZID:Asia/Tokyo
BEGIN:STANDARD
DTSTART:19700101T000000
TZOFFSETFROM:+0900
TZOFFSETTO:+0900
TZNAME:JST
END:STANDARD
END:VTIMEZONE
BEGIN:VEVENT
UID:746336@techplay.jp
SUMMARY:基礎統計入門 前編(9/15)
DTSTART;TZID=Asia/Tokyo:20190915T180000
DTEND;TZID=Asia/Tokyo:20190915T193000
DTSTAMP:20260425T005004Z
CREATED:20190818T142736Z
DESCRIPTION:イベント詳細はこちら\nhttps://techplay.jp/event/74633
 6?utm_medium=referral&utm_source=ics&utm_campaign=ics\n\n内容概要\n
 データ分析の第一歩はデータを集めて分析できる環境
 を整えること。\nExcel職人から脱却して、Python で統計
 を学ぼう。\n\n\n\n 台風の影響でイベント開催を9/8(日)
 →9/15(日)に変更しました。お間違えのないようご注意
 ください。 \n開催時間\n受付：18:00〜18:10\n講義：18:10〜
 19:30\n\n\n\n詳細アジェンダ\n〇扱う内容\n\n(前編の範囲)<
 --今回の講義範囲\n・統計グラフを読み取る\n　データ
 の種類、度数分布表、ヒストグラムとパレート図\n　
 クロス集計表、散布図\n・データの代表値\n　分布の散
 らばりの尺度、分布の偏りと外れ値\n・時系列データ
 の基本的な見方\n\n(中編の範囲) \n・母集団と標本\n・
 実験の基本的な考え方\n・散布図\n　相関係数と共分散
 、相関係数の注意\n・単回帰分析、重回帰分析\n・確率
 分布\n　期待値と分散、二項分布とポアソン分布、正
 規分布、標準正規分布\n・その他の確率分布\n　一様分
 布、幾何分布、指数分布\n\n(後編の範囲)\n・大数の法
 則と中心極限定理\n・基本統計量1\n　標準偏差、母分
 散、標本分散、不偏分散、基準値\n・基本統計量2\n　
 歪度と尖度\n・推測統計学の体系\n　推定の考え方、点
 推定、区間推定\n・仮説検定\n　カイ二乗分布、独立性
 検定をしてみよう\n\n\n※\n詳細は一部変更となる可能
 性があります。\n\n\n\n会場\n品川周辺　会場A\n詳細な住
 所は以下slack参加者のみご案内致します。\n\n\n\nhttp://bi
 t.ly/2RWooDf\n\n対象者\n・現在Excelなどで手作業で行って
 いる業務の効率化を行いたい方\n・SQLの基礎を勉強し
 てみたい方\n・非エンジニアだけど、簡単なデータ分
 析ができるようになりたい方\n\n\n\n当日のお持物\nノー
 トパソコン必須。\n\n\n\n講師プロフィール\n阪大大学院
 数学専攻卒。大阪府出身。\nC、C++、Java、Perl、PHP、Ruby
 、Python、R、bash を操る公共系インフラエンジニア、フ
 ロントエンジニア\nを経て、医療系クラウドサービス
 を展開。医療系システムコンサルタント等を経てAIベ
 ンチャーにて\nデータサイエンティスト。大手から中
 小まで数多くのシステム開発プロジェクトで開発統括
 、プロマネを経験。\n基盤設計、統計学、機械学習、
 深層学習、組織論、リーダーシップ論、心理学、事業
 戦略論等をテーマに、社内外で講師の経験多数。\n\n\n\
 n領収書の発行について\n前払いの領収書につきまして
 、PayPalもしくはconnpassで自動発行される領収書をご利
 用ください。\n当日払い又は別途領収書をご希望の場
 合は、発行手数料は2\,000円(税込)となります。ご了承
 ください。\n
LOCATION:東京都品川区 東京都品川区
URL:https://techplay.jp/event/746336?utm_medium=referral&utm_source=ics&utm
 _campaign=ics
END:VEVENT
END:VCALENDAR
