BEGIN:VCALENDAR
VERSION:2.0
PRODID:-//https://techplay.jp//JP
CALSCALE:GREGORIAN
METHOD:PUBLISH
X-WR-CALDESC:大阪 F#もくもく会 Let's Dev!! #3
X-WR-CALNAME:大阪 F#もくもく会 Let's Dev!! #3
X-WR-TIMEZONE:Asia/Tokyo
BEGIN:VTIMEZONE
TZID:Asia/Tokyo
BEGIN:STANDARD
DTSTART:19700101T000000
TZOFFSETFROM:+0900
TZOFFSETTO:+0900
TZNAME:JST
END:STANDARD
END:VTIMEZONE
BEGIN:VEVENT
UID:746420@techplay.jp
SUMMARY:大阪 F#もくもく会 Let's Dev!! #3
DTSTART;TZID=Asia/Tokyo:20190914T130000
DTEND;TZID=Asia/Tokyo:20190914T180000
DTSTAMP:20260425T032453Z
CREATED:20190819T062701Z
DESCRIPTION:イベント詳細はこちら\nhttps://techplay.jp/event/74642
 0?utm_medium=referral&utm_source=ics&utm_campaign=ics\n\n概要\nF#につ
 いてもくもく勉強していきましょう！  \nまた、F#プロ
 グラマ同士の互助の場として活動していきたいため、
 その旨に賛同いただける方をお待ちしております。  \n
 対象者\n\nF#を始めたい方\nF#を始めたばかりの方\nF#の
 熟練者\n\nどんなレベルの方でも参加いただけます。\n
 高い技術力をお持ちの方は、入門者の方からの質問等
 に快くお受けいただきますよう、よろしくお願いいた
 します。\nまた、高い技術力を持っている方同士での
 情報共有の場として利用いただければと思います。  \n
 タイムテーブル\n12:45～　　　　開場\n13:00～13:30　アイ
 スブレイク\n　　　　　　　　今日やること・教えて
 ほしいことの情報共有\n13:30～17:30　もくもく勉強タイ
 ム\n17:30～17:50　今日やったこと・教えてほしいことの
 情報共有\n17:50～18:00　後片付け  \n会場\n堺筋本町会議
 室  \n住所\n大阪府大阪市中央区安土町1-6-22\nグランド
 メゾン船場 415号室\nアクセス\n大阪メトロ 堺筋本町駅 
 12番出口からのアクセス  \nその他\nSlack\n「大阪 F#もく
 もく会」用にSlackを作成しました。\nここから 参加を
 お願いいたします。
LOCATION:堺筋本町会議実 大阪府大阪市中央区安土町1-6-22
URL:https://techplay.jp/event/746420?utm_medium=referral&utm_source=ics&utm
 _campaign=ics
END:VEVENT
END:VCALENDAR
