BEGIN:VCALENDAR
VERSION:2.0
PRODID:-//https://techplay.jp//JP
CALSCALE:GREGORIAN
METHOD:PUBLISH
X-WR-CALDESC:第114回技術者交流会（D-Alley）
X-WR-CALNAME:第114回技術者交流会（D-Alley）
X-WR-TIMEZONE:Asia/Tokyo
BEGIN:VTIMEZONE
TZID:Asia/Tokyo
BEGIN:STANDARD
DTSTART:19700101T000000
TZOFFSETFROM:+0900
TZOFFSETTO:+0900
TZNAME:JST
END:STANDARD
END:VTIMEZONE
BEGIN:VEVENT
UID:746430@techplay.jp
SUMMARY:第114回技術者交流会（D-Alley）
DTSTART;TZID=Asia/Tokyo:20190927T193000
DTEND;TZID=Asia/Tokyo:20190927T213000
DTSTAMP:20260421T181417Z
CREATED:20190819T062808Z
DESCRIPTION:イベント詳細はこちら\nhttps://techplay.jp/event/74643
 0?utm_medium=referral&utm_source=ics&utm_campaign=ics\n\n■ 技術者交
 流会（D-Alley） ■\n第114回技術者交流会（D-Alley）\n2000
 年からはじめて19年目に突入した技術者交流会。\n男性
 も女性も参加できますハードウェア、ソフトウェア、
 インフラのシステムエンジニアの交流会。\n\nJava、C/C++
 、C#.NET、PHP、Perl、Ruby、Objective-C、Android Java、Unity、Go
 、SAP、R、JavaScript、Python、React、Swift、Kotlin、Hadoop、Mong
 oDB、MariaDB、Laravel、Drone、組込、制御系、ハード、回路
 系エンジニアからネットワーク、サーバー基盤系のイ
 ンフラエンジニアなど、様々なソフトウェア、ハード
 ウェアエンジニア、インフラエンジニアの交流会。\n
 最近では、エンジニアと交流したい経営者、デザイナ
 ー、ディレクター、プロデューサー、リーダー、マネ
 ージャーの方の参加のご希望も来ております。\n特に
 説明会やセミナーなど、希望がなければしませんので
 、立食メインの交流になります。椅子、テーブルもあ
 りますので、お疲れの方は、椅子に座っていただいて
 問題ございません。\n\n【日時】2019年09月27日（金）19:3
 0～21:30（入退場自由）\n【場所】パーティースペース -
  Sweet lounge※前回と同じ場所になります。\n【住所】東
 京都渋谷区道玄坂2-10-12 新大宗ビル3号館 11階\n【場所UR
 L】\nYahoo地図URL：https://map.yahoo.co.jp/maps?p=%E6%9D%B1%E4%BA%AC%
 E9%83%BD%E6%B8%8B%E8%B0%B7%E5%8C%BA%E9%81%93%E7%8E%84%E5%9D%822-10-12&lat
 =35.6587149&lon=139.6977598&ei=utf-8&datum=wgs&lnm=%E6%96%B0%E5%A4%A7%E5%
 AE%97%E3%83%93%E3%83%AB%EF%BC%93%E5%8F%B7%E9%A4%A8&v=2&sc=3&uid=31ec5d02c
 bbe24d6cdade7a54c0027b487a5b07e&fa=ids\nGooglemap：https://www.google.co
 m/maps/place/%E3%80%92150-0043+%E6%9D%B1%E4%BA%AC%E9%83%BD%E6%B8%8B%E8%B0
 %B7%E5%8C%BA%E9%81%93%E7%8E%84%E5%9D%82%EF%BC%92%E4%B8%81%E7%9B%AE%EF%BC%
 91%EF%BC%90+%E6%96%B0%E5%A4%A7%E5%AE%97%E3%83%93%E3%83%AB3%E5%8F%B7%E9%A4
 %A8/@35.6586889\,139.6972512\,19z/data=!3m1!4b1!4m5!3m4!1s0x60188ca9dee10
 33d:0x724fbac4ad8801b6!8m2!3d35.6586889!4d139.6977984?hl=ja\n【アクセ
 ス】JR山手線、埼京線、湘南新宿ライン、東京メトロ
 銀座線、半蔵門線、副都心線、東急東横線、田園都市
 線、京王井の頭線　渋谷駅より徒歩5分\n道玄坂沿いで
 、成瀬ビルのとなりのキレイなビルの11Fでございます
 。\nビル周辺動画：https://www.facebook.com/omuranaka/videos/21392
 20152786402/\n【参加費】2\,000円（会場払い）\n【人数】先
 着45人\n【参加対象】学生～社会人、研究所、フリーラ
 ンスなどのハードウェア、ソフトウェア、インフラエ
 ンジニア。年齢層も10代の学生、インターン生から50歳
 を超えるベテランの方まで様々でございます。\n【飲
 食】ノンアルコールからアルコールドリンク、パン系
 やご飯系、お菓子などの軽食を準備しております。\n
 【二次会】近くの居酒屋でしますので、参加費徴収時
 （先着予約人数迄）にお伝え頂ければと思います。\n
 【注意】エンジニアを中心とした交流、人脈作りを主
 としているため、人材会社の方のは参加不可、勧誘、
 スカウトは禁止になります。他交流会でお願いいたし
 ます。\n参加者への迷惑行為、会場に係る器物損壊、
 入手した名刺の方の同意を得ない営業電話、営業メー
 ルも禁止しますので、そのような禁止行為をされた方
 は、即退場、今後の参加禁止になります。\nトイレは
 、会場の階にあるトイレにて、喫煙は、当日お知らせ
 する喫煙場所にて喫煙お願いいたします。
LOCATION:パーティースペース - Sweet lounge 東京都渋谷区道
 玄坂2-10-12 新大宗ビル3号館 11階
URL:https://techplay.jp/event/746430?utm_medium=referral&utm_source=ics&utm
 _campaign=ics
END:VEVENT
END:VCALENDAR
