BEGIN:VCALENDAR
VERSION:2.0
PRODID:-//https://techplay.jp//JP
CALSCALE:GREGORIAN
METHOD:PUBLISH
X-WR-CALDESC:第137回RITS技術交流会：井上智洋氏『人工知能
 と頭脳資本主義 ー没落する日本・勃興する中国ー』
X-WR-CALNAME:第137回RITS技術交流会：井上智洋氏『人工知能
 と頭脳資本主義 ー没落する日本・勃興する中国ー』
X-WR-TIMEZONE:Asia/Tokyo
BEGIN:VTIMEZONE
TZID:Asia/Tokyo
BEGIN:STANDARD
DTSTART:19700101T000000
TZOFFSETFROM:+0900
TZOFFSETTO:+0900
TZNAME:JST
END:STANDARD
END:VTIMEZONE
BEGIN:VEVENT
UID:746922@techplay.jp
SUMMARY:第137回RITS技術交流会：井上智洋氏『人工知能と頭
 脳資本主義 ー没落する日本・勃興する中国ー』
DTSTART;TZID=Asia/Tokyo:20190917T160000
DTEND;TZID=Asia/Tokyo:20190917T173000
DTSTAMP:20260423T234138Z
CREATED:20190822T011415Z
DESCRIPTION:イベント詳細はこちら\nhttps://techplay.jp/event/74692
 2?utm_medium=referral&utm_source=ics&utm_campaign=ics\n\nRITS技術交流
 会は、リコーITソリューションズ株式会社がリコーグ
 ループ向けに毎月、講演会などを開催しているイベン
 トです。今回はリコーグループ外の方にも参加してい
 ただけますので、会場参加定員20名、リモート参加定
 員20名で参加募集いたします。参加申し込みをしてい
 ただいた方には、オンラインのアクセス方法を連絡し
 ます。\n『人工知能と頭脳資本主義 ー没落する日本・
 勃興する中国ー』\nAIが経済にどのような影響を与え、
 資本主義をどのように変質させるかについて論じる。I
 T・AIの普及によって、労働者の頭数ではなく労働者の
 知的レベルが、一国のGDPや企業の売り上げ・利益を決
 定づける「頭脳資本主義」が到来しつつある。そうし
 た状況下で、科学技術が衰退するとともにIT・AIの導入
 の遅い日本は没落するだろう。科学技術がめざましく
 進歩しIT・AIの導入の早い中国は次代の覇権国家となる
 だろう。日本と日本企業はどうしたら逆転できるか？\
 n講演者: 井上智洋 氏（駒澤大学経済学部）\n駒澤大学
 経済学部准教授、早稲田大学非常勤講師、慶應義塾大
 学SFC研究所上席研究員、AI社会論研究会共同発起人。
 博士(経済学)。慶應義塾大学環境情報学部卒業。2011年
 に早稲田大学大学院経済学研究科で博士号を取得。早
 稲田大学政治経済学部助教、駒澤大学経済学部講師を
 経て、2017年より同大学准教授。専門はマクロ経済学。
 最近は人工知能が経済に与える影響について論じるこ
 とが多い。著書に『新しいJavaの教科書』『人工知能と
 経済の未来』『ヘリコプターマネー』『人工超知能』
 『AI時代の新・ベーシックインカム論』『純粋機械化
 経済』などがある。\n懇親会\n​技術交流会終了後 18:00
 から、講演者を囲む懇親会を開催いたします。会費は1
 \,000円です。\n軽食を交えながら、出展者・参加者と情
 報交換ができるかと思います。時間の許す方は是非ご
 参加ください。\n\n※ 写真は、井上先生の著書、第132
 回の講演風景、リコーグループ内部の回で使っている
 会場の様子です。
LOCATION:リコーITソリューションズ株式会社 本社 神奈川
 県横浜市都筑区新栄町16-1
URL:https://techplay.jp/event/746922?utm_medium=referral&utm_source=ics&utm
 _campaign=ics
END:VEVENT
END:VCALENDAR
