BEGIN:VCALENDAR
VERSION:2.0
PRODID:-//https://techplay.jp//JP
CALSCALE:GREGORIAN
METHOD:PUBLISH
X-WR-CALDESC:【第36回AIセミナー】「これからの製造産業の
 あるべき姿」
X-WR-CALNAME:【第36回AIセミナー】「これからの製造産業の
 あるべき姿」
X-WR-TIMEZONE:Asia/Tokyo
BEGIN:VTIMEZONE
TZID:Asia/Tokyo
BEGIN:STANDARD
DTSTART:19700101T000000
TZOFFSETFROM:+0900
TZOFFSETTO:+0900
TZNAME:JST
END:STANDARD
END:VTIMEZONE
BEGIN:VEVENT
UID:747109@techplay.jp
SUMMARY:【第36回AIセミナー】「これからの製造産業のある
 べき姿」
DTSTART;TZID=Asia/Tokyo:20190926T150000
DTEND;TZID=Asia/Tokyo:20190926T170000
DTSTAMP:20260424T232132Z
CREATED:20190823T060022Z
DESCRIPTION:イベント詳細はこちら\nhttps://techplay.jp/event/74710
 9?utm_medium=referral&utm_source=ics&utm_campaign=ics\n\n【第36回AIセ
 ミナー】「これからの製造産業のあるべき姿」\n\n産業
 技術総合研究所 人工知能研究センターでは、人工知能
 研究に関する情報交換を目的として、原則として月に
 一度、外部の方やセンター内研究者を講師とする人工
 知能セミナーを開催しています。\n\n2019年9月は「これ
 からの製造産業のあるべき姿」がテーマです。\n\n基本
 的にどなたでも無料でご参加いただけますが、事前申
 込が必要です。人工知能に興味のある方は奮ってご参
 加ください。多くの方々にご参加いただき活発な議論
 が行われることを期待しています。\n\n要旨\n\n近年、
 製造産業の分野では、ドイツのインダストリー4.0に代
 表されるように、IoTならびにAI活用の取り組みが進め
 られています。製造産業において、AIの利活用はどう
 あるべきかという視点から、2名の講師の方々にご講演
 頂きます。\n\n基本情報\n\n\n名称：【第36回AIセミナー
 】「これからの製造産業のあるべき姿」\n日時：2019年9
 月26日（木）15:00-17:00\n受付時間：14:20-17:00\n※ 受付時
 間外のご来場には、対応できない場合があります。\n
 場所：〒135-0064 東京都江東区青海二丁目5番10号 テレコ
 ムセンタービル東棟14階\nAsia startup office MONO\nURL：https:/
 /mono.jpn.com/telecom-center-access/\n定員：200名\n参加費用：無
 料\n主催：産業技術総合研究所人工知能研究センター\n
 連絡先：人工知能セミナー窓口\n本セミナーは、国立
 研究開発法人新エネルギー産業技術総合開発機構（NEDO
 ）による委託事業「次世代人工知能・ロボット中核技
 術開発（次世代人工知能分野）」による活動となりま
 す。\n\n\n注意事項\n\n\n他の方に参加の機会をお譲りす
 るためにも、参加ができないと分かった場合は早めの
 キャンセルをお願いします。\n産総研は、お送りいた
 だいた情報をセミナー運営以外の目的には使用しませ
 ん。\n懇親会の予定はありません。\n\n\n\n\nプログラム\
 n\n\n\n \n\n 15:00 - 15:05\n\n   「趣旨説明」\n\n\n 15:05 - 16:00\n
 \n   「標準規格の浸透で進む「つながる工場」」\n川野
 俊充\n（ベッコフオートメーション株式会社 代表取締
 役社長）\n  概要： \n第四次産業革命を実現するとの掛
 け声のもとで始まったドイツ発のIndustrie 4.0．プロジェ
 クト開始から５年が経ち，素形材加工装置を含む生産
 財の標準規格がいよいよ登場し始めてきました．こう
 した動向を踏まえ，標準規格のコンセプトをうまく活
 用した産業用IoTやAIの製造現場への適応事例をご紹介
 します．\n\n  略歴： \n東京大学理学部物理学科を卒業
 後，日本ヒューレットパッカード株式会社を経て2003年
 カリフォルニア大学バークレー校ハース経営大学院経
 営学修士．日本ナショナルインスツルメンツ株式会社
 の事業部長，慶應義塾大学SFC研究所上席所員を兼任し
 ，2011年に「EtherCAT」開発元のベッコフオートメーショ
 ン株式会社代表取締役社長に着任し，ソフトウェアPLC/
 NC/RCのTwinCATによるPC制御ソリューションの普及に努め
 ています．2017年より在日ドイツ商工会議所理事会副会
 頭にも就任．                                \n\n \n \n\n\n \n\n 16:
 05 - 17:00\n\n  「超小型自立分散半導体生産システム・ミ
 ニマルファブの開発と、そのファブネットワーキング
 」\n原史朗　\n（産業技術総合研究所　ナノエレクトロ
 ニクス研究部門　首席研究員）\n  概要：\nミニマルフ
 ァブは、1ライン5千億円もの投資が必要な既存メガフ
 ァブと比較して、投資額1/1000、ウェハ面積1/1000で、さ
 らに局所クリーン化によってクリーンルームを不要と
 する、多品種少量デバイスに適した新しい生産システ
 ムであり、投資問題が解決できる。ミニマルファブは
 、産総研を中心に企業約百社と開発を進めている。ミ
 ニマルファブでは、装置内部の制御に恐らく世界で初
 めてEtherCATを本格採用した。また、装置間、ファブ間
 での通信では、暗号化システムを開発し、つながる工
 場を世界にさきがけて具現化しつつある。本講演では
 、そのコンセプト、ビジネスモデル、開発状況、今後
 の予定などについて述べる。　 \n \n\n  略歴： \n早稲田
 大学理工学部助手、理化学研究所基礎科学特別研究員
 を経て、1993年、電子技術総合研究所入所。ショットキ
 ーダイオードの特性ばらつきの根源を追い求め、その
 原因究明のために、局所クリーン化リサーチシステム
 を開発。2007年に投資額を1/1\,000にするリスク分散型半
 導体生産システム・ミニマルファブ構想を創出。局所
 クリーン化技術を応用したミニマル搬送システムの開
 発に着手。これをコアテクノロジーとして、ミニマル
 ファブの開発をおよそ50社と推進する。H24年度から3年
 間、ミニマルファブ開発を国家プロジェクト化し、プ
 ロジェクトリーダーを務めた。現在、国立研究開発法
 人産業技術総合研究所ナノエレクトロニクス研究部門
 ・首席研究員兼ミニマルシステムグループ長。一般社
 団法人ミニマルファブ推進機構・ファブシステム研究
 会代表。ミニマルファブ開発とその普及全体を統括し
 、開発をリードしている。\n\n \n\n
LOCATION:Asia startup office MONO 〒135-0064 東京都江東区青海二
 丁目5番10号 テレコムセンタービル東棟14階
URL:https://techplay.jp/event/747109?utm_medium=referral&utm_source=ics&utm
 _campaign=ics
END:VEVENT
END:VCALENDAR
