BEGIN:VCALENDAR
VERSION:2.0
PRODID:-//https://techplay.jp//JP
CALSCALE:GREGORIAN
METHOD:PUBLISH
X-WR-CALDESC:京都開催「VagrantとDockerを使ったローカル開発
 環境構築ハンズオン」学生向け勉強会！
X-WR-CALNAME:京都開催「VagrantとDockerを使ったローカル開発
 環境構築ハンズオン」学生向け勉強会！
X-WR-TIMEZONE:Asia/Tokyo
BEGIN:VTIMEZONE
TZID:Asia/Tokyo
BEGIN:STANDARD
DTSTART:19700101T000000
TZOFFSETFROM:+0900
TZOFFSETTO:+0900
TZNAME:JST
END:STANDARD
END:VTIMEZONE
BEGIN:VEVENT
UID:747204@techplay.jp
SUMMARY:京都開催「VagrantとDockerを使ったローカル開発環境
 構築ハンズオン」学生向け勉強会！
DTSTART;TZID=Asia/Tokyo:20190914T150000
DTEND;TZID=Asia/Tokyo:20190914T200000
DTSTAMP:20260424T093231Z
CREATED:20190823T142325Z
DESCRIPTION:イベント詳細はこちら\nhttps://techplay.jp/event/74720
 4?utm_medium=referral&utm_source=ics&utm_campaign=ics\n\nVagrantとDocker
 を使ったローカル開発環境構築ハンズオン\n対象\nエン
 ジニア志望学生でしたらどなたでも参加可能です！\n
 ※学生限定のイベントです。既に卒業された方は参加
 いただけません。  \nイベント概要\nこのハンズオンで
 はVagrant、VirtualBox、Dockerの技術を用いてWebアプリケー
 ション開発における開発環境の構築技術を学べます！\
 nハンズオン資料\n以下の資料でハンズオンは進めます\
 nhttps://github.com/hironomiu/Local-Development-Environment-Hands-On\nこ
 んな人におすすめです\n\nWebアプリケーション開発に興
 味がある方\nWebアプリケーション開発のインフラ構築
 に興味のある方\nVagrant、VirtualBox、Dockerなどの技術に興
 味のある方\n\n事前準備\n\nVagrantのインストール https://w
 ww.vagrantup.com/\nVirtualBoxのインストール https://www.virtualbox
 .org/\nGitHubアカウント\nChromeブラウザ\nSSHクライアント\n
 \nタイムテーブル\n\n\n\n時間\n内容\n\n\n\n\n14:45\n受付開
 始\n\n\n15:00 - 15:30\n自己紹介 Step1\n\n\n15:30 - 16:30\nStep2\n\n\
 n16:30 - 16:45\n休憩\n\n\n16:45 - 17:30\nStep3\n\n\n17:30 - 17:45\n休
 憩\n\n\n17:45 - 18:30\nStep4\n\n\n18:30 - 20:00\n懇親会\n\n\n\n※ハ
 ンズオン中の休憩は適宜取る予定です。\n※懇親会は
 任意参加です。\n会場\nサポーターズ京都オフィス\n京
 都府京都市下京区立売東町１ 京都フコク生命四条柳馬
 場ビル２F\n後日いただいたメールアドレス宛てに入館
 についてご案内します\n備考\n\nWi-Fi: あり\n電源あり\n
LOCATION:サポーターズ京都オフィス 〒600-8005 京都府京都
 市下京区立売東町１ 京都フコク生命四条柳馬場ビル２
 F
URL:https://techplay.jp/event/747204?utm_medium=referral&utm_source=ics&utm
 _campaign=ics
END:VEVENT
END:VCALENDAR
