BEGIN:VCALENDAR
VERSION:2.0
PRODID:-//https://techplay.jp//JP
CALSCALE:GREGORIAN
METHOD:PUBLISH
X-WR-CALDESC:無限LT会 #3 【Endless Level Up】
X-WR-CALNAME:無限LT会 #3 【Endless Level Up】
X-WR-TIMEZONE:Asia/Tokyo
BEGIN:VTIMEZONE
TZID:Asia/Tokyo
BEGIN:STANDARD
DTSTART:19700101T000000
TZOFFSETFROM:+0900
TZOFFSETTO:+0900
TZNAME:JST
END:STANDARD
END:VTIMEZONE
BEGIN:VEVENT
UID:747347@techplay.jp
SUMMARY:無限LT会 #3 【Endless Level Up】
DTSTART;TZID=Asia/Tokyo:20190915T130000
DTEND;TZID=Asia/Tokyo:20190915T180000
DTSTAMP:20260423T183834Z
CREATED:20190825T062355Z
DESCRIPTION:イベント詳細はこちら\nhttps://techplay.jp/event/74734
 7?utm_medium=referral&utm_source=ics&utm_campaign=ics\n\n【無限 LT 会
 について】\n他の人の LT を聞きながら、LT の資料を作
 る。\nそれを繰り返すことで、１日にたくさん LT の経
 験をしようという会です。\n発端は、身内でやってい
 た LT 会で発生した一言。\n『LT 聞きながら、LT の資料
 作ったら、無限に LT できるんじゃね？』\n前回の無限L
 T会はこちら  \n開催概要\n日程：2019年9月15日 (日) 13:00
 〜18:00 (※12:50より受付開始)\n開催場所：株式会社VOYAGE 
 GROUP 渋谷ソラスタ15F\n定員：10名\n参加費：無料\n※参
 加〆切日：9月13日 (金) 12時 \n持ち物\n\nPC\n自己紹介LTス
 ライド (1分ほどで話せる内容にしてください)\n自己紹
 介 (目安　スライド 1枚)\nイベント中に作成したいネタ
 候補を3つほど (目安　スライド 1枚)\n\n\n1回目のLTの資
 料 \n自己紹介LTで発表するネタ以外のテーマで作成し
 てきてください\n2回目以降はその場で作ったLTをして
 いただきます！！\nlive感を味わうために極力準備はし
 てこないでくださいね！\n\n\n楽しむ心\nお菓子や飲み
 物(任意)\n\n【対象の人】\n下記の方にはおすすめです\n
 \nLTをしたことがないが、してみたい人\n手持ちのLT資
 料を増やしたい人\nネタはあるがLTとして実装していな
 い人\nLTレベルアップしたい人\nどんどん人前で話してL
 T慣れしたい！\nその場で話す力を身につけたい\n最低
 限の時間でLT資料を作れる練習をしたい\n\n\n\n下記の方
 にはあまりおすすめではありません\n\nただLTを聞くだ
 けの人。  \n一つ一つの話を全部集中して聞きたい！\n\
 n【LT の対象話題】\nなんでも！5 分程度で！\n※モラル
 、公序良俗に反しない範囲で\n過去の無限 LT 発表内容\
 n【仕事系】\nメール、Scala+Elm&React Native で Hello World、
 ソフトウェアテスト、Puppeteer、ソフトウェア工学、社
 会人になってわかったこと、hyper、スペシャリストと
 チーム、元人材紹介業のが伝えるヒアリング方法\n【
 ライフハック系】\n引っ越しのコツ、枝豆、服、LTのポ
 イント、漆器で飲む味噌汁はいいぞ\n【趣味系】\n哲学
 、二郎、VR、グラスハープ、ゲーセン、自己紹介LTと遅
 刻言い訳、Marp\n【スケジュール】\n\n\n\n時刻\n内容\n\n\n
 \n\n12:50\n受付開始＆入場\n\n\n13:00\n開始＆運営イントロ
 ダクション\n\n\n13:15\n自己紹介LT開始\n\n\n13:30\n無限LT1週
 目スタート\n\n\n14:20\n10分休憩\n\n\n14:30\nもくもくタイム
  (LT作成作業時間) スタート\n\n\n15:00\n2週目 LTスタート\n
 \n\n15:50\n15~20分 休憩\n\n\n16:10\nもくもくタイム (LT作成作
 業時間) スタート\n\n\n16:40\n3週目 LTスタート\n\n\n17:30\n
 アンケート記入\n\n\n17:40\n閉会式\n\n\n18:00 - 20:00\n懇親会
  (任意参加)\n\n\n\n【懇親会】\n懇親会を予定しています
 。\n詳細については9月上旬を目処にconnpass内のメール
 にて連絡致します。\nなお参加費は自己負担ですので
 参加は任意ですが仲良くなりましょう。  \n【参加者へ
 の諸注意】\n会場の環境\n\n電源\nWi-Fi \n自動販売機  \n\n
 接続端子\n\nType-C\nHDMI\n\nそれ以外は、各自変換コード
 の持ち込みをお願いいたします。\n会場への入場\n休日
 につき、ビルのエントランスは閉まっています。\n受
 付開始時間内にソラスタ(会場ビル)1Fのタリーズ付近ま
 でお越しください。\n12:50になりましたら運営にて会場
 までご案内致します。  \n遅れて到着した場合は\ntwitter
  のハッシュタグ (#endless_lt)、あるいは運営の twitter ア
 カウント\nokashoi\nまでお知らせください。  \n運営の者
 が向かいますので、無限 LT の参加者であること確認の
 うえ、会場まで案内いたします。\n迷惑行為等につい
 て\n他の参加者への迷惑行為や公序良俗に反する行為
 運営が判断した場合は、注意をさせていただきます。\
 nそれでも改善の兆候が見られない場合には退出してい
 ただきます。\nまた、他の参加者や運営の上記の行為
 を目撃した／受けたと感じた場合には、会場内の運営
 や通報フォーム (匿名可)にご連絡ください。  \n前回の
 参加者のレポート\n\n無限LTに行ってきた\n無限 LT 会 #2 
 に参加して無限に（3 回） LT してきました\n
LOCATION:株式会社VOYAGE GROUP 東京都渋谷区道玄坂１丁目２
 １
URL:https://techplay.jp/event/747347?utm_medium=referral&utm_source=ics&utm
 _campaign=ics
END:VEVENT
END:VCALENDAR
