BEGIN:VCALENDAR
VERSION:2.0
PRODID:-//https://techplay.jp//JP
CALSCALE:GREGORIAN
METHOD:PUBLISH
X-WR-CALDESC:PyCon JP 2019 ビギナーセッション
X-WR-CALNAME:PyCon JP 2019 ビギナーセッション
X-WR-TIMEZONE:Asia/Tokyo
BEGIN:VTIMEZONE
TZID:Asia/Tokyo
BEGIN:STANDARD
DTSTART:19700101T000000
TZOFFSETFROM:+0900
TZOFFSETTO:+0900
TZNAME:JST
END:STANDARD
END:VTIMEZONE
BEGIN:VEVENT
UID:747620@techplay.jp
SUMMARY:PyCon JP 2019 ビギナーセッション
DTSTART;TZID=Asia/Tokyo:20190916T112500
DTEND;TZID=Asia/Tokyo:20190916T121000
DTSTAMP:20260423T005820Z
CREATED:20190827T015339Z
DESCRIPTION:イベント詳細はこちら\nhttps://techplay.jp/event/74762
 0?utm_medium=referral&utm_source=ics&utm_campaign=ics\n\nPyCon JP 2019 
 ビギナーセッション：Python開発を円滑に進めるための
 ツール設定\nPyCon JP 2019では、「Pythonをある程度触った
 初心者が中級者に上がるためのステップ」をテーマに
 した45分間のハンズオン、ビギナーセッションを開催
 します。\n\n時間帯はカンファレンス1日目 9/16の11:25〜1
 2:10（45分間）です。\n参加対象はPythonやエディタなど
 開発環境が構築されている方とします。普段Pythonで開
 発されているPCでハンズオンにご参加ください。\nビギ
 ナーセッション自体の対象者をPythonをある程度触った
 初心者としているため、ビギナーセッションの中でPyth
 onのインストールなどの環境構築は行いません。\n申込
 時のアンケートで環境構築の状況も質問しています。\
 n環境構築が不十分と判断される方は、キャンセルとな
 る場合があります。ご了承ください。\n\n\nビギナーセ
 ッションは日本語で進行しますが、Pythonのソースコー
 ドを元に手を動かせそうであれば、日本語が話せない
 方でもご参加いただけます（ただし、英語での質問へ
 の対応ができない場合もあります）\n\n本申し込みフォ
 ームには、事前に参加者数を把握する目的もあります
 。\nビギナーセッションに参加されたい方は事前の申
 込みにご協力をお願いします。\n当日変更も可能とし
 ますが、絶対に参加したいという方はぜひお申し込み
 ください。\n設備について\n\n同通レシーバーを用いた
 サイレントセッション形式を予定しています。 \nビギ
 ナーセッションを実施する大展示ホール(Exhibition Hall (L
 arge))には、机と電源タップの用意はありません。十分
 に充電されたPCをお持ちください\n\n申込みについて\n
 ビギナーセッションに確実に参加されたい方は、以下
 の方法でお申し込みください。\n\nカンファレンスの申
 込みページにてチケットをお買い求めください\n本ペ
 ージよりお申込みください（1で発行される受付番号が
 必要です。確認手順は本ページ下部に示します）\n\n事
 前に申し込んでいない方でも、当日空きがあれば参加
 いただけますが、確実に参加したい方はお申し込みく
 ださい。\n\n内容については以下をご覧ください\n概要\
 n実際の開発ではただ動かすだけでなく、品質をあげる
 ためにレビューやコーディング規約のチェックなどが
 行われます。 Pythonでの開発で利用できる規約や静的解
 析を行うflake8をはじめとしたツールを活用して開発を
 円滑に進められる環境づくりを行います。\n扱うトピ
 ック\n\nflake8\nblack\nmypy\npytestにいれておいてほしいアド
 オン randomly coverage\ntoxやnoxでまとめてチェック\nツール
 をエディタ上で動かす\n\n詳細（予定）\nはじめに (2分)
 \nflake8\n\nflake8の解説 (2分)\n動作デモ (3分)\n参加者：サ
 ンプルコードのflake8チェックを行い、修正する(3分)\n\n
 black\n\nblackの解説 (2分)\n動作デモ(3分)\n参加者：サンプ
 ルコードにblackを適用して再度flake8チェックをしても
 らう(flake8の設定を変更する)(3分)\n\nmypy\n\nmypy の解説 (2
 分)\n動作デモ(3分)\n参加者：サンプルコードのmypyチェ
 ックを行いtype hintを追加する(3分)\n\npytest\n\npytestとア
 ドオンの解説 (2分)\n動作デモ(3分)\n参加者：サンプル
 に用意されているpytestを実行する（コード修正はとく
 に行わない）(3分)\n\ntox\n\ntox/nox の解説 (2分)\n動作デモ
 (3分)\n参加者：サンプルに用意されているtoxやnoxを実
 行する（コード修正なし）(3分)\n\nエディター設定（解
 説のみ）\n\nvs codeでのサンプル設定解説 (2分)\n動作デ
 モ (1分)\n\n\n参考：受付番号確認手順\n「受付票を見る
 」から確認できます。（図はカンファレンスの申込み
 ページに読み替えてください）\n\n\nその他\nビギナー
 セッション開催にかける想いは以下をご確認ください
 。\nhttps://pyconjp.blogspot.com/2019/06/beginner-session-cfp.html
LOCATION:大田区産業プラザPiO 東京都大田区南蒲田1-20-20
URL:https://techplay.jp/event/747620?utm_medium=referral&utm_source=ics&utm
 _campaign=ics
END:VEVENT
END:VCALENDAR
