BEGIN:VCALENDAR
VERSION:2.0
PRODID:-//https://techplay.jp//JP
CALSCALE:GREGORIAN
METHOD:PUBLISH
X-WR-CALDESC:なによりもスピードが求められる今、なぜSD-WA
 Nを検討すべきなのか
X-WR-CALNAME:なによりもスピードが求められる今、なぜSD-WA
 Nを検討すべきなのか
X-WR-TIMEZONE:Asia/Tokyo
BEGIN:VTIMEZONE
TZID:Asia/Tokyo
BEGIN:STANDARD
DTSTART:19700101T000000
TZOFFSETFROM:+0900
TZOFFSETTO:+0900
TZNAME:JST
END:STANDARD
END:VTIMEZONE
BEGIN:VEVENT
UID:747704@techplay.jp
SUMMARY:なによりもスピードが求められる今、なぜSD-WANを
 検討すべきなのか
DTSTART;TZID=Asia/Tokyo:20190918T130000
DTEND;TZID=Asia/Tokyo:20190918T174000
DTSTAMP:20260423T000519Z
CREATED:20190827T062635Z
DESCRIPTION:イベント詳細はこちら\nhttps://techplay.jp/event/74770
 4?utm_medium=referral&utm_source=ics&utm_campaign=ics\n\n今回マジセ
 ミ枠は５０名ですが、cocnnpassでは若干名を募集します
 。\n本セミナーは、株式会社マイナビが主催するセミ
 ナー「複雑化したネットワーク管理からの解放／なに
 よりもスピードが求められる今、なぜSD-WANを検討すべ
 きなのか」のご紹介です。\nマジセミでは特別に、50名
 をご招待します。\n今、なぜSD-WANを検討すべきか\n迅速
 な意思決定が求められる現代。そのスピードを支える
 インフラにも柔軟性が求められます。 \nネットワーク
 においてもその取り巻く環境は変化しており、業務拡
 大や企業間での合併・買収に伴う拠点追加、刻々と変
 わる状況に対応する柔軟な構成が要求されています。\
 n一方で、増加の一途をたどるネットワークトラフィッ
 ク、クラウドサービスの一層の普及やモバイルの増加
 による運用、管理の煩雑さ、セキュリティ対策などの 
 課題に対応するためには、従来の延長上での改善だけ
 では対応が難しいと感じている担当者も多いのではな
 いでしょうか。 これらの課題に対するひとつの解が、
 WANの新たなテクノロジー「SD-WAN」です。 \n本セミナー
 では、柔軟性や拡張性が求められるネットワークにお
 いてSD-WANがもたらすメリット、選定時に気を配るポイ
 ント、導入までの計画などを成功事例と共に、これか
 ら企業が取り組むべきネットワーク構築のヒントをご
 来場の皆さまに提供します。\n当日プログラム\n12:30　
 開場\n13:00～13:50　事例講演\n登壇者\n調整中\n13:50～14:40
 　クラウド活用における「本当の」ネットワーク課題
 と解決策\n登壇者\n福本 翔氏\n株式会社インターネット
 イニシアティブ\nサービスプロダクト事業部 営業推進
 部 ネットワークソリューション課\nサービススペシャ
 リスト\nネットワークサービスのプリセールスを実施
 し、サービスの紹介/提案を担当。\nフロントでの提案
 活動の他、お客様からのニーズと市場の動向を見なが
 らサービス開発の企画・戦略を担当。\n講演サマリー\n
 Office365やG suiteをはじめとしたクラウドサービス利用の
 広がりや、働き方改革によるリモートワークの浸透に
 より、新たなネットワークの課題が顕著になってきて
 います。\n2006年から特許技術「SMF」でゼロタッチプロ
 ビジョニングのWANサービスを提供しているIIJだからこ
 そ分かる、SD-WANに求められているものとネットワーク
 課題の解決策についてお話しします。\n14:40～14:55　休
 憩\n14:55～15:45　調整中\n登壇者\nヴイエムウェア株式会
 社\n15:45～16:35　クラウド時代に不可欠な"正しい"イン
 ターネットブレイクアウトとは？\n登壇者\n小松 恭兵
 氏\nマクニカネットワークス株式会社\n第1営業統括部 
 第2営業部 第1課\n新卒にて通信キャリアに入社し、セ
 ールス業務に従事。\nその後2014年にマクニカネットワ
 ークスに入社。ADC、VDI、HCI製品のプロダクトマネージ
 ャを歴任。現在はSD-WAN製品のプロダクトマネージャと
 してセールス・マーケティング全般を担当。\n講演サ
 マリー\nここ数年でSaaSの全社導入が爆発的に進んでお
 ります。\nSaaS導入にともなうトラフィックやセッショ
 ン数の増加対策手段として、インターネットブレイク
 アウトを導入、検討される企業も比例して増えており
 ます。\n本セッションでは、インターネットブレイク
 アウトを行う上で検討すべき、「ファーストパケット
 問題」「セキュリティ」「プロキシの構成」の3つに焦
 点を当てながら、導入事例をもとに"正しい"インター
 ネットブレイクアウトについて解説いたします。\nク
 ラウドの積極利用を検討されている方、インターネッ
 トの有効活用策を知りたい方、プロキシ制御に悩まれ
 ている方、最新の導入事例を知りたい方、必聴です。\
 n16:35～16:50　休憩\n16:50～17:40　【有識者講演】\nSD-WAN 
 がもたらすシステムの変革とその本質\n登壇者\n関谷 
 勇司氏\n東京大学\n情報基盤センター\nネットワーク研
 究部門\n准教授\n博士(政策・メディア)\n1997年京都大学
 総合人間学部卒。2005年慶應義塾大学政策・メディア研
 究科後期博士課程修了。博士 (政策・メディア)。次世
 代ネットワークプロトコルの研究開発と分散サービス
 の計測、クラウドコンピューティングの可用性向上、S
 DN と NFV、およびサイバーセキュリティに関する研究に
 従事。\n講演サマリー\nSD-WAN を用いたネットワーク構
 築は従来のネットワーク設計とは異なる概念であり、
 アプリケーションを含めたシステム設計の一部となる
 技術である。すなわち、構築や運用にも従来とは異な
 ったスキルセットが必要となり、その変革に対応でき
 る体制や人材が求められる。本講義では、SD-WAN が持つ
 技術の本質と SD-WAN によって構築されるシステムのあ
 り方について提言する。\n主催\n株式会社マイナビ マ
 イナビニュースセミナー運営事務局\n協賛\n株式会社イ
 ンターネットイニシアティブ、ヴイエムウェア株式会
 社、マクニカネットワークス株式会社\nセミナー事務
 局\nマジセミ株式会社\n\n※競合もしくは競合になる可
 能性のある事業者様や、個人としての方は、当社判断
 によりご遠慮頂く場合がございます。予めご了承下さ
 い。\n※ご記載頂いた内容は、マジセミ株式会社にて
 収集し、マジセミ株式会社／オープンソース活用研究
 所 および主催・共催・協賛・協力・講演の各企業に提
 供させて頂きます。ご記載を頂いた個人情報はマジセ
 ミ株式会社／株式会社オープンソース活用研究所およ
 び主催・共催・協賛・協力・講演企業にて厳重に管理
 し、サービス、製品、セミナー、イベントなどのご案
 内に使用させて頂き、また各社のメルマガに登録させ
 ていただきます。ご記載いただいた個人情報は、法律
 に基づいた、警察等の行政機関や司法機関からの要請
 があった場合を除き、第三者には提供致しません。\n
 〔お問合せ先　及び　個人情報保護管理者〕　株式会
 社オープンソース活用研究所 個人情報保護管理者　連
 絡先：03-6809-1257
LOCATION:JR新宿ミライナタワー　マイナビルーム 12F-B 東京
 都新宿区新宿4丁目1番6号
URL:https://techplay.jp/event/747704?utm_medium=referral&utm_source=ics&utm
 _campaign=ics
END:VEVENT
END:VCALENDAR
