BEGIN:VCALENDAR
VERSION:2.0
PRODID:-//https://techplay.jp//JP
CALSCALE:GREGORIAN
METHOD:PUBLISH
X-WR-CALDESC:Scratch　プログラミング　体験会
X-WR-CALNAME:Scratch　プログラミング　体験会
X-WR-TIMEZONE:Asia/Tokyo
BEGIN:VTIMEZONE
TZID:Asia/Tokyo
BEGIN:STANDARD
DTSTART:19700101T000000
TZOFFSETFROM:+0900
TZOFFSETTO:+0900
TZNAME:JST
END:STANDARD
END:VTIMEZONE
BEGIN:VEVENT
UID:747935@techplay.jp
SUMMARY:Scratch　プログラミング　体験会
DTSTART;TZID=Asia/Tokyo:20190929T133000
DTEND;TZID=Asia/Tokyo:20190929T163000
DTSTAMP:20260426T041022Z
CREATED:20190828T142753Z
DESCRIPTION:イベント詳細はこちら\nhttps://techplay.jp/event/74793
 5?utm_medium=referral&utm_source=ics&utm_campaign=ics\n\nScratch　プロ
 グラミング　体験会\n\n開催日時：2019年9月29日（日）13
 時30分～2019年16時30分\n開催会場：名古屋市市民経済局
 市民活動推進センター　集会室\n開催場所：ナディア
 パーク　デザインセンタービル6階\n定　　員：40名\n参
 加費用：無料（CoderDojo憲章により無料とします）\n寄
 　　付：会場使用料並びにCoderDojo天白の活動に対する
 任意の寄付金を申し受けます。\n\n経緯\nCoderDojo天白は
 名古屋市天白区の社会福祉協議会で毎月2回、小中学生
 を対象に無償でパソコン・プログラミングを指導して
 いるボランティアの任意団体です。\nCoderDojo は7〜17歳
 の子どもを対象にしたプログラミング道場です。2011年
 にアイルランドで始まり、世界では100カ国・1\,800の道
 場、日本には181以上の道場があります。\nCoderDojo天白
 は2013年にCoderDojoの趣旨に賛同して2014年から活動を開
 始し、この9月に5周年を迎えます。また、来年度は小
 学校でのプログラミング教育が必修となります。この
 機会に、通常は小中学校の児童を対象にしていますが
 、初めて小中学校の先生方をお迎えして、Scratchの体験
 会を開催します。よろしくお願いします。\n今回実施
 する内容\n文部科学省で作成された、小学校プログラ
 ミング教育に関する研修教材を使用します。\nhttp://www.
 mext.go.jp/a_menu/shotou/zyouhou/detail/1416408.htm\n\nScratch　正多
 角形をプログラムを使ってかく\nScratch　ねこから逃げ
 るプログラムを作る\nの二つのテーマですが、非常に
 わかりやすく、ちょっとプログラミングはどうも。。
 。といわれる方にもよく理解できる教材になっている
 と思います。\n\n参加に際してのお願い\n\nノートパソ
 コン、マウス、電源コードなどの付属品を含めて、ご
 自分のPC持参でお願いします。\n今回、使いますソフト
 はオフラインでの Scratch Desktop を使います。そのため
 に下記から、ダウンロードしてインストールしていた
 だけたら、有難いと思います。よろしくお願いします
 。\nhttps://scratch.mit.edu/download\nもし、インストールでき
 ない場合は、開始前13:00頃に来ていただけると有難い
 です。\nボランティア行事保険に加入します。30円の保
 険料を準備願います。\n\n主催：CoderDojo天白\n後援：名
 古屋市教育委員会
LOCATION:名古屋市市民経済局市民活動推進センター ナデ
 ィアパーク　デザインセンタービル6階
URL:https://techplay.jp/event/747935?utm_medium=referral&utm_source=ics&utm
 _campaign=ics
END:VEVENT
END:VCALENDAR
