BEGIN:VCALENDAR
VERSION:2.0
PRODID:-//https://techplay.jp//JP
CALSCALE:GREGORIAN
METHOD:PUBLISH
X-WR-CALDESC:React.js meetup #9
X-WR-CALNAME:React.js meetup #9
X-WR-TIMEZONE:Asia/Tokyo
BEGIN:VTIMEZONE
TZID:Asia/Tokyo
BEGIN:STANDARD
DTSTART:19700101T000000
TZOFFSETFROM:+0900
TZOFFSETTO:+0900
TZNAME:JST
END:STANDARD
END:VTIMEZONE
BEGIN:VEVENT
UID:748174@techplay.jp
SUMMARY:React.js meetup #9
DTSTART;TZID=Asia/Tokyo:20190919T190000
DTEND;TZID=Asia/Tokyo:20190919T220000
DTSTAMP:20260419T202924Z
CREATED:20190830T062432Z
DESCRIPTION:イベント詳細はこちら\nhttps://techplay.jp/event/74817
 4?utm_medium=referral&utm_source=ics&utm_campaign=ics\n\nReact.js meetup 
 #9 〜デザインシステム〜\nReact.js meetup #9 を開催します
 ！ \n今回のテーマは「デザインシステム」です！\nReact
 でアプリケーションを作るとき、デザイナーさんとど
 のように一緒に進めていけばいいか悩んでいる人も多
 いのではないでしょうか？\n今回はデザインシステム
 をテーマにして、デザイナーの方々と一緒に考える会
 にしたいと思います。\nデザインシステム導入以前の
 話から、実際に導入しているSmartHR、ヤフー、メルカリ
 の話まで、トークとパネルディスカッションを予定し
 ています。\nそのため、エンジニア枠とデザイナー枠
 をそれぞれ用意しました。\nReactについてはあまり知ら
 ないというデザイナーの方も是非ご参加ください！\n
 ※今回はReactについての内容は少ないので、その点を
 認識した上で参加申し込みお願いします。\n今回は会
 場・懇親会共に株式会社SmartHR様にスポンサー頂きます
 。\n本イベントにつきましては、後日株式会社SmartHR様
 のブログにレポートを掲載頂く予定です。\nそのため
 、写真撮影がある点をご了承願います。\n掲載先：\nSma
 rtHR Designers：https://note.mu/smarthr_design/m/m682a32abc36e\n開催
 概要\n日時\n2019/09/19(木)19:00〜\nタイムスケジュール\n\n\
 n\n時間\n内容\n\n\n\n\n19:00 - 19:20\n開場/受付 (connpassの受
 付票をご用意ください)\n\n\n19:20 - 19:30\nスポンサートー
 ク（会場案内+会社紹介）@nabeliwo\n\n\n19:30 - 19:50\nTalk: デ
 ザインシステムを持たない組織のこれまでの取り組み
 と今後を考える @featherplain\n\n\n19:50 - 20:00\n休憩\n\n\n20:00
  - 20:40\nパネルディスカッション（SmartHR + ヤフー + メ
 ルカリ）\n\n\n20:40 - 21:30\n懇親会\n\n\n\nパネルディスカ
 ッション\n\n@OujiMiyahara\n@halsakulalala\n@usagif2\n\nモデレー
 タ @yosuke_furukawa\n開催場所\n株式会社SmartHR\n東京都港区
 六本木3-2-1 住友不動産六本木グランドタワー8F\nSmartHR S
 pace\n会場までの案内は下記ブログをご覧ください\nhttps
 ://shanaiho.smarthr.co.jp/n/nb98cc2e19b21\nアクセス\n\n東京メト
 ロ南北線　六本木一丁目駅 西改札直結\n東京メトロ日
 比谷線・都営地下鉄大江戸線　六本木駅5番出口　徒歩
 5分\n東京メトロ銀座線・南北線・丸ノ内線 溜池山王駅
 （国会議事堂前駅）徒歩8分\n東京メトロ日比谷線 神谷
 町駅 徒歩10分\n\n行動規範\n本MeetupはReactに関する情報
 交換や交流を行うための場所です。\nそのため、参加
 者に対して以下のようなハラスメント行為は許容しま
 せん。\n\n言葉による性別、性的指向、障害の有無、外
 見、身体の大きさ、人種、宗教に関する攻撃的なコメ
 ント\n公的空間での性的な映像表現\n意図的な威力行為
 、ストーキング、つきまとい\n写真撮影や録音による
 いやがらせ\nトークやその他の会議イベントに対して
 繰り返して中断しようとする行為\n不適切な身体接触\n
 望まれない性的な注意を引きつける行為\n\nハラスメン
 ト行為に遭った、目撃したる場合には、勉強会スタッ
 フの誰かに連絡していただくようお願いします。
LOCATION:SmartHR Space 東京都港区六本木3-2-1 (住友不動産六本
 木グランドタワー8F)
URL:https://techplay.jp/event/748174?utm_medium=referral&utm_source=ics&utm
 _campaign=ics
END:VEVENT
END:VCALENDAR
