BEGIN:VCALENDAR
VERSION:2.0
PRODID:-//https://techplay.jp//JP
CALSCALE:GREGORIAN
METHOD:PUBLISH
X-WR-CALDESC:ダンボール型MRグラス「だんグラ」SDK ハンズ
 オン 東京出張版！
X-WR-CALNAME:ダンボール型MRグラス「だんグラ」SDK ハンズ
 オン 東京出張版！
X-WR-TIMEZONE:Asia/Tokyo
BEGIN:VTIMEZONE
TZID:Asia/Tokyo
BEGIN:STANDARD
DTSTART:19700101T000000
TZOFFSETFROM:+0900
TZOFFSETTO:+0900
TZNAME:JST
END:STANDARD
END:VTIMEZONE
BEGIN:VEVENT
UID:748254@techplay.jp
SUMMARY:ダンボール型MRグラス「だんグラ」SDK ハンズオン 
 東京出張版！
DTSTART;TZID=Asia/Tokyo:20190915T130000
DTEND;TZID=Asia/Tokyo:20190915T200000
DTSTAMP:20260423T172930Z
CREATED:20190830T142206Z
DESCRIPTION:イベント詳細はこちら\nhttps://techplay.jp/event/74825
 4?utm_medium=referral&utm_source=ics&utm_campaign=ics\n\nイベント概
 要\nだんグラを製造・開発しているホログラム株式会
 社 代表の橋口和矢氏。普段は大阪を拠点に活動してお
 りますが、今回出張で、HologlaSDK-Unityを使ったハンズオ
 ンをしてくれます！\nだんグラを知らない。MRアプリ、
 VRアプリを開発したことがない方も歓迎です！これを
 機に安価で体験できるMRグラスの魅力を体感してみて
 ください！\nだんグラとは\nだんグラ®は、安価で軽量
 なダンボール素材に独自開発のWWMRレンズ、ハーフミラ
 ー、ミラーを組み合わせた筐体で、臨場感あふれるMR/V
 R/ARコンテンツが体験できる“ダンボール型MRグラス”
 です。\nHologlaSDKとは\nHologlaSDK-Unityは、Unity用のVR・AR・M
 Rコンテンツが同時開発できるSDKです。\n基本的にARKit
 、またはARCoreを利用してiOS、Android端末にて動作させる
 ことを想定しているため、iOS、またはAndroidプラットフ
 ォームの際に対応したARKit/ARCoreのプラグインをインポ
 ートしているプロジェクトデータではないと正常に動
 作しません。\n※HologlaSDK-Unityは以下のURLにあります。\
 nhttps://github.com/ho-lo/HologlaSDK-Unity\nタイムテーブル\n\n\n\n
 時間\n内容\n\n\n\n\n13:00-14:00\n環境構築\n\n\n14:00-19:00\nハ
 ンズオン\n\n\n19:00-20:00\n軽食、懇親会\n\n\n\nイベント想
 定参加者\n\nVR / AR / MR に興味のある方\n低コストでVR・A
 R・MRコンテンツの開発手法を習得したい\nHoloLensやMagic 
 Leap One等のHMD用コンテンツ開発の基礎を学びたい\n\n参
 加メリット\n\n「だんグラ」開発秘話を聞けます\nダン
 ボール型MRグラス「だんグラ」に関する質問等を行え
 る環境で作業ができます\nだんグラ購入者同士でつな
 がることができます\n\niPhone アプリ開発希望の方\n\nARKi
 t対応iPhone6s以上と開発可能なMacBookをご持参ください。
 \nUnityHupとUnityの2018.x以降のバージョンをインストール
 済みでご参加ください。\niOS開発用のXchordの10.3以降の
 バージョンをインストール済みでご参加ください。\n
 動作確認済みARKitのUntyプラグインのダウンロードをし
 てご参加ください。\n https://bitbucket.org/Unity-Technologies/un
 ity-arkit-plugin/src/default/\nHologlaSDK-Unityのダウンロードを
 してご参加ください。　\n https://github.com/ho-lo/HologlaSDK-U
 nity\n\nAndroidアプリ希望の方\n\nARCore対応Android端末と開
 発可能なノートPCをご持参ください。\nUnityHupとUnityの20
 18.x以降のバージョンをインストール済みでご参加くだ
 さい。\nAndroid開発用のAndroidStudio3.5以降のバージョンを
 インストール済みでご参加ください。\n動作確認済みAR
 CoreのUnityプラグインのダウンロードをしてご参加くだ
 さい。\n https://github.com/google-ar/arcore-unity-sdk\nHologlaSDK-Uni
 tyのダウンロードをしてご参加ください。　\nhttps://gith
 ub.com/ho-lo/HologlaSDK-Unity\n\n補足：ARKit＆ARCore対応の対応
 スマホをお持ちで無い方は、空間移動ができませんが
 、MR・VRモードの開発は可能です。\n予習用の動画\nHolog
 laSDKを使い、android実機でのビルドまでの手順を動画で
 解説しています。\nhttps://www.youtube.com/watch?v=OzOzh2qfxPI&fbc
 lid=IwAR3MPbqqNxMnsCYqOr9eWSPliELqnshyYr2H0vvP7g7uesRWFWyYpefXYdw\n料金
 \n\n参加費 無料枠の方は会場のだんグラをご利用いた
 だけます。(9/4日追記：2人1組で1つのだんグラをシェア
 して利用していただきます。)\n(9/13日追記：増席しま
 した！)\nだんグラ購入枠 5\,000円会場払 (Amazon取り扱い
 価格は￥5\,940のため15%OFF！)\n\n開催場所\n末広町駅徒歩
 3分 秋葉原駅から徒歩10分ほどの場所にある様々なもの
 づくりを体験・開発できるスペースで、展示されてい
 るプロダクトを自由に体験できるコーナーもあります
 。\n1Fは沖縄料理屋。\n当日は4Fまで上がっていただき
 、部屋にお入りください。中で受付いたします。\nこ
 こを会場としてプロトタイピング専門スクールの「Prot
 oOut Studio」も開校しています。
LOCATION:granica 東京都千代田区外神田５丁目２ー７(下村ビ
 ル４０１)
URL:https://techplay.jp/event/748254?utm_medium=referral&utm_source=ics&utm
 _campaign=ics
END:VEVENT
END:VCALENDAR
