BEGIN:VCALENDAR
VERSION:2.0
PRODID:-//https://techplay.jp//JP
CALSCALE:GREGORIAN
METHOD:PUBLISH
X-WR-CALDESC:〈9/16@千歳・子供向け〉プログラミング的思考
 を学ぼう！
X-WR-CALNAME:〈9/16@千歳・子供向け〉プログラミング的思考
 を学ぼう！
X-WR-TIMEZONE:Asia/Tokyo
BEGIN:VTIMEZONE
TZID:Asia/Tokyo
BEGIN:STANDARD
DTSTART:19700101T000000
TZOFFSETFROM:+0900
TZOFFSETTO:+0900
TZNAME:JST
END:STANDARD
END:VTIMEZONE
BEGIN:VEVENT
UID:748261@techplay.jp
SUMMARY:〈9/16@千歳・子供向け〉プログラミング的思考を
 学ぼう！
DTSTART;TZID=Asia/Tokyo:20190916T131500
DTEND;TZID=Asia/Tokyo:20190916T170000
DTSTAMP:20260425T032039Z
CREATED:20190830T142305Z
DESCRIPTION:イベント詳細はこちら\nhttps://techplay.jp/event/74826
 1?utm_medium=referral&utm_source=ics&utm_campaign=ics\n\nプログラミ
 ングを学びたい・体験したい子ども達に、公立千歳科
 学技術大学のスタッフがプログラミング教室を開きま
 す。\n2019/09/14 追記\n募集期間を過ぎましたが、13:30〜
 、15:15〜 の回にそれぞれ空きがありますので、追加募
 集をいたします。追加募集分は先着順といたします。
 右側の「このイベントに申し込む」ボタンからお申し
 込みください。\n\n体験テーマ：ゲームでプログラミン
 グ的思考を学ぼう！\nCodeSpark Academy with The Foos というゲ
 ームアプリで、パズルを解いたり、自分でゲームを作
 りながら、プログラミングに大切な考え方を楽しく学
 びましょう！\n\n\n画像はCodeSpark 公式サイト から引用
 しています。\n対象\n千歳市や近隣市町村にお住まいの
 小学1年生〜小学6年生の児童とその保護者※児童 8組ま
 で （参加希望者が8組以上の場合は、抽選となります
 ） \n\n\nプログラミング未体験の児童でもOKです。保護
 者の方も一緒にご体験ください。\n1回の申し込みでご
 兄弟等での参加も可能です。詳しくは申し込み時の人
 数欄にご記入ください。ただし、機材に不足が発生し
 た場合は、ご兄弟で一緒に取り組んでいただく可能性
 があります。予めご容赦ください。\n以前に同じ内容
 に参加した児童は、発展編に挑戦できます。\n持ち物
 ・参加費は不要です。\n未就学児や中学生以上の参加
 も可能です。お申し込みの上、ご相談ください。\n学
 校教育に携わる方の見学も歓迎しております（直接会
 場にお越しください）。\n\n会場\nまちライブラリー＠
 千歳タウンプラザ 会議室  \n〒066-0063 北海道千歳市幸
 町4丁目30\n申し込み方法\nまちライブラリー窓口での受
 付・問い合わせの対応は行っておりません。  \n事前に
 右上の「このイベントに申し込む」ボタンからお申し
 込みをお願いします。\n諸注意\n\n事故等の防止のため
 、ご自宅から会場までの移動には必ず保護者の方の付
 き添いをお願いいたします。\n会場や取組風景の記録
 写真を撮影する場合や、取材が行われる場合がありま
 す。\n記録写真は顔や表情がわからないよう加工した
 上で、広報・研究の目的でWeb等に掲載する場合があり
 ます。\n教室の目的とは関係のない、勧誘・販売等の
 行為は堅くお断りいたします。\n\n主催・問い合わせ先
 \n公立千歳科学技術大学（SNCちとせ事業）\n担当：山川
 広人（techcist@photon.chitose.ac.jp）
LOCATION:まちライブラリー＠千歳タウンプラザ 北海道千
 歳市幸町4丁目30(千歳タウンプラザ)
URL:https://techplay.jp/event/748261?utm_medium=referral&utm_source=ics&utm
 _campaign=ics
END:VEVENT
END:VCALENDAR
