BEGIN:VCALENDAR
VERSION:2.0
PRODID:-//https://techplay.jp//JP
CALSCALE:GREGORIAN
METHOD:PUBLISH
X-WR-CALDESC:KLab 岡山 Meetup #2
X-WR-CALNAME:KLab 岡山 Meetup #2
X-WR-TIMEZONE:Asia/Tokyo
BEGIN:VTIMEZONE
TZID:Asia/Tokyo
BEGIN:STANDARD
DTSTART:19700101T000000
TZOFFSETFROM:+0900
TZOFFSETTO:+0900
TZNAME:JST
END:STANDARD
END:VTIMEZONE
BEGIN:VEVENT
UID:748267@techplay.jp
SUMMARY:KLab 岡山 Meetup #2
DTSTART;TZID=Asia/Tokyo:20190927T180000
DTEND;TZID=Asia/Tokyo:20190927T211500
DTSTAMP:20260421T172101Z
CREATED:20190830T142349Z
DESCRIPTION:イベント詳細はこちら\nhttps://techplay.jp/event/74826
 7?utm_medium=referral&utm_source=ics&utm_campaign=ics\n\nお知らせ\n
 参加者募集を開始しました。\n社会人・学生の方問わ
 ず、奮ってご参加ください。\n岡山駅から徒歩2分でご
 来場いただけます！\nなお、開場前のご来場はご遠慮
 ください。\n【ご来場時の注意事項】 9/25追記\n12Fの会
 場にお越しいただく際は、1Fのドン・キホーテ(市役所
 筋)側のエレベータをご使用ください。\n【補足事項】 
 9/25追記 \n当日18時以降であれば、いつでも受付を行っ
 ています。皆様のご都合に合わせて会場にお越しくだ
 さい。\n※事前アンケートにて「参加する部」につい
 てお聞きしていましたが、実際に参加される部は回答
 と異なっていても問題ありません。\n開催概要\n複数ゲ
 ームタイトルを運営しているKLabが主催するイベントで
 す。\nKLab社員が普段の仕事内容やゲーム制作に関わる
 話など幅広い内容をお話します。\n今回は、KLab社員以
 外の方の発表もありますので、お楽しみに！\n\n発表後
 は、懇親会を行います。軽食とドリンクを準備してお
 ります。\n登壇者も参加いたしますので、発表内容に
 関する話題だけでなく日頃気になっている話題など、
 みなさんとお話ができればと思っています。\n\n今回は
 2部構成となっており、1部に間に合わなくても、2部か
 らでも参加可能となっています。\n申込みは1部・2部関
 係なく申し込みをお願いします。事前アンケートにて
 、参加する部について質問を用意させていただいてお
 りますので、ご都合に合わせて選択ください。\n\n社会
 人・学生の方問わず、奮ってご参加ください！お待ち
 しています！\n参加対象\n\nゲーム開発に携わっている
 方・就職をご検討中の方\nゲーム開発に興味があるエ
 ンジニア・クリエイターの方\nデザイナー、プログラ
 マーの輪をひろげたい方\nKLabにご興味がある方\n\nタイ
 ムスケジュール\n\n\n\n時間\nプログラム\n登壇者\n\n\n\n\n
 18:00 〜\n開場※開場前のご来場はご遠慮ください。\n\n\
 n\n18:15 〜\n1部オープニング\n\n\n\n18:20 〜\n【発表 #1】 
 東京ゲームショー出展報告会学内選抜コンペで選出さ
 れたチームが東京ゲームショー出展をレポートします
 ！\n専門学校 岡山情報ビジネス学院青木 勇磨 様前田 
 和貴 様\n\n\n18:35 〜\n【発表 #2】ゲームを仕事にするな
 ら、知っておくと良いことこれからゲームを仕事にし
 ようとする方に向けて、知っておくとプラスになるこ
 とを話します。\nKLab浅川 真実\n\n\n18:50 〜\n【発表 #3】
 アニメーションに生命を吹き込む演出制作において「
 生」を感じさせる表現論について発表します。\nKLab坂
 中 大介\n\n\n19:05 〜\n【発表 #4】ずぼら花子の楽ちんデ
 ータ入力 ゲーム運用に必要なたくさんのデータ入力。
 ずぼらな私が楽をするために駆使しているテクニック
 をご紹介します！\nKLab中尾 展代\n\n\n19:20 〜\n1部エンデ
 ィング\n\n\n\n19:30 〜\n2部オープニング\n\n\n\n19:35 〜\n【
 発表 #5】サーバー性能改善事例長期間運用していると
 サーバーの性能悪化が問題になることは少なからずあ
 るのではないでしょうか。今回は実際にプロジェクト
 で行った性能改善を例に挙げ、問題点や改善内容につ
 いてお話します。\nKLab山本 航\n\n\n20:00 〜\n【発表 #6】
 デザインフィードバックのススメデザインのフィード
 バックについて、気を付けていること、効果的なやり
 方について、制作現場での実例を交えて紹介します。\
 n株式会社スカイリンク高松 聖 様\n\n\n20:25 〜\n懇親会\n
 \n\n\n21:10 〜\nエンディング\n\n\n\n21:15\n閉場\n\n\n\n\n※ 予
 告なく時間配分・内容が変更になる可能性がございま
 す。\n登壇者\n青木 勇磨 様 前田 和貴 様\n専門学校　
 岡山情報ビジネス学院 ゲームクリエイター学科2年\n専
 門学校　岡山情報ビジネス学院 ゲームクリエイター学
 科2年生の中から、学内選抜コンペで選出され、東京ゲ
 ームショーに出展したチームが登壇。\n高松 聖 様\n株
 式会社スカイリンク　アートディレクター/デザイナー
 \nデザイン事務所を経て、2010年株式会社スカイリンク
 入社。\n2012年に岡山移住し、岡山拠点立ち上げ。\nweb
 サイト、アプリ、ゲームなど、幅広い範囲でアートデ
 ィレクション＆デザインを担当。\n趣味は無農薬米の
 栽培。\n浅川 真実\nKLab株式会社　人事部採用企画G所属
 \n2017年中途入社\n人材業界でゲーム・メディア業界を
 主に担当し、6年半ほど経験。\nKLab入社後は主に企画職
 ・クリエイティブ職の中途採用を担当。\n生まれた時
 から横浜Fマリノス一筋。\n中尾 展代\nKLab株式会社 プ
 ランナー\n2018年中途入社\nエンジニア、アプリ会社の
 ユーザーサポート業務を経て、昨年KLab入社しました。
 \n初めてアプリゲームに携わる仕事をしています。\nマ
 タタビ酔いがすごい猫と暮らしています。\n坂中 大介\
 nKLab株式会社　デザイナー\n2011年中途入社\n演出制作の
 実務、岡山拠点の演出チームの管理を担当しています
 。\n現在は運用案件で2D演出全般の制作・品管に従事し
 ています。\nプライベートは特撮とMARVEL映画とポケモ
 ンだらけです。\n山本 航\nKLab株式会社 エンジニア\n2014
 年新卒入社\n運用案件でサーバーサイドエンジニアを
 しています。\n注意事項\n※ 開場前のご来場はご遠慮
 ください。\n※ イベント当日の様子は、後日何らかの
 媒体にて公開させていただくことがございます。\n※ 
 リクルーティング、勧誘などの採用目的でのイベント
 参加はお断りしております。\n※ 飲食のみを目的とし
 たご応募・ご来場はご遠慮ください。\n※ 補欠者の方
 は、ご来場いただいてもご入場いただくことが出来ま
 せんのでご了承ください。\n※ 欠席される場合は、お
 手数ですが速やかにキャンセル処理をお願い致します
 。\n※ 駐車場を設けておりませんので、会場へは公共
 交通機関をご利用ください。
LOCATION:ターミナルスクエア12F 岡山市北区駅元町1番4号
URL:https://techplay.jp/event/748267?utm_medium=referral&utm_source=ics&utm
 _campaign=ics
END:VEVENT
END:VCALENDAR
