BEGIN:VCALENDAR
VERSION:2.0
PRODID:-//https://techplay.jp//JP
CALSCALE:GREGORIAN
METHOD:PUBLISH
X-WR-CALDESC:東京ハッカソン@ヒーローズ・リーグ 2019 by MA
X-WR-CALNAME:東京ハッカソン@ヒーローズ・リーグ 2019 by MA
X-WR-TIMEZONE:Asia/Tokyo
BEGIN:VTIMEZONE
TZID:Asia/Tokyo
BEGIN:STANDARD
DTSTART:19700101T000000
TZOFFSETFROM:+0900
TZOFFSETTO:+0900
TZNAME:JST
END:STANDARD
END:VTIMEZONE
BEGIN:VEVENT
UID:748317@techplay.jp
SUMMARY:東京ハッカソン@ヒーローズ・リーグ 2019 by MA
DTSTART;TZID=Asia/Tokyo:20190914T100000
DTEND;TZID=Asia/Tokyo:20190915T200000
DTSTAMP:20260424T093136Z
CREATED:20190831T062119Z
DESCRIPTION:イベント詳細はこちら\nhttps://techplay.jp/event/74831
 7?utm_medium=referral&utm_source=ics&utm_campaign=ics\n\nヒーローズ
 ・リーグ2019 by MA のハッカソン！\n「自由なものづくり
 」をテーマに行われる日本最大級の開発コンテストで
 あるヒーローズ・リーグ2019は、各地で多くのハッカソ
 ンを開催し、トガったものづくりを応援するコミュニ
 ティでもあります。\n本ハッカソンイベントはそんな
 ヒーローズ・リーグを運営する一般社団法人MAが企画
 ・運営を担当！「自由なものづくり」や「プロトタイ
 ピング」を実施する機会としてご参加ください！\nハ
 ッカソンでラピッドプロトタイピングを楽しむのもよ
 し。ヒーローズ・リーグに応募をして50種類ぐらいあ
 る他の賞を狙うもよし。しかし賞を狙うだけではあり
 ません。ヒーローズ・リーグの2ndSTAGEでは全国から集
 まるツワモノ供と出会い、お互いの作品に触れ、話を
 したり、懇親会で友だちになったり、モノづくりのネ
 ットワークが広がります。中でも全国大会である2ndSTAG
 Eは一番面白いイベント！是非進出を狙いましょう。\n
 ※昨年の2ndSTAGEの様子 。約50作品が発表されました。\n
 \nハッカソンって？\n週末の２日間をフルに使い、ITを
 使った面白い作品作りを行うワークショップ、それが
 「ハッカソン」です。\n最新のテクノロジーと掛け合
 わせ２日間でプロトタイプ開発まで行ってしまう、盛
 りだくさんのイベントです！\nその場で作ったチーム
 で開発を進めますので、エンジニアの方はもちろん、
 エンジニア候補生のかた、またプランナー、デザイナ
 ーの方もお気軽にご参加ください！\n当日はAPIなどの
 テクニカルサポートを受けられる予定です。この機会
 に作品を作ってしまい、自らのスキルのジャンプアッ
 プを狙いましょう！\n※個人での参加もチームでの参
 加も可能です。 \n\nどんな人向け？\n\nアプリやWebサー
 ビスを作ってみたい方\n自分のアイデアを形にしたい
 方\nハッカソンが好きな方\nハッカソンが初めての方\n\
 nみなさん集まって一緒にものづくりを楽しみましょう
 ！\n\n必要なもの\n\nノートパソコン\n参加する勇気\n週
 末の時間\n\n\n\nテクニカルサポート\n技術サポートの方
 が会場に来て、使い方やポイントなどをレクチャーし
 てくれます！\n-サービス名：Twilio\n　　Twilioは音声通
 話、メッセージング（SMS/チャット）、ビデオなどの 
 様々なコミュニケーション手段をアプリケーションや
 ビジネスへ容易に組み込むことのできるクラウドAPIサ
 ービスです。初期費用不要な従量課金制で、各種開発
 言語に対応しているため、多くのハッカソンイベント
 やスタートアップなどにも、ご利用いただいておりま
 す。\n　＊デベロッパー向けリンク\n　　https://jp.twilio.
 com/docs\n\n-サービス名：駅すぱあとWebサービス\n　駅す
 ぱあと路線図\n　「駅すぱあとWebサービス」「駅すぱ
 あと路線図」は、乗換案内サービスの「駅すぱあと」
 のAPIです。\n　　全国の鉄道・バス・航空・船の情報
 や経路検索、運賃計算、緯度経度による駅・バス停検
 索、時刻表、路線図などさまざまな機能を自由に利用
 できます。APIドキュメントやGUIのサンプル（HTML・CSS・
 画像）はすべてWebで公開しています。お気軽にご利用
 ください！\n　＊デベロッパー向けリンク \n　　■「
 駅すぱあとWebサービス」リファレンス・サンプル集URL
 ： http://docs.ekispert.com/v1/\n　　■「駅すぱあと路線図」
 リファレンスURL：http://rmap.ekispert.jp/production/doc/document.h
 tml\n　　■「駅すぱあと路線図」サンプル集URL：http://r
 map.ekispert.jp/sample/\n\nMA持ち込み素材　\n※決まり次第順
 次公開してまいります。\nその他当日利用可能デバイ
 ス・API　\n※決まり次第順次公開してまいります。\n個
 人賞\n本ハッカソンでは、個人賞を募集しています。\n
 家に余ってる何かを添えて、自分の好きな作品や、人
 を褒めませんか？\nご協力いただける方は、アンケー
 トの「個人賞を出してもいいよー」にチェックくださ
 い！\n予定個人賞\n随時、更新していきます。\n\nタイ
 ムテーブル\n１日目\n\n\n\ntime\ncontents\n\n\n\n\n9:30\n開場\n\
 n\n10:00\nインプット、技術プレゼン\n\n\n11:00\nアイデア
 ソン\n\n\n12:30\nランチ\n\n\n14:00\nアイデア発表\n\n\n14:30\n
 ハッキングスタート\n\n\n20:00\n１日目終了\n\n\n\n２日目\
 n\n\n\ntime\ncontents\n\n\n\n\n9:30\n開場\n\n\n10:00\nオープニン
 グ\n\n\n\nハッキングタイム\n\n\n12:00\nランチ\n\n\n17:00\n作
 業終了・ 各作品プレゼン\n\n\n18:00\nタッチ＆トライ\n\n\
 n19:00\n懇親会など\n\n\n20:00\n終了\n\n\n\n\nハッカソン概要
 \nテーマ 最大限自由なクリエイティブ\n\n審査基準\n\n
 チャレンジ度（ぶっ飛び度、変化球、独創性、アイデ
 ア）\nギーク度（突き抜け度、こだわり度、完成度）\n
 ワクワク感（表現手法、体験、デザイン）\n\n\n当日の
 注意\n\nconnpassの６桁の受付番号を準備下さい。\nイベ
 ントの様子を記事として公開するために撮影が入りま
 す。\n内容は変更になる場合があります。\n開催１週間
 前の正午に参加者が12名に満たない場合、開催は見送
 りとなります。\nWiFi接続可能なPCを持参してご参加く
 ださい。\n喫煙所はございません\n以上につき、あらか
 じめご了承ください。\n\n\n\n会場協力\nビジネスチャッ
 ト『direct』を運営する「L is B」さんのオープンスペー
 スをお借りすることになりました。\n秋葉原駅からす
 ぐの好立地です！　\n\n\n東京都千代田区岩本町三丁目1
 1番11号 プルータスビル2F\n\nJR山手線・京浜東北線・総
 武線秋葉原駅昭和通り口から徒歩4分\n都営新宿線岩本
 町駅Ａ４出口から徒歩2分\n東京メトロ日比谷線秋葉原
 駅４番出口から徒歩2分\nつくばエクスプレス秋葉原駅
 Ａ１出口から徒歩5分\n
LOCATION:L is Bオープンスペース 東京都千代田区岩本町三
 丁目11番11号 プルータスビル2F
URL:https://techplay.jp/event/748317?utm_medium=referral&utm_source=ics&utm
 _campaign=ics
END:VEVENT
END:VCALENDAR
