BEGIN:VCALENDAR
VERSION:2.0
PRODID:-//https://techplay.jp//JP
CALSCALE:GREGORIAN
METHOD:PUBLISH
X-WR-CALDESC:[9/16][小学生向け]Pepperロボットエンジニア体験
 イベント！ 14:00-15:00
X-WR-CALNAME:[9/16][小学生向け]Pepperロボットエンジニア体験
 イベント！ 14:00-15:00
X-WR-TIMEZONE:Asia/Tokyo
BEGIN:VTIMEZONE
TZID:Asia/Tokyo
BEGIN:STANDARD
DTSTART:19700101T000000
TZOFFSETFROM:+0900
TZOFFSETTO:+0900
TZNAME:JST
END:STANDARD
END:VTIMEZONE
BEGIN:VEVENT
UID:748338@techplay.jp
SUMMARY:[9/16][小学生向け]Pepperロボットエンジニア体験イ
 ベント！ 14:00-15:00
DTSTART;TZID=Asia/Tokyo:20190916T140000
DTEND;TZID=Asia/Tokyo:20190916T150000
DTSTAMP:20260423T000509Z
CREATED:20190831T140017Z
DESCRIPTION:イベント詳細はこちら\nhttps://techplay.jp/event/74833
 8?utm_medium=referral&utm_source=ics&utm_campaign=ics\n\nイベント概
 要\n\nPepperを活用したプログラミング授業の内容を、約
 30分で体験できるように夏休み向けのイベントを用意
 しました。初心者向けのプログラミングの入り口が楽
 しめる内容となっています。\n\n子どもたちがロボット
 エンジニアとなり、街で起こるさまざまな困り事に対
 し、どうしたら解決できるかを考えます。Pepper専用プ
 ログラミングツール「Robo Blocks」を使ってPepperのプロ
 グラミングを行い、困り事を解決します。\n\nロボット
 エンジニアとして、イマジネーションを働かせながらP
 epperのプログラミングを体験しましょう。街の困り事
 を解決した後はPepperステッカーをプレゼント。\nPepper
 と一緒に記念写真を撮影することもできます。\n\n対象
 （年齢　スキル）\n\n7～12歳（保護者の方も一緒に参加
 可能）\n限定5組\n\n持ち物\n\nノートPCをお持ちの方はご
 持参ください。\n\nお願い事項\n\n開催時に写真撮影を
 行うことがございます。開催報告等でウェブへの掲載
 を行うことがありますので、事前にご了承をいただけ
 ますようお願いします。\n\n場所\n\nPepper アトリエ秋葉
 原 with Softbank\n〒101-0021 東京都千代田区外神田6丁目11-14
 　310号室\n※最寄駅：銀座線末広町駅、千代田線湯島
 駅、JR秋葉原駅\n※外観は小学校です。3階の310号室ま
 でお越しください。\n\n参加費\n\n無料
LOCATION:Pepperアトリエ秋葉原 with SoftBank 東京都千代田区外
 神田6丁目11-14  3331アーツ千代田 310号室 
URL:https://techplay.jp/event/748338?utm_medium=referral&utm_source=ics&utm
 _campaign=ics
END:VEVENT
END:VCALENDAR
