BEGIN:VCALENDAR
VERSION:2.0
PRODID:-//https://techplay.jp//JP
CALSCALE:GREGORIAN
METHOD:PUBLISH
X-WR-CALDESC:名古ゲ部ゲームジャム・2019夏　9月14日（土）
 ～9月15日（日）通常利用OK
X-WR-CALNAME:名古ゲ部ゲームジャム・2019夏　9月14日（土）
 ～9月15日（日）通常利用OK
X-WR-TIMEZONE:Asia/Tokyo
BEGIN:VTIMEZONE
TZID:Asia/Tokyo
BEGIN:STANDARD
DTSTART:19700101T000000
TZOFFSETFROM:+0900
TZOFFSETTO:+0900
TZNAME:JST
END:STANDARD
END:VTIMEZONE
BEGIN:VEVENT
UID:748543@techplay.jp
SUMMARY:名古ゲ部ゲームジャム・2019夏　9月14日（土）～9
 月15日（日）通常利用OK
DTSTART;TZID=Asia/Tokyo:20190914T100000
DTEND;TZID=Asia/Tokyo:20190915T180000
DTSTAMP:20260423T172940Z
CREATED:20190901T141247Z
DESCRIPTION:イベント詳細はこちら\nhttps://techplay.jp/event/74854
 3?utm_medium=referral&utm_source=ics&utm_campaign=ics\n\n名古ゲ部ゲ
 ームジャム・夏について\n夏休みも終わり、今年も残
 りあと4か月ですので  \nこの辺りで一度ゲームつくっ
 ておきますか、ということで名古ゲ部定例のゲームジ
 ャムを開催します。  \nまた、先日ぷちコンゲームジャ
 ム を先日行いましたが\n第12回UE4ぷちコンは9月16日（
 月）までが期間となりますので\n仕上げ作業として参
 加もOKです。\nチーム分けは、とりあえずメインで作る
 ゲーム用に簡単にわけるものの\n他のチームの手伝い
 もしてもOKな、全員で複数ゲームをつくるスタイルで
 考えています。  \n学生さんや、「ゲーム開発に興味は
 あるけど…」といった方も、\nご興味がありましたら
 ぜひご参加ください。  \n通常利用もOKです。\n注意事
 項\n・2日間開催となります。\n1日目と２日目の間は各
 自のご都合の良いタイミングで\n帰宅・再開していた
 だければと思います。\n・開発用のPCはご持参をお願い
 いたしますが、\nディスプレイやVR機器等、必要な機材
 等ありましたら、\nこちらでご用意できるものもあり
 ますのでお問い合わせいただければと思います。  \n・
 チーム分けは当日行いますので、\n開発環境として前
 もってグラフィックツールやUE4/Unity等ゲームエンジン
 のインストールをしていただくとスムーズです。  \nス
 ケジュール\n時間は目安となります。\n1日目終了時間
 以降も御本人が出来る時間まで作業OKです。  \n\n\n\n9/14
 (土)\n内容\n\n\n\n\n9:30-10:00\n受付\n\n\n10:00-10:30\nチーム分
 け\n\n\n10:30-11:30\n開発（主に企画決め）\n\n\n11:30-12:00\n
 企画発表\n\n\n12:00-18:00\n開発\n\n\n\n\n\n\n9/15(日)\n内容\n\n\
 n\n\n10:00-17:00\n開発\n\n\n17:00-18:00\n制作発表\n\n\n\n名古屋
 ゲーム制作部について\n東海圏でゲームを作る人が繋
 がれる・集まれる場所を作りたいなということで\n「
 ゲーム製作に関する、自分の作業や勉強等をする場所
 」として\n「その時に周りにいる人がゲーム関係者だ
 といいよね」といった会をしています。  \n活動として
 は、特に勉強会等ではなく、もくもく会に近く、\nサ
 ークルではなくコミュニティとなりますので、\n基本
 的には各自、自分の作業を持ち込んで行う場所となり
 ます。\nもちろん作業以外に\n「こういうゲーム作って
 るんだけど」\n「こういうゲーム作りたいんだけど」\n
 「ゲームに関して語り合いたい」\n「多人数プレイの
 ゲームを参考用に一緒に遊びたい」\n 等でもOKです。\n
 学生時代の放課後残っての勉強や部活の感覚で\nゆる
 い感じでくることができる場所として、\nそこで知り
 合ってゲームを作ったり、広がったりできればいいな
 、と思っています。  \n参加条件はゲームに関係する活
 動をしていれば他は特になく、\nそういうお仕事をし
 ている・インディー・趣味何でもOKです。  \n詳細はFace
 bookページをご覧ください。\n参加費\n今回は、なしと
 なります。\n開催時間について\n表記の時間は必ず開い
 ている時間となります。\n終了時間以降も作業を続け
 ていただいて構いません。\n持ち物\n開発が出来るPC等
 の用意をお願いします。\nチーム分けは当日行います
 ので、\n前もってUE4/Unity等のインストールをしていた
 だくとスムーズです。  \n必要な機材等ありましたら、
 お問い合わせいただければと思います。  \n会場のWi-Fi
 は使用可です。\nTwitterハッシュタグ\n#名古ゲ部\nその
 他\nその他、ご質問等ありましたら\nnagogebu@gmail.comまで
 お問い合わせいただければと思います。
LOCATION:名古屋ゲーム制作部(セントラルコーポ 503号室) 
 名古屋市中区丸の内3-5-34
URL:https://techplay.jp/event/748543?utm_medium=referral&utm_source=ics&utm
 _campaign=ics
END:VEVENT
END:VCALENDAR
