BEGIN:VCALENDAR
VERSION:2.0
PRODID:-//https://techplay.jp//JP
CALSCALE:GREGORIAN
METHOD:PUBLISH
X-WR-CALDESC:MTDDC Meetup TOKYO 2019(セッションDAY)
X-WR-CALNAME:MTDDC Meetup TOKYO 2019(セッションDAY)
X-WR-TIMEZONE:Asia/Tokyo
BEGIN:VTIMEZONE
TZID:Asia/Tokyo
BEGIN:STANDARD
DTSTART:19700101T000000
TZOFFSETFROM:+0900
TZOFFSETTO:+0900
TZNAME:JST
END:STANDARD
END:VTIMEZONE
BEGIN:VEVENT
UID:748596@techplay.jp
SUMMARY:MTDDC Meetup TOKYO 2019(セッションDAY)
DTSTART;TZID=Asia/Tokyo:20191116T113000
DTEND;TZID=Asia/Tokyo:20191116T200000
DTSTAMP:20260425T161156Z
CREATED:20190902T060026Z
DESCRIPTION:イベント詳細はこちら\nhttps://techplay.jp/event/74859
 6?utm_medium=referral&utm_source=ics&utm_campaign=ics\n\nMTDDC Meetup TOK
 YO 2019の1日目(セッションDAY)の参加申し込みはこちらで
 す。\n2日目(ワークショップDAY)のお申し込みは、以下
 のページよりお申し込みください。\n\nMTDDC Meetup TOKYO 20
 19(2日目ワークショップDAY) お申し込みページ\n\n概要\n\
 nMTDDC Meetup は、Movable Type を中⼼としたイベントです。\
 nしかし「ウェブサイトの管理」の未来はコモディティ
 化（性能や機能・ 品質などで差別化できず、価格以外
 に競争の焦点がない状態）が避けられない状況になり
 つつあります。\nMovable Type はもちろんのこと、すべて
 のCMSは顧客に提供する価値について考え直す時期に差
 しかかっています。\n「MTDDC Meetup TOKYO 2019」は、このよ
 うな社会の変化を機微に受け⽌め、CMS が提案できる未
 来のあるべき役割を語り合い、議論するための場とな
 ることを目指します。\n例年のWeb の最新動向やMovale Typ
 e の導⼊事例などが聴けるセッションにとどまらず、We
 bサイト以外のニーズや課題を話していただき、CMSが提
 供できる課題解決に思いをはせることができる場を作
 ります。\n\n私たちは「それ、CMSでできるんじゃない？
 」が実はたくさんあることを知っていただきたいと考
 えます。\n\n開催日程\n\n11月16日(土)-17日(日)の2日間開
 催。\n\n11月16日(土)は、ヤフー株式会社にてセッション
 を中心とした視聴型イベントとネットワーキング(懇親
 会)を開催いたします。\nMovable Typeに関する話題はもち
 ろんのこと、AIやIoTなど、Web以外の話題も取り入れた
 セッションをご用意いたします。\n\n11月17日(日)は、株
 式会社ロフトワークにてワークショップDAYを開催いた
 します。\n「5年くらい先の未来のECサイトを考えるア
 イデアソン」をテーマに、AIやIoTとの連携など、新し
 いCMSの可能性を感じる体験をしていただけるような内
 容を予定しています。\n\n\n\nお申込みの際の注意事項\n
 \n9/1-9/30までは早割期間とさせていただき、通常より参
 加費が1\,000円お安くなります。\n\nなお、こちらのペー
 ジは1日目のセッション（11月16日）のお申し込みのペ
 ージです。\n2日目のワークショップ（11月17日）のお申
 し込みは、以下のページで別途行ってください。\n\nMTD
 DC Meetup TOKYO 2019(2日目・ワークショップDAY) お申し込み
 ページ\n\nボランティア募集\n\nMTDDC Meetup TOKYO 2019の1日
 目にボランティアをしていただける方を募集いたしま
 す。\nご協力いただけるかたは、ボランティアチケッ
 トをお申し込みください。\n※ボランティアご希望の
 方が一定数を超えた場合は、抽選とさせていただきま
 す。
LOCATION:ヤフー株式会社 東京都千代田区紀尾井町1-3 東京
 ガーデンテラス 紀尾井タワー
URL:https://techplay.jp/event/748596?utm_medium=referral&utm_source=ics&utm
 _campaign=ics
END:VEVENT
END:VCALENDAR
