BEGIN:VCALENDAR
VERSION:2.0
PRODID:-//https://techplay.jp//JP
CALSCALE:GREGORIAN
METHOD:PUBLISH
X-WR-CALDESC:【無料・9/25】ビジネス活用のためのAI講座～
 『HR Flow』で行う退職リスク予測〜
X-WR-CALNAME:【無料・9/25】ビジネス活用のためのAI講座～
 『HR Flow』で行う退職リスク予測〜
X-WR-TIMEZONE:Asia/Tokyo
BEGIN:VTIMEZONE
TZID:Asia/Tokyo
BEGIN:STANDARD
DTSTART:19700101T000000
TZOFFSETFROM:+0900
TZOFFSETTO:+0900
TZNAME:JST
END:STANDARD
END:VTIMEZONE
BEGIN:VEVENT
UID:748621@techplay.jp
SUMMARY:【無料・9/25】ビジネス活用のためのAI講座～『HR F
 low』で行う退職リスク予測〜
DTSTART;TZID=Asia/Tokyo:20190925T193000
DTEND;TZID=Asia/Tokyo:20190925T220000
DTSTAMP:20260425T150918Z
CREATED:20190902T061332Z
DESCRIPTION:イベント詳細はこちら\nhttps://techplay.jp/event/74862
 1?utm_medium=referral&utm_source=ics&utm_campaign=ics\n\n\n\n◆ビジネ
 ス活用のためのAI講座～『HR Flow』で行う退職リスク予
 測〜　について\n\n\nプログラミング不要のAI構築プラ
 ットフォーム「MatrixFlow」で利用できる、人事領域向け
 サービス「HR  Flow」を用いて退職リスクの予測を体感
 できる無料セミナーです。\n事前の「環境構築」「プ
 ログラミング」「数学」は一切不要です。ぜひご参加
 ください。\nMatrixFlowログインページ：https://ai.matrixflow.
 net/\n\n◆日時\n\n\n2019年9月25日（水）19:30-22:00\n\n◆会場\
 n\n\n株式会社ファイブゲート カフェスペース\n東京都
 渋谷区代々木4-33-10　トーシンビル4階\n（京王新線初台
 駅　徒歩 3分）\n\n◆こんな方におすすめ\n\n\n\n人事に
 関する業務でAIを活用したい方\n人工知能、AI、データ
 解析に関心のある方\n専門知識なしでAI構築を試してみ
 たい方\n\n\n◆ご持参いただくもの\n\n\n\nWebブラウザが
 利用できるPC\n※Wi-Fi環境のご準備はございますが、モ
 バイルWi-Fiルーター等をお持ちの方はご持参をおすす
 めしております。\nお名刺（名刺交換の時間を設けて
 おります）\n\n\n◆プログラム（予定）\n\n\n\n\n\n時間\n
 内容\n\n\n\n\n19:00～19:30\n開場・受付\n\n\n19:30～19:40\nオー
 プニング\n\n\n19:40～20:10\n講演（前半）\n\n\n20:10～20:20\n
 休憩\n\n\n20:20～20:50\n講演（後半）\n\n\n20:50～21:00\nアン
 ケートご記入\n\n\n21:00～21:40\n個別相談会（ご希望者の
 み・予約不要）\n\n\n22:00\n閉場\n\n\n\n\n◆講師紹介\n\n\n
 田本芳文（株式会社MatrixFlow　代表取締役CEO兼CTO）\n大
 学院で超ひも理論（一般相対性理論と量子論/素粒子論
 の統一を目指す学問）を研究。\n前職ではデータサイ
 エンティストとして研究開発及びAIサービスの開発に
 従事し新サービスをローンチする傍ら、技術評論社様
 の依頼で機械学習の技術書を執筆。\n2018年5月からプロ
 グラミング不要のAI構築プラットフォーム「MatrixFlow」
 の開発を始め、現在もMatrixFlow開発の傍ら、様々なAI案
 件のコンサルティング業務を引き受けている。
LOCATION:株式会社ファイブゲート 東京都渋谷区代々木4-33-
 10（トーシンビル）
URL:https://techplay.jp/event/748621?utm_medium=referral&utm_source=ics&utm
 _campaign=ics
END:VEVENT
END:VCALENDAR
