BEGIN:VCALENDAR
VERSION:2.0
PRODID:-//https://techplay.jp//JP
CALSCALE:GREGORIAN
METHOD:PUBLISH
X-WR-CALDESC:AWS Expert Online at JAWS-UG長野
X-WR-CALNAME:AWS Expert Online at JAWS-UG長野
X-WR-TIMEZONE:Asia/Tokyo
BEGIN:VTIMEZONE
TZID:Asia/Tokyo
BEGIN:STANDARD
DTSTART:19700101T000000
TZOFFSETFROM:+0900
TZOFFSETTO:+0900
TZNAME:JST
END:STANDARD
END:VTIMEZONE
BEGIN:VEVENT
UID:748724@techplay.jp
SUMMARY:AWS Expert Online at JAWS-UG長野
DTSTART;TZID=Asia/Tokyo:20190919T185000
DTEND;TZID=Asia/Tokyo:20190919T205000
DTSTAMP:20260420T222828Z
CREATED:20190902T141657Z
DESCRIPTION:イベント詳細はこちら\nhttps://techplay.jp/event/74872
 4?utm_medium=referral&utm_source=ics&utm_campaign=ics\n\n内容\n【AWS E
 xpert Online 概要】\nAWS SAやサポートエンジニアといったT
 ech ExpertのセッションをAmazon Chime経由で、各支部の勉強
 会会場に配信いたします。\n今回は1本で、後半はLTと
 いうかたちです！（絶賛、LT募集中です！詳細は下部
 を参照お願いします。）\n質問については、オンライ
 ンで投げることが可能です。\n長野支部でも、中継し
 ますので、是非、足をお運びください。\nみなさんで
 わいわいAWSについて勉強しましょう！\nなお、今回は
 、軽食なしとさせてください！\nタイムスケジュール\n
 \n\n\n時間\nタイトル\n内容\nスピーカー\n\n\n\n\n18:30\n受
 付開始\n-\n-\n\n\n18:50\nオープニング\n-\n@chinoppy\n\n\n19:10
 〜19:50（中継）\nよくご相談いただくセキュリティの質
 問と考え方\n日々多くのお客様と接するなかで、実際
 によくご相談いただくセキュリティについてのお悩み
 と考え方\nSA 大松宏之さん\n\n\n19:50～20:00\n休憩\n-\n-\n\n\
 n20:00～20:30\n\nLTを予定\n\n\n\n20:30～20:40\nクロージング\n
 ※次回の開催日など\n@chinoppy\n\n\n\nLT募集中です！\nLTし
 てくださる方募集してます！\n\n普段さわっている AWS 
 のお話\nこのサービス使いたいけど、どんなものなの
 ？という質問でも\nなど AWS に関することならなんでも
 OKです。\n\nLT希望の方は、いずれかの方法で連絡をお
 願いします<(_ _)> \n@glnagano のTwitter宛か\n本イベントペ
 ージ下にあるフィードへコメントをお願いします！\n
 時間については、5分〜10分くらいでお願いいたします
 ！\n場所\nGEEKLAB.NAGANO（運営者：株式会社日本システム
 技研、信学会、キャスタリア株式会社）\n\n住所：長野
 県長野市南県町1003 県都ビル６F\n連絡先：026-227-2334（
 日本システム技研）\neメール：geeklab_nagano@jsl.co.jp\nFBペ
 ージ ：https://www.facebook.com/geeklab.nagano/\ntwitter：@glnagano\n
 \n会場のある県都ビルは信学会と住宅供給公社が入っ
 ている建物です。\n正面玄関が閉まっている場合はビ
 ルの裏側に回って通用口からお入りください。\n駐車
 場について\nお手数ですが近隣の有料駐車場をご利用
 ください。\n懇親会について\n行う予定はありません
LOCATION:GEEKLAB.NAGANO 長野県長野市南県町1003 県都ビル６F
URL:https://techplay.jp/event/748724?utm_medium=referral&utm_source=ics&utm
 _campaign=ics
END:VEVENT
END:VCALENDAR
