BEGIN:VCALENDAR
VERSION:2.0
PRODID:-//https://techplay.jp//JP
CALSCALE:GREGORIAN
METHOD:PUBLISH
X-WR-CALDESC:ActiveRecordが分かればRailsの8割が分かる！集中
 講座
X-WR-CALNAME:ActiveRecordが分かればRailsの8割が分かる！集中
 講座
X-WR-TIMEZONE:Asia/Tokyo
BEGIN:VTIMEZONE
TZID:Asia/Tokyo
BEGIN:STANDARD
DTSTART:19700101T000000
TZOFFSETFROM:+0900
TZOFFSETTO:+0900
TZNAME:JST
END:STANDARD
END:VTIMEZONE
BEGIN:VEVENT
UID:749136@techplay.jp
SUMMARY:ActiveRecordが分かればRailsの8割が分かる！集中講座
DTSTART;TZID=Asia/Tokyo:20190914T130000
DTEND;TZID=Asia/Tokyo:20190914T200000
DTSTAMP:20260424T135528Z
CREATED:20190905T061240Z
DESCRIPTION:イベント詳細はこちら\nhttps://techplay.jp/event/74913
 6?utm_medium=referral&utm_source=ics&utm_campaign=ics\n\n必須参加要
 件\n最低一冊は、書籍ベースでRubyに基本文法について
 学習済みの方\n資料\nhttps://paper.dropbox.com/doc/ActiveRecordRai
 ls8MVCM--AazCKvSWxrVIlD~ATYlxwl1QAg-XuuAGavuQTolj6zAbuiYp\n注意) 初心
 者向けではありません！\n\nRuby on Railsの学習がある程
 度進んだ方に向けた講座です\nRailsの勉強を始めたばか
 りの方には理解が難しい可能性があります！ご注意く
 ださい\n\nこのイベントで学べること\n\nRubyのオブジェ
 クト指向って？ (継承とは？オープンクラスとは？)\nMV
 CのM (モデル) ってどんな役割をしてるの？\nM (モデル) 
 とデータベースの関連性は？\nデータベース設計とSQL
 を理解しよう(CREATE TABLE / ALTER TABLE / SELECT / INSERT / UPDATE 
 / DELETE)\nActiveRecordって何？何が便利なの？\nORMって何？
 どうして必要なの？\nRubyの軽量フレームワーク(sinatra)
 を使用しながらAcriveRecordを使わないデータベースアク
 セスをしよう \nRubyの軽量フレームワーク(sinatra)を使用
 しながらActriveRecordを使ってデータベースアクセスをし
 よう\n\n対象者\n\nプログラミング(特にRuby on Rails)を勉
 強中の方\nRuby on Railsでアプリを作っているけどもM（モ
 デル）の役割をいまいちつかめていない方\nデータベ
 ースの理解に自信がない方\nActive Recordの理解に自信が
 ない方\nモデルの裏側でどのようなSQLが発行されてい
 るのか理解されたい方\nORMの仕組みを理解したい方\n\n
 参加条件&必須の知識\n\nLinuxの基本的なコマンドの使用
 経験がある方 (mkdir/cd/touch/ls/pwdなど)\nGitの基本操作が
 分かる方 (clone/commit/pushなど)\nRuby on Railsを勉強中の方
 （勉強開始数ヶ月~半年の方）\n\n(必須) 事前準備のお
 願い\n\nAWSアカウントの作成（Cloud9を使用するため） \n
    こちら から作成できます\n\n設備\n\n会場に電源、wifi
 のご用意がございます\nMac PCは持ち込みになります  電
 源ケーブルと一緒にご持参ください\n\n領収書を発行い
 たします\n必要な方は、当日お申し付けください\nX-HACK
 について\n世の中のプログラマーの数を増やすために
 、勉強会を開催中です。\n詳しくはこちらをご覧くだ
 さい。\nSNS\n\n\n主催者Twitter: 松田信介\n\n\nLINE@\nこちら
 でプログラミング学習のサポートやカリキュラムの質
 問を受け付けています\n登録して質問して見てくださ
 い\n\n\n
LOCATION:Impact Hub Tokyo (会議室White) 東京都目黒区目黒2-11-3 
 印刷工場１階
URL:https://techplay.jp/event/749136?utm_medium=referral&utm_source=ics&utm
 _campaign=ics
END:VEVENT
END:VCALENDAR
