BEGIN:VCALENDAR
VERSION:2.0
PRODID:-//https://techplay.jp//JP
CALSCALE:GREGORIAN
METHOD:PUBLISH
X-WR-CALDESC:大阪Laravelハンズオン!!「Laravelで始めるPHPフレ
 ームワーク」
X-WR-CALNAME:大阪Laravelハンズオン!!「Laravelで始めるPHPフレ
 ームワーク」
X-WR-TIMEZONE:Asia/Tokyo
BEGIN:VTIMEZONE
TZID:Asia/Tokyo
BEGIN:STANDARD
DTSTART:19700101T000000
TZOFFSETFROM:+0900
TZOFFSETTO:+0900
TZNAME:JST
END:STANDARD
END:VTIMEZONE
BEGIN:VEVENT
UID:749214@techplay.jp
SUMMARY:大阪Laravelハンズオン!!「Laravelで始めるPHPフレーム
 ワーク」
DTSTART;TZID=Asia/Tokyo:20190914T123000
DTEND;TZID=Asia/Tokyo:20190914T160000
DTSTAMP:20260426T033655Z
CREATED:20190905T141244Z
DESCRIPTION:イベント詳細はこちら\nhttps://techplay.jp/event/74921
 4?utm_medium=referral&utm_source=ics&utm_campaign=ics\n\nLaravelで始め
 るPHPフレームワーク\n概要\n初めまして!大阪でサーバ
 ーサイドエンジニアとしてLaravelを使った開発をしてい
 るナミザトです。\nハンズオンとは別に #水曜日のLarave
 lもくもく会 というもくもく会を主催しているのです
 が、全く人が集まらないので（笑）\n今回のLaravelハン
 ズオンで少しでも多くの人にLaravelに興味を持って欲し
 いなーと思い開催しました!!\nそのためフレームワーク
 を触ったことない人でも大丈夫です!!\nボランティアス
 タッフも数名おり分からない所は質問出来ますので安
 心してお越し下さい。\nLaravelとは\nPHPのオープンソー
 スで作られたWebアプリケーションフレームワーク\n2019
 年9月現在、GitHubでのスター獲得数がPHP\,/Ruby\,/Python等
 のバックエンド系プログラミング言語のフレームワー
 ク中で最も多いなど、人気のフレームワークの1つとな
 っています。\n2019年9月4日にメジャーバージョンとな
 るLaravel6がリリースされさらに盛り上がっています!!\n
 ハンズオンとは\nLTなどと違い、聴くだけでなく実際に
 手を動かしてみて技術に触れてみようというコンセプ
 トの勉強会のことです\n当日のアジェンダ\n当日は10階
 以上は関係者以外立ち寄れないため、受付10分前まで
 に10階スペースにお越しください。\n遅刻などの場合は
 必ず事前連絡お願い致します。\n\n12:30 会場受付（会場
 未定）\n12:45 ITプロパートナーズ様の会社紹介（スポン
 サー企業）\n12:50 資料でLaravelを学ぶ\n13:20 環境構築\n14:
 00 ツイッターっぽいものを作ってみよう\n16:00 ハンズ
 オン終了\n16:10 任意で懇親会(お酒も出るよ)\n17:15 片付
 けて退場\n\n事前準備\n当日はHomesteadを使って環境構築
 を進めるので以下の環境を必ず用意して来てください
 。\n当日にインストールしていないと確実にインスト
 ールだけで終わります（笑）\n\n第6章の開発環境の構
 築\nStep 2　Homestead vagrant box のダウンロード までお願い
 します！！\nVM + Vagrantをインストールする参考記事\nhtt
 ps://qiita.com/7968/items/97dd634608f37892b18a\n\n分からない所が
 あれば以下のTwitterのDMからお気軽に問い合わせくださ
 い。\nMac環境でお困りの方 -> https://twitter.com/namizatop\nWin
 dows環境でお困りの方 -> https://twitter.com/sola_msr\n\n※もし
 LocalにMySQLが入ってる方で環境構築めんどくさいという
 方であればLaravelにartisan serveというサーバーを立ち上
 げるコマンドが用意されているのでそれでもOKです。\n
 \n必要なもの\n\nノートPC\n\nスポンサー企業\nITプロパー
 トナーズ様\nhttps://itpropartners.jp/
LOCATION:なんばスカイオ 27階 大阪府大阪市中央区難波5丁
 目1-1番60号 なんばスカイオ27階
URL:https://techplay.jp/event/749214?utm_medium=referral&utm_source=ics&utm
 _campaign=ics
END:VEVENT
END:VCALENDAR
