BEGIN:VCALENDAR
VERSION:2.0
PRODID:-//https://techplay.jp//JP
CALSCALE:GREGORIAN
METHOD:PUBLISH
X-WR-CALDESC:熊本TouchDesignerもくもく会 vol. 0.008
X-WR-CALNAME:熊本TouchDesignerもくもく会 vol. 0.008
X-WR-TIMEZONE:Asia/Tokyo
BEGIN:VTIMEZONE
TZID:Asia/Tokyo
BEGIN:STANDARD
DTSTART:19700101T000000
TZOFFSETFROM:+0900
TZOFFSETTO:+0900
TZNAME:JST
END:STANDARD
END:VTIMEZONE
BEGIN:VEVENT
UID:749222@techplay.jp
SUMMARY:熊本TouchDesignerもくもく会 vol. 0.008
DTSTART;TZID=Asia/Tokyo:20190925T190000
DTEND;TZID=Asia/Tokyo:20190925T210000
DTSTAMP:20260423T155132Z
CREATED:20190905T141344Z
DESCRIPTION:イベント詳細はこちら\nhttps://techplay.jp/event/74922
 2?utm_medium=referral&utm_source=ics&utm_campaign=ics\n\n前回はライ
 ブコーディングの練習でしたが、今回はいつも通りの
 もくもく会です。\n会場の都合により前回から4週間後
 での開催です。\nTouchDesigner触ろうという初心者の方で
 も大歓迎です。PCとマウスは忘れずに。\nイベント概要
 \n熊本TouchDesignerもくもく会 vol. 0.008\n\n\n\n\n\n\n\n\n\n日程
 \n2019/9/25 (水) 19:00-21:00 (18:30頃から開場)\n\n\n会場\nえき
 まえスペース(熊本駅白川口前)\n\n\n参加費\n500円(会場
 代)\n\n\n\n\nTDをどれくらい触れるか（はじめての人）\n
 普段何やってるか（はじめての人）\n作ってみたから
 見てくれ\n\nなどを挟みながら、各自でもくもくする予
 定です。\n\n熊本TouchDesignerもくもく会とは\n熊本でTouchD
 esignerに詳しい人が見つけられませんでした。\n詳しい
 人がいないので、参加者同士で教え合い、助け合いな
 がら学んでいくイベントです。\n世界で活躍するTouchDes
 ignerユーザが来るまで続けます。\n\nリアルで集まって
 「もくもく」する\n作品を「見せ合う」\n作品を「SNSで
 アウトプット」する\n\nイベント中に限らず、制作した
 作品をSNSなどに投稿する際は、ハッシュタグ #kuma_td を
 付けましょう。\nお問い合わせはコチラに → @makoragi\n
 こんな方にオススメ\n\n熊本でTouchDesignerの情報交換を
 したかった方\nTouchDesigner始めたもののよく分からない
 方\nTouchDesignerの作品を見せびらかしたい方\n\nご準備頂
 くもの\n\nTouchDesignerをインストールしたPC\n\n注意事項\n
 \n手取り足取り教える勉強会ではありません。でもイ
 ンストールから頑張るって人には全力でフォローする
 と思います、たぶん。\n会場の都合上、「面白そうだ
 からただ見に来ただけ」の参加をご遠慮させていただ
 く場合がございます。\nお子様連れの場合、保護者様
 の責任において、お子様の安全と他参加者様との良好
 な環境づくりをお願いいたします。\n強い臭いを発す
 る飲食物の持ち込みは禁止です。\n公序良俗に反する
 行為は禁止です。\n未成年の場合は保護者同伴か、も
 しくは保護者の許可をもらってからご参加ください。\
 n\nTouchDesignerとは\nhttps://www.derivative.ca/\nTouchDesigner is a vi
 sual development platform that equips you with the tools you need to crea
 te stunning realtime projects and rich user experiences.  Whether you're 
 creating interactive media systems\, architectural projections\, live mus
 ic visuals\, or simply rapid-prototyping your latest creative impulse\, T
 ouchDesigner is the platform that can do it all. （公式Pageより引
 用）
LOCATION:えきまえスペース 熊本市西区春日2-3-1
URL:https://techplay.jp/event/749222?utm_medium=referral&utm_source=ics&utm
 _campaign=ics
END:VEVENT
END:VCALENDAR
