BEGIN:VCALENDAR
VERSION:2.0
PRODID:-//https://techplay.jp//JP
CALSCALE:GREGORIAN
METHOD:PUBLISH
X-WR-CALDESC:UI & Design for Beginners - Workshop
X-WR-CALNAME:UI & Design for Beginners - Workshop
X-WR-TIMEZONE:Asia/Tokyo
BEGIN:VTIMEZONE
TZID:Asia/Tokyo
BEGIN:STANDARD
DTSTART:19700101T000000
TZOFFSETFROM:+0900
TZOFFSETTO:+0900
TZNAME:JST
END:STANDARD
END:VTIMEZONE
BEGIN:VEVENT
UID:749282@techplay.jp
SUMMARY:UI & Design for Beginners - Workshop
DTSTART;TZID=Asia/Tokyo:20190918T193000
DTEND;TZID=Asia/Tokyo:20190918T213000
DTSTAMP:20260421T120514Z
CREATED:20190906T060018Z
DESCRIPTION:イベント詳細はこちら\nhttps://techplay.jp/event/74928
 2?utm_medium=referral&utm_source=ics&utm_campaign=ics\n\nAfter receiving 
 many requests\, our UI & Design Crash Course is back!\n\nLearn to quickly
  build a set of icons\, a logo\, a newsletter banner or even a mockup for
  your app.\n\nこのmeetupは英語で開催されますが、基本的
 な英語が分かれば問題ありません。:)\n\nContent\n\nWe'll co
 ver everything you need to know to build your graphical assets:\n\n• La
 test and coolest resources for the best pictures\, icons\, colors\, fonts
 \, and patterns.\n\n• Demo of Figma\, a popular design and prototyping 
 tool used in startups\, to refine your icons\, change their colour and sh
 ape\, export them\, and customise any assets (logo\, icons\, newsletter b
 anner\, etc.).\n\n• General knowledge about standard UI components and 
 how they are built.\n\n• Designer tricks and secrets (how to build a ni
 ce shadow? Add a filter to a cover pic? resize pictures with different pr
 oportions? Create masks?).\n\nPre-requisite\n\n• No pre-requisite\, thi
 s is a workshop for beginners\n• No need to bring your laptop\n\n\n\nAb
 out Le Wagon Tokyo\n\nLe Wagon Tokyo (https://www.lewagon.com/tokyo) is a
  coding school for startups\, creative people and tech entrepreneurs. Our
  9-week Full-Stack Coding Bootcamp (https://www.lewagon.com/program) is d
 esigned for complete beginners or "half-beginners" who really want to div
 e into programming and\, above all\, change their mindset. Learn to think
  like a developer\, consider issues with new insight\, and become more au
 tonomous thanks to these newly acquired abilities.\n\nThe next Tokyo batc
 h will start on January 13th and applications are open. (https://www.lewa
 gon.com/apply/tokyo) Still considering whether to apply or not? Try our f
 ree online track! (https://www.lewagon.com/learn-to-code)\n\nOur part-tim
 e bootcamp is now open!\nhttps://www.lewagon.com/tokyo/program/part-time
LOCATION:The Hive Jinnan 1-6-5 Jinnan\, Shibuya-ku\, Tokyo
URL:https://techplay.jp/event/749282?utm_medium=referral&utm_source=ics&utm
 _campaign=ics
END:VEVENT
END:VCALENDAR
