BEGIN:VCALENDAR
VERSION:2.0
PRODID:-//https://techplay.jp//JP
CALSCALE:GREGORIAN
METHOD:PUBLISH
X-WR-CALDESC:台湾のOSSイベント＆深圳留学報告会（飲みな
 がら台湾や深圳について楽しく語る会）
X-WR-CALNAME:台湾のOSSイベント＆深圳留学報告会（飲みな
 がら台湾や深圳について楽しく語る会）
X-WR-TIMEZONE:Asia/Tokyo
BEGIN:VTIMEZONE
TZID:Asia/Tokyo
BEGIN:STANDARD
DTSTART:19700101T000000
TZOFFSETFROM:+0900
TZOFFSETTO:+0900
TZNAME:JST
END:STANDARD
END:VTIMEZONE
BEGIN:VEVENT
UID:749291@techplay.jp
SUMMARY:台湾のOSSイベント＆深圳留学報告会（飲みながら
 台湾や深圳について楽しく語る会）
DTSTART;TZID=Asia/Tokyo:20190920T190000
DTEND;TZID=Asia/Tokyo:20190920T210000
DTSTAMP:20260421T112351Z
CREATED:20190906T060034Z
DESCRIPTION:イベント詳細はこちら\nhttps://techplay.jp/event/74929
 1?utm_medium=referral&utm_source=ics&utm_campaign=ics\n\n\n\n2019年9月2
 0日（金）に先日台湾にて開催されたオープンソースの
 イベント「COSCUP 2019」の参加報告会を開催します。\n\n
 「COSCUP 2019」は台湾最大級のオープンソースのイベン
 トです。弊社取締役の岩石が視察してきました。会場
 の熱い様子を紹介します。\nまた、中国・深圳は、1ヶ
 月間語学留学していた弊社代表取締役前田が受講した
 講座や深圳のリアルな生活について報告します。\n\n当
 日は、ビールや軽食をご用意します。食事を楽しみな
 がら、台湾のOSSイベントの最新情報や中国深圳や語学
 留学について楽しく語る会にしたいと思っています。\
 nITに関する海外経験など、飛び入りのLTも歓迎いたし
 ます。\n\n海外のIT事情などについて情報を得る機会に
 なると思いますので、ご興味のある方、一緒に盛り上
 がりたい方、どうぞお気軽にご参加ください！\n\n開催
 概要\n\n日時\n\n2019年9月20日（金）19時〜21時（受付18時3
 0分）\n\n会場\n\nファーエンドテクノロジー株式会社セ
 ミナールーム（島根県松江市朝日町498番地 松江センタ
 ービル2階）\n\n会費\n\n一般：1\,000円　学生：500円（軽
 食とお飲物（アルコール・ソフトドリンク）をご用意
 しております）\n会費は当日会場でお支払いください
 。\n\n定員\n\n25名\n\n対象\n\n中国、台湾のIT関連に興味
 のある方\n\n内容\n\n\n\n時間\n内容\n\n\n\n19:00-19:30\nオー
 プンソースのイベント「COSCUP 2019」視察報告（岩石）\n
 \n\n19:35-20:05\n深圳大学 中国語　語学留学報告（前田）\
 n\n\n20:10-20:20\n深圳旅行記（福田）\n\n\n20:20-21:00\nその他
 LTなど\n\n
LOCATION:ファーエンドテクノロジー株式会社セミナールー
 ム 島根県松江市朝日町498番地 松江センタービル2階
URL:https://techplay.jp/event/749291?utm_medium=referral&utm_source=ics&utm
 _campaign=ics
END:VEVENT
END:VCALENDAR
