BEGIN:VCALENDAR
VERSION:2.0
PRODID:-//https://techplay.jp//JP
CALSCALE:GREGORIAN
METHOD:PUBLISH
X-WR-CALDESC:【初心者大歓迎】たった4時間でWebサイトを開
 発！無料プログラミング体験会
X-WR-CALNAME:【初心者大歓迎】たった4時間でWebサイトを開
 発！無料プログラミング体験会
X-WR-TIMEZONE:Asia/Tokyo
BEGIN:VTIMEZONE
TZID:Asia/Tokyo
BEGIN:STANDARD
DTSTART:19700101T000000
TZOFFSETFROM:+0900
TZOFFSETTO:+0900
TZNAME:JST
END:STANDARD
END:VTIMEZONE
BEGIN:VEVENT
UID:749488@techplay.jp
SUMMARY:【初心者大歓迎】たった4時間でWebサイトを開発！
 無料プログラミング体験会
DTSTART;TZID=Asia/Tokyo:20190914T140000
DTEND;TZID=Asia/Tokyo:20190914T180000
DTSTAMP:20260424T135633Z
CREATED:20190907T061243Z
DESCRIPTION:イベント詳細はこちら\nhttps://techplay.jp/event/74948
 8?utm_medium=referral&utm_source=ics&utm_campaign=ics\n\n◆プログラ
 ミング体験会、開催！\n大学生限定プログラミングコ
 ミュニティGeekSalonでは\nWebサイト開発コースの無料体
 験会を開催します！  \n誰しも少しは気になっているで
 あろう「プログラミング」  \n普段の生活では挑戦しに
 くいですが\nこの機会に、プログラミングに挑戦して
 みませんか？  \n「自分でもできるのかな…？」\n「そ
 もそもプログラミングって何？！」\nなどなど、どな
 たでも大歓迎です！  \nプログラミング初心者はもちろ
 んPCが苦手な方も\nGeekSalonのメンターが全力でサポート
 するので\n安心してご参加ください！！！  \nたった3時
 間で、プログラミングを体感\nオリジナルのWebサイト
 を開発するプログラミング体験会。\nお申込み、お待
 ちしております！\n【 Webサイト開発コース体験会 】\n
 ▼日時：9月14日(土) 14-18時\n▼会場：GeekSalon 東京教室\n
 〒150-0022 東京都渋谷区恵比寿南3丁目3−8 烏山恵比寿ビ
 ル2階\n▼持ち物：PC（Mac/Windows）\n※貸出PCのご用意が
 ございません。\nご了承ください。  \n▼アクセス\n代
 官山駅より徒歩4分\n恵比寿駅より徒歩6分\n中目黒駅よ
 り徒歩8分\n▼GeekSalonの公式LINE@の登録をお願いします
 。\nGeekSalon公式LINE@\n
LOCATION:GeekSalonイベントスペース 〒150-0022 東京都渋谷区
 恵比寿南3丁目3−8 烏森恵比寿ビル2階
URL:https://techplay.jp/event/749488?utm_medium=referral&utm_source=ics&utm
 _campaign=ics
END:VEVENT
END:VCALENDAR
