BEGIN:VCALENDAR
VERSION:2.0
PRODID:-//https://techplay.jp//JP
CALSCALE:GREGORIAN
METHOD:PUBLISH
X-WR-CALDESC:Cloud Native Meetup Tokyo #10
X-WR-CALNAME:Cloud Native Meetup Tokyo #10
X-WR-TIMEZONE:Asia/Tokyo
BEGIN:VTIMEZONE
TZID:Asia/Tokyo
BEGIN:STANDARD
DTSTART:19700101T000000
TZOFFSETFROM:+0900
TZOFFSETTO:+0900
TZNAME:JST
END:STANDARD
END:VTIMEZONE
BEGIN:VEVENT
UID:749667@techplay.jp
SUMMARY:Cloud Native Meetup Tokyo #10
DTSTART;TZID=Asia/Tokyo:20190926T190000
DTEND;TZID=Asia/Tokyo:20190926T220000
DTSTAMP:20260419T150304Z
CREATED:20190909T061449Z
DESCRIPTION:イベント詳細はこちら\nhttps://techplay.jp/event/74966
 7?utm_medium=referral&utm_source=ics&utm_campaign=ics\n\nCloud Native に
 近しい技術や CNCF がホストするプロジェクトについて
 共有し合う会です！\n昨今はコンテナ関係のエコシス
 テムが大量に増えてきましたが、それらの技術検証結
 果などを発表しあう?場として利用していきたいと思っ
 ており、仲間を募集しております。\nおしらせ\nCNCF の
 公式meetupに認定されましたメンバー登録お願いいたし
 ます！\n\nhttp://bit.ly/cncfmeetupjp\n\nイベント概要\n\n\n\n\n\n
 \n\n\n\n日時\n2019 年 9 月 26 日 (木)\n\n\n時間\n19:00-21:50 (18:
 15 開場)\n\n\n会場\n渋谷スクランブルスクエア セミナー
 ルーム\n\n\n住所\n東京都渋谷区渋谷二丁目24番12号\n\n\n\
 nアジェンダ\n\n\n\nDate\nTheme\nSpeaker\n\n\n\n\n19:00-19:05 (5 min)
 \nOpening\n\n\n\n19:05-19:35 (30 min)\nKubernetes 上で KVS をマネー
 ジドっぽく使いたい！\nMizuki Urushida @ zuiurs (CyberAgent)\n\n
 \n19:35-20:05 (30 min)\nLoki入門\nShinya Uemura @uesyn (Z Lab)\n\n\n20:
 05-20:35 (30 min)\nVirtual Kubeletの有用性\nYuji Yasuda @yupeji (Crea
 tionline)\n\n\n20:35-21:30 (60 min)\n懇親会 & LT * 2\nSponsored by Cyb
 erAgent\n\n\n\n\n\n発表者\nKubernetes 上で KVS をマネージドっ
 ぽく使いたい！\n\nMizuki Urushida @zuiurs (CyberAgent\, Inc.)\n\n
 みなさんパブリッククラウドのマネージドサービスが
 好きですよね？...わかります。\nですが、最近は Kuberne
 tes Operator というものが流行っています。\n今回はその 
 Operator である Redis Operator を筆頭に k8s 上で簡単に KVS 
 をデプロイする方法と性能測定を合わせて紹介します
 。\nLoki入門\n\nShinya Uemura @uesyn (Z Lab)\n\nKubernetes上で動く
 アプリケーションのログを見たい時、みなさんはどう
 していますか？\nアプリケーションのログは可能な限
 り簡単に扱いたい...ただgrepしたいだけなんだ！\nそん
 な願いを実現してくれそうなOSSのLokiを紹介します。\nV
 irtual Kubeletの有用性\n\nYuji Yasuda @yupeji (Creationline)\n\nMicro
 soft社が発表したVirtual Kubeletについて紹介します。Virtua
 l Kubeletはその名に準じてKubeletの仮想化ソフトウェアで
 様々なコンテナプラットフォームとKubernetesとの連携を
 可能にします。ここでは実際の検証を通してどのよう
 な連携を実現するのかご紹介します。\n懇親会 & LT (Spon
 sored by CyberAgent)\n軽食、ビールを囲んでの懇親会となり
 ます。未成年の方や運転される方のアルコールの摂取
 は絶対におやめ下さい。\nまた、この時間帯に LT を行
 います。\nぜひネットワーキングの時間や相互の情報
 共有の時間に当てて頂ければと思います。\n参加枠\n一
 般枠（先着順）\n一般の参加者枠です。\n設備\n\nWi-Fi: 
 利用可\n電源: 利用可（数に限りがあります）\n\nLT 枠
 （抽選）\nLT 枠で参加希望の方は connpass で LT 枠に 登
 録時、アンケートにて発表タイトルの記載をお願いい
 たします。\n抽選に外れた方は一般枠として参加可能
 です。\n注意事項・備考\nまた、今回はマークシティで
 はなく、新ビルの 渋谷スクランブルスクエアとなりま
 す。ご注意ください。\n当日は2FまたはB2Fから渋谷スク
 ランブルスクエアに入っていただき、17Fのオフィスロ
 ビー入り口にて受付をお願いいたします。会場は21Fセ
 ミナールームです。\n当日の受付時に Connpass の受付情
 報を確認する場合があります。ご了承下さい。\n貴重
 品の管理は各自でお願いいたします。万が一盗難・紛
 失等が発生しても、主催者側では一切責任を負えませ
 ん。\ncrash.academy 様のご協力により、後日動画が配信さ
 れます。動画に顔が映り込む場合がございますので、
 ご注意下さい。\n登壇希望の方（次回以降）\n技術検証
 などが好きな方をお待ちしております。\nこのフォー
 ムから是非ご連絡をお願いいたします。
LOCATION:サイバーエージェント　渋谷スクランブルスクエ
 ア 21Fセミナールーム（17F受付） 東京都渋谷区渋谷二
 丁目24番12号
URL:https://techplay.jp/event/749667?utm_medium=referral&utm_source=ics&utm
 _campaign=ics
END:VEVENT
END:VCALENDAR
