BEGIN:VCALENDAR
VERSION:2.0
PRODID:-//https://techplay.jp//JP
CALSCALE:GREGORIAN
METHOD:PUBLISH
X-WR-CALDESC:集まれSwift好き！Swift愛好会 vol44 @ビズリーチ
X-WR-CALNAME:集まれSwift好き！Swift愛好会 vol44 @ビズリーチ
X-WR-TIMEZONE:Asia/Tokyo
BEGIN:VTIMEZONE
TZID:Asia/Tokyo
BEGIN:STANDARD
DTSTART:19700101T000000
TZOFFSETFROM:+0900
TZOFFSETTO:+0900
TZNAME:JST
END:STANDARD
END:VTIMEZONE
BEGIN:VEVENT
UID:749726@techplay.jp
SUMMARY:集まれSwift好き！Swift愛好会 vol44 @ビズリーチ
DTSTART;TZID=Asia/Tokyo:20190924T191500
DTEND;TZID=Asia/Tokyo:20190924T220000
DTSTAMP:20260420T110218Z
CREATED:20190909T141302Z
DESCRIPTION:イベント詳細はこちら\nhttps://techplay.jp/event/74972
 6?utm_medium=referral&utm_source=ics&utm_campaign=ics\n\n今回は、kotl
 in愛好会との共同開催で、LT会を予定しています！\nビ
 ズリーチさんでの初開催です。\n■イベント概要\nSwift
 好きで集まって、ビール片手にわいわい LT会です！\n\n
 Swiftからプログラムを始めた方\nObjective-C時代からやっ
 てきた方\n他の言語（JavaやRuby）をやりながらSwiftを勉
 強されてる方\n\nいろんな背景の人で集まってSwiftを遊
 び倒したいです！\nイベント前半では、Swift全般に関す
 るお話や、iOSアプリ開発スキルアップのための様々な
 テクニックをお話する"Swift談義タイム"。\n後半は、Swif
 t仲間をつくる懇親会へ^^/\nなお、絶賛Swift談義スピー
 カー募集してます。\nぜひご経験をお聞かせください
 ！\n■登壇者\n※登壇者でご応募の方はconnpassイベント
 ページ下のフィードにタイトルのご記入をお願いしま
 す！未定となっている方も決まり次第、記入ください
 。\n談義枠\n\n\n\n枠\n談義タイトル\n登壇者\n\n\n\n\nSwift\n
 Server Side Swift and a important use-case of it\nPrateek Khandelwal\n\n\
 nKotlin\nKotlin/Nativeで作るcli - そしてMPP\nk-tomoyasu\n\n\nSwift\
 nMVVMでiOS12からiOS13への修正を表現する\nResourceMasterKiller
 \n\n\nKotlin\n募集中\n\n\n\n\n時間が余ったら談義枠\n\n\n\n
 枠\n談義タイトル\n登壇者\n\n\n\n\nKotlin\nコルーチンの動
 作確認用に作ったリポジトリとコルーチン\nKoji Wakamiya\
 n\n\nSwift\n未定\nこばやしただあき\n\n\nKotlin\nGithub Actions 
 (v2) でDanger + ktlintを実行させる\nたる\n\n\nSwift\n学校教
 育におけるSwiftの新機能教育\nあのにますかわ\n\n\n\n■
 当日のタイムスケジュール(予定)\n\n\n\n時間\n内容\n\n\n\
 n\n19:15～19:30\n集合\n\n\n19:30～19:40\nオープニング / 乾杯
 ！\n\n\n19:40～21:00\n談義 LTタイム\n\n\n21:00～21:30\n懇親会\
 n\n\n\n■主催プロフィール\n七島 偉之 (@jollyjoester) / 株
 式会社メルカリ\nJava\, PHPで業務Webシステム開発、フリ
 ーのiOS\, Androidアプリ開発者、ユーザー行動分析サービ
 スReproのエンジニア/CSを経て、現在は株式会社メルカ
 リに所属。みんなでもっとSwiftを楽しめるようなネタ
 を探してます。\nかんぱいやー（勉強会で乾杯をする
 人）としても知られていて、乾杯の力でSwift好きの輪
 を広めています\n著書：\n\n世界一受けたいiPhoneアプリ
 開発の授業 \n絵解きでわかる iPhoneアプリ開発超入門\n\
 nteratailでサポートも行っています！\n■対象者\n\nSwift
 が好きな人！\nSwiftを好きになる予定の人\nむしろSwift
 から好かれている人\n\n会場への入場に関して\n渋谷ク
 ロスタワーまでお越しいただき、12Fまで直接向かって
 ください。\nその後、受付を行います。\n■お知らせ\n
 ※講演内容やタイムスケジュールは変更となる可能性
 がございます。\n※当日のイベント内容は後日任意の
 媒体にて公開させて頂くことがあります。\n※イベン
 トレポート作成のため、お写真を撮らせていただくこ
 とがございますので予めご了承ください。\n※イベン
 トは、止むを得ず中止させて頂く場合がございます。\
 n　その際は、本サイトからのメッセージよりご連絡さ
 せて頂きますのでご確認をお願い致します。
LOCATION:株式会社ビズリーチ 渋谷クロスタワー12F
URL:https://techplay.jp/event/749726?utm_medium=referral&utm_source=ics&utm
 _campaign=ics
END:VEVENT
END:VCALENDAR
