BEGIN:VCALENDAR
VERSION:2.0
PRODID:-//https://techplay.jp//JP
CALSCALE:GREGORIAN
METHOD:PUBLISH
X-WR-CALDESC:ロボティクスの未来　YASKAWA Mirai Tech #1
X-WR-CALNAME:ロボティクスの未来　YASKAWA Mirai Tech #1
X-WR-TIMEZONE:Asia/Tokyo
BEGIN:VTIMEZONE
TZID:Asia/Tokyo
BEGIN:STANDARD
DTSTART:19700101T000000
TZOFFSETFROM:+0900
TZOFFSETTO:+0900
TZNAME:JST
END:STANDARD
END:VTIMEZONE
BEGIN:VEVENT
UID:749727@techplay.jp
SUMMARY:ロボティクスの未来　YASKAWA Mirai Tech #1
DTSTART;TZID=Asia/Tokyo:20190924T193000
DTEND;TZID=Asia/Tokyo:20190924T220000
DTSTAMP:20260420T110217Z
CREATED:20190909T141303Z
DESCRIPTION:イベント詳細はこちら\nhttps://techplay.jp/event/74972
 7?utm_medium=referral&utm_source=ics&utm_campaign=ics\n\nはじめに\n\n
 こんにちは。安川電機です。\n最近ロボットやAIがさま
 ざまなところで使われ、自動化が色々な業界で進んで
 います。そんな流れの中、「ロボットをこんなところ
 につかってみたいのだけれど」「ROSをはじめたいけど
 よくわからない」「社内でAIエンジニア育てたいけど
 どうすればいいの？」 こんな声をよく聞きます。\nそ
 こで実際にロボットやROS、AIについてお話しし、弊社
 メンバーとも交流できるミートアップイベントを企画
 しました。みなさまのご参加お待ちしております！　\
 nなお、安川電機はベンチャー企業さまに出資も行って
 いるので、協業・出資ご希望の企業の方の参加もお待
 ちしております！\n\n\n\n\n対象となる方\n\n\nROSやAIに興
 味にあるけど、何から始めればいいかわからない方\n
 出資を受けたいベンチャー企業の方\nVCやCVCの運営者の
 方\n\n※お名刺を1枚ご用意ください。\nイベント内容\n\
 nプレゼンテーションと交流会の2部構成です。\n\n会場\
 n\nHmcomm AIセッションラボ\n東京都港区芝大門2-6-8 中島
 ビル 3階\n今回のイベントは、安川電機が出資させてい
 ただいている産総研発AIベンチャーHmcomm株式会社様の
 オフィスにて実施いたします。\nタイムスケジュール\n
 \n順番と内容は変わる可能性があります。\n\n\n\n\n時間\
 n発表者\n内容\n\n\n\n\n19:00\n\nスタッフ集合＆開場\n\n\n  1
 9:25 - 19:30\n  \n  オープニング\n\n\n  19:30 - 19:55\n  安川電
 機社員（技術担当）\n  ROSによる今後のロボティクスの
 あり方\n\n\n19:55 - 20:15\n安川電機社員（技術研修担当）\
 n強化学習の教材としてのAWS DeepRacer\n\n\n20:15 - 20:25\nHmcom
 mご担当者様\nHmcommのAI事業紹介\n\n\n20:25 - 20:30\n\n休憩\n\
 n\n20:30 - 20:50\n安川電機社員（新規事業担当）\n安川イ
 ノベーションプログラムの紹介\n\n\n20:50 - 22:00\n\n交流
 会\n\n\n\n\n\n安川イノベーションプログラム（YIP）につ
 いて\n\n\n安川電機グループは、安川イノベーションプ
 ログラム（YIP）という新規事業創出スキームを2016年度
 より開始しています。YIPは当社グループのCVC機能を併
 せ持ち、グローバルで新規事業企画を募り、ベンチャ
 ー投資・子会社設立などのステップを経ながら将来の
 事業の柱となるような新規事業創出を進めています。\
 n2016年度の開始以降、当社グループの事業とシナジー
 のある国内外のベンチャー企業10社に出資を行い、そ
 の協業の中から子会社を1社設立し、数億円の売上実績
 を伴う事業となりました。今後はYIPの活動をベンチャ
 ー投資だけでなく、社内の起業チームによる事業の実
 証、事業開発にも注力範囲を広げ、YIP2.0という呼称で
 さらに新規事業創出を加速していきます。\n投資や協
 業についてご興味のある方は以下をごらんください。\
 nhttps://www.yaskawa.co.jp/venture_investment/\n主催\n\n安川電機\n\
 n福岡県北九州市に本社がある1915年創業の電機メーカ
 ーです。サーボモータ、インバータ、ロボットなどの
 メカトロニクス\n製品を通じ、世界の自動化をお手伝
 いをしています。\nお問い合わせ先\n\n事業企画部\nyip@y
 askawa.co.jp\n03-5402-4545\n
LOCATION:Hmcomm AIセッションラボ 東京都港区芝大門2-6-8 中
 島ビル 3階
URL:https://techplay.jp/event/749727?utm_medium=referral&utm_source=ics&utm
 _campaign=ics
END:VEVENT
END:VCALENDAR
