BEGIN:VCALENDAR
VERSION:2.0
PRODID:-//https://techplay.jp//JP
CALSCALE:GREGORIAN
METHOD:PUBLISH
X-WR-CALDESC:今日から始める！ブロックチェーン基礎講座&
 ハンズオン
X-WR-CALNAME:今日から始める！ブロックチェーン基礎講座&
 ハンズオン
X-WR-TIMEZONE:Asia/Tokyo
BEGIN:VTIMEZONE
TZID:Asia/Tokyo
BEGIN:STANDARD
DTSTART:19700101T000000
TZOFFSETFROM:+0900
TZOFFSETTO:+0900
TZNAME:JST
END:STANDARD
END:VTIMEZONE
BEGIN:VEVENT
UID:749733@techplay.jp
SUMMARY:今日から始める！ブロックチェーン基礎講座&ハン
 ズオン
DTSTART;TZID=Asia/Tokyo:20190925T193000
DTEND;TZID=Asia/Tokyo:20190925T213000
DTSTAMP:20260423T064453Z
CREATED:20190909T141405Z
DESCRIPTION:イベント詳細はこちら\nhttps://techplay.jp/event/74973
 3?utm_medium=referral&utm_source=ics&utm_campaign=ics\n\n\n\n  今日か
 ら始める！ブロックチェーン基礎講座&ハンズオン　～
 Product Ethereum～\n\n\n\n\n\n\n※本講座を受講することで以
 下のことが得られます\n\n\n・ブロックチェーンの仕組
 み、特徴を理解出来る\n・ブロックチェーン上の契約
 『スマートコントラクト』を理解できる\n・ブロック
 チェーン開発のイメージができる\n\n\n※更に知識を深
 めたい方は応用編の『ブロックチェーン応用講座　～
 技術的な課題と対策・Ethereum開発導入編～』もご利用
 ください\n ～ 開催イメージ ～\n\n　\n\n概要\n\n本講座
 は、ブロックチェーンを活用したアプリケーション開
 発の基礎知識を、講義とハンズオンの両面から体感し
 ながら学べる内容となっています！\nブロックチェー
 ンは、仮想通貨や国際送金のようなFinTech分野での活用
 事例をはじめ、様々な業種・業態への適用が期待され
 ている技術です。\n★こんな方におススメです★\n・ブ
 ロックチェーン開発に興味のある技術者\n・自分で開
 発はしないが、ブロックチェーン開発プロジェクトに
 興味のある方\n・ブロックチェーンを活用したビジネ
 スを考えている方\n ～ 講座体系イメージ ～\n\n\n\n更に
 知識を深めたい方は応用編の『ブロックチェーン応用
 講座　～技術的な課題と対策・Ethereum開発導入編～』
 もご利用ください\nタイムスケジュール\n\n\n    \n        
 \n            時間\n            内容\n        \n        \n           
  19:20〜\n            受付開始\n        \n        \n            19:3
 0～\n            開始挨拶\n        \n        \n            19:40〜\
 n            \n                ＜講演パート＞\n                　
 - ブロックチェーンとは？　- 契約の自動化『スマート
 コントラクト』　- 活用事例(ユースケース)　- ブロッ
 クチェーン技術の今とこれから\n            \n        \n     
    \n            20:10〜\n            休憩\n        \n        \n      
       20:15〜\n            \n                ＜ハンズオン・パー
 ト＞\n                 - ハンズオンで利用するプロダクト
 『Ethereum』※Bitcoinに次いで注目されている仮想通貨。
 通貨としての利用のみならず、Ethereumを利用した分散
 型アプリケーションやスマートコントラクトの活用が
 期待されている。　- 統合開発環境『Remix』の利用方法
 紹介　- スマートコントラクトの実行　- 関数の利用　
 - サンプルソース解説　- 質疑応答\n        \n            20:
 50〜\n            質疑応答・アンケート記入\n        \n\n    
         〜21:30\n            懇親会\n        \n    \n\n\n※ 当日
 予告なく時間配分・内容が変更になる可能性がござい
 ます。\n※ ハンズオンパートでは、PCを利用しての進
 行を想定しています。\nPCは参加者各自でお持ちいただ
 きますよう、よろしくお願いします。\n※会場に無料Wi
 -Fiをご用意しておりますが、出来るだけポケットWi-Fi
 のご準備をお願い致します。\n講師プロフィール\n\n\n\n
 ◆ 大野 翔平（おおの しょうへい）\n\n\n一般社団法人 
 未来技術推進協会にて、ブロックチェーンを活用した
 アプリケーション開発や ブロックチェーン講座の講師
 として活動中。\n\n生まれと育ちは大阪府。2012年に就
 職とともに関東に移住し、 通信系のSIer企業にてデー
 タ分析や機械学習を活用した研究・開発案件に従事。\
 n2017年よりブロックチェーンを活用したビジネス検討
 に携わり、 2018年7月からは、未来技術推進協会にてブ
 ロックチェーン講座の講師を毎月担当。\n\n\n ～ 講師
 実績 ～\n・外部向け基礎講座：10回\n・学生向けブロッ
 クチェーン講座：1回\n・累計受講者数：50名以上\n ～ 
 監修 ～\n・一般社団法人 日本経営協会　『よく分かる
 ！近未来テクノロジー2019』\n\n\n\n\n参加費\n\n・事前支
 払い：3\,000円（懇親会費込み）\n※1週間以上前のお申
 込みは早割で2500円\n・当日支払い：4\,000円（懇親会費
 込み）\n※未来技術推進協会の有料会員も通常の参加
 費を頂きます\n\n\n【キャンセルポリシー】\nやむを得
 ずキャンセルされる場合は、開催日の3日前(※)までに
 以下の連絡先メールアドレス宛にキャンセルのご連絡
 をいただいた方に限り、講座開催日から1週間以内にpay
 palにて会費を払い戻し致します。\n但し、払い戻し手
 続きに要するstripe手数料を差し引かせていただきます
 。\nまた、キャンセルのご連絡が開催日の2日前(※)よ
 り以降にいただいた場合、またはキャンセルのご連絡
 が無かった場合は、払い戻しに応じられませんのでご
 留意ください。\nなお、申込日から3日以内(※)に会費
 をお振り込みいただけない場合、お申込みをキャンセ
 ルとさせていただきます。\n(※) 土日祝日も含んだ日
 数です。\n\n\n詳細\n\n◆日時\n・2019年9月25日　19：30～\n
 ◆会場\n『ブルックリン会議室秋葉原』\n・東京都台東
 区台東1-29-4　5階\n◆アクセス\n・JR山手線 秋葉原駅 徒
 歩6分\n・東京メトロ日比谷線 仲御徒町駅 徒歩7分\n企
 画・運営\n\n\n一般社団法人　未来技術推進協会\n私た
 ち未来技術推進協会は、企業や専門を超えた20代-30代
 の若手技術者からなる団体です。大学研究者、企業、
 投資家、新しい技術に興味を持つ社会人・学生からな
 るコミュニティーを形成し、社会課題をテクノロジー
 で解決することを目的としています。\n今後も、将来
 の日本を担う最先端技術を世の中に発信し、特にSDGsを
 テクノロジーで解決すべく、コミュニティー形成に取
 り組んでまいります。\n\n※お問い合わせ\n一般社団法
 人　未来技術推進協会\n運営スタッフ　山本\nMail：k-yam
 amoto@future-tech-association.org\n注意事項\nリクルーティング
 、勧誘、採用活動、人の話を聞かないなど、目的に沿
 わない行為につきまして、主催者が相応しくないと判
 断した場合は即刻退出処分とします。\n全員が気持ち
 よく過ごすことが出来るよう、ご協力をお願い致しま
 す。\n
LOCATION:ブルックリン会議室（秋葉原） 東京都台東区台
 東1-29-4(第一共和ビル501号室)
URL:https://techplay.jp/event/749733?utm_medium=referral&utm_source=ics&utm
 _campaign=ics
END:VEVENT
END:VCALENDAR
