BEGIN:VCALENDAR
VERSION:2.0
PRODID:-//https://techplay.jp//JP
CALSCALE:GREGORIAN
METHOD:PUBLISH
X-WR-CALDESC:【中止】Tokyo HoloLens ミートアップ vol.17～リト
 ライ編～
X-WR-CALNAME:【中止】Tokyo HoloLens ミートアップ vol.17～リト
 ライ編～
X-WR-TIMEZONE:Asia/Tokyo
BEGIN:VTIMEZONE
TZID:Asia/Tokyo
BEGIN:STANDARD
DTSTART:19700101T000000
TZOFFSETFROM:+0900
TZOFFSETTO:+0900
TZNAME:JST
END:STANDARD
END:VTIMEZONE
BEGIN:VEVENT
UID:749786@techplay.jp
SUMMARY:【中止】Tokyo HoloLens ミートアップ vol.17～リトライ
 編～
DTSTART;TZID=Asia/Tokyo:20191012T130000
DTEND;TZID=Asia/Tokyo:20191012T190000
DTSTAMP:20260425T205225Z
CREATED:20190909T235844Z
DESCRIPTION:イベント詳細はこちら\nhttps://techplay.jp/event/74978
 6?utm_medium=referral&utm_source=ics&utm_campaign=ics\n\n※台風接近
 による「Tokyo HoloLens ミートアップ vol.17～リトライ編～
 」中止のお知らせ\n「Tokyo HoloLens ミートアップ vol.17～
 リトライ編～」をご覧、およびお申し込みをいただき
 ありがとうございます。\n１０月１２日(土)に開催を予
 定しておりました「Tokyo HoloLens ミートアップ vol.17～リ
 トライ編～」でございますが、 メディア等での報道の
 通り、開催当日に非常に強い勢力を持つ台風１９号の
 接近が予測されております。\n 今回、皆さまの安全を
 考慮いたしました結果、やむなく中止とさせて頂くこ
 ととなりました。 \n大変申し訳ございませんが、何卒
 ご理解いただければと存じます。\n本件に関しまして
 、ご不明な点がございましたら、Compassのお問い合わせ
 より承ります。\n何卒よろしくお願い致します。\n開催
 概要\nHoloLensアプリ開発秘話\nHoloLensアプリ開発で著名
 な方々に登壇いただき、HoloLensに向いたアプリ、VR/MRに
 向いたアプリの特長や、HoloLensアプリ開発の裏話をお
 話しいただきます。\nHoloLensを持っていない方も参加可
 能です！ご興味のある方は是非ともご参加頂き、HoloLen
 sを含めたWindows MixedRealityの世界を覗いてみてください
 ！\n■注意事項\n・HoloLens体験をご希望の方は、デモ展
 示にてお楽しみください。出展者の指示に従い安全に
 ご体験頂くよう、よろしくお願いします。もちろん、
 参加者がその場でご自身のコンテンツを楽しんでもら
 うことも構いませんが、デモ展示を含め、機材の破損
 などについて主催側でその責任は負えません。\n・イ
 ベント中に取材が入る可能性があります。またイベン
 トスタッフによる写真やビデオ撮影等を予定しており
 ます。撮影されました内容は後日主催者や会場提供者
 によるイベントの開催レポート等に使わせていただく
 ことがありますので予めご了承ください。\n・原則と
 して13時15分ごろに2Fロビーでの受付を終了致します。
 以降に来場される方は本ページ下部のコメントフィー
 ドから到着した旨の書き込みをお願いします。スタッ
 フが2Fロビーに伺います。\n■タイムテーブル\n\n\n\n開
 始時間\n内容\n\n\n\n\n12:30\n開場\n\n\n13:00\n前説、自己紹
 介Time(Holoとわたし)\n\n\n13:15\n「HoloLens 開発者向け！Azure
 でサーバーサイドを簡単に開発しよう！」大田一希さ
 ん\n\n\n14:00\n休憩（15分）\n\n\n14:15\n「MRTK V2におけるマ
 ルチデバイス対応」宮浦恭弘さん\n\n\n15:00\n休憩（15分
 ）\n\n\n15:15\n「MR × SaaSのバーチャルマニュアル」山本
 彰洋さん、坂元旭さん\n\n\n16:00\n懇親会へ転換\n\n\n\n\n\n
 \n開始時間\n内容\n\n\n\n\n16:00\n懇親会(フリータイム)\n\n\
 n16:15\nHolo LT1部（4名×5分）\n\n\n16:45\nHolo LT2部（4名×5分
 ）\n\n\n17:15\nHolo LT3部（4名×5分）\n\n\n18:00\n懇親会(フリ
 ータイム)\n\n\n18:30\nWrap up、記念撮影\n\n\n19:00\n撤収\n\n\n
 \n■登壇者／登壇内容のご紹介\n日本マイクロソフト株
 式会社様「HoloLens 開発者向け！Azureでサーバーサイド
 を簡単に開発しよう！」\n大田一希@okazukiさん\n日本マ
 イクロソフト株式会社　プレミアフィールドエンジニ
 ア\n\n大阪駆動開発様「MRTK V2におけるマルチデバイス
 対応」\n宮浦恭弘@takabrz1さん\n大阪駆動開発 \n\nイマク
 リエイト株式会社様「MR × SaaSのバーチャルマニュアル
 」\n山本彰洋@akifyaman69さん\nイマクリエイト株式会社 
 代表取締役\n\n坂元旭@HoloMotoRangerさん\nイマクリエイト
 株式会社 エンジニア\n\n■開催概要\nイベント名：Tokyo 
 HoloLens Meetup vol.17\n日程：10月12日(土)\n時間：12:30 受付
 開始　13:00～19:00　\n会場：日本マイクロソフト株式会
 社(品川) 31F セミナールームA\n費用：1\,000円\n主催: HoloM
 agicians / TMCN \n協力：  日本マイクロソフト\nYoutubeチャ
 ンネル：TMCN\n■行動規範\n私たちのコミュニティは、
 性別、性的自認、外形的な性別、年齢、性的指向、障
 害、身体的特徴、身体のサイズ、\n人種、民族、宗教
 （あるいは無宗教）、技術の選択、を理由としたハラ
 スメントの無い状態を維持すべく行動します。\n私た
 ちは、コミュニティメンバーに対する、いかなる種類
 のハラスメントも容認しません。\n性的な表現や画像
 は、トーク、ワークショップ、パーティ、Twitterその他
 のオンラインメディアを含め、いかなるコミュニティ
 イベントでも、不適切なものとします。\nこれらの規
 則を破った参加者は、オーガナイザーの決定のもと、
 制裁を受けるか、当該イベントおよび将来のあらゆる
 イベントあるいはコミュニティから、払い戻し（もし
 ある場合でも）無しで参加を拒絶されることがありま
 す。\n詳細は下記をご確認ください。\nHoloLensミートア
 ップ行動規範\nhttps://holomagicianspolicy2019.azurewebsites.net/\n
 私たちのコミュニティは、ScalaMatsuri 2016にて上映され
 た本動画に賛同いたします。\nhttps://youtu.be/lIfOQNTWdxI \n
 お気づきのこと、お困りのことがあれば\n伊藤武仙(@tak
 esenit)\nまたは\n森真吾(@morio36)\nへご連絡ください。
LOCATION:日本マイクロソフト株式会社セミナールーム 東
 京都港区港南 2-16-3
URL:https://techplay.jp/event/749786?utm_medium=referral&utm_source=ics&utm
 _campaign=ics
END:VEVENT
END:VCALENDAR
