BEGIN:VCALENDAR
VERSION:2.0
PRODID:-//https://techplay.jp//JP
CALSCALE:GREGORIAN
METHOD:PUBLISH
X-WR-CALDESC: オープンソースのSSO「OpenAM/Keycloak」とID管理
 「Keyspider」のサポート ～各ソフトウェアの紹介とサポ
 ートサービスの紹介～
X-WR-CALNAME: オープンソースのSSO「OpenAM/Keycloak」とID管理
 「Keyspider」のサポート ～各ソフトウェアの紹介とサポ
 ートサービスの紹介～
X-WR-TIMEZONE:Asia/Tokyo
BEGIN:VTIMEZONE
TZID:Asia/Tokyo
BEGIN:STANDARD
DTSTART:19700101T000000
TZOFFSETFROM:+0900
TZOFFSETTO:+0900
TZNAME:JST
END:STANDARD
END:VTIMEZONE
BEGIN:VEVENT
UID:749816@techplay.jp
SUMMARY: オープンソースのSSO「OpenAM/Keycloak」とID管理「Keys
 pider」のサポート ～各ソフトウェアの紹介とサポート
 サービスの紹介～
DTSTART;TZID=Asia/Tokyo:20190920T150000
DTEND;TZID=Asia/Tokyo:20190920T163000
DTSTAMP:20260420T042052Z
CREATED:20190910T060031Z
DESCRIPTION:イベント詳細はこちら\nhttps://techplay.jp/event/74981
 6?utm_medium=referral&utm_source=ics&utm_campaign=ics\n\n本セミナー
 は終了いたしました。\n\nお申込・ご来場ありがとうご
 ざいました。\n\n資料は、ご来場者のみ配布となりまし
 たので一般への公開はございません。ご了承ください
 ませ。\n\n\n\n\n\n\n\n以下のような方に対するセミナーで
 す。\n\n1) シングルサインオンを検討している。\n\n2) ID
 aaSもいいけれど、より自由度の高いものがないか探し
 ている。\n\n3) オープンソースをうまく利用してトータ
 ルコストを抑えられたらいい。\n\n4) OpenAM、Keycloak、Keys
 piderというオープンソースがあるが概要を知りたい。\n
 \n5) サポートサービスの内容について知りたい。\n\nオ
 ープンソースのシングルサインオンと統合ID管理\n\nか
 もめエンジニアリングは、オープンソースのOpenAMやKeyc
 loakをベースとしたシングルサインオンソリューション
 「KAMOME SSO」を2016年から提供しています。\n\nさらに、
 オープンソースの統合ID管理ツール「Keyspider」を開発
 し、公開しています。\n\n100万ユーザーを持つECサイト
 から、企業内システムの認証連携、中央官公庁のサー
 ビスシステムなど、さまざまな規模や用途で実績を積
 んできました。\n\n技術的サポートや構築支援などを提
 供することで、オープンソースに不安を抱いていたお
 客さまにも安心して利用いただいています。\n\n本セミ
 ナーでは、まずオープンソースのOpenAM、Keycloak、Keyspide
 rについて、ご紹介します。\n\nオープンソースのサポ
 ートについて\n\nまた、\n\nオープンソースに必要なサ
 ポートは？　そして導入までの支援にはどんなものが
 ある？\n\nという疑問にお答えするために、サポートサ
 ービスの内容について、ご紹介します。\n\n※本セミナ
 ーはエンジニア向けの内容ではありません。\n\n※競合
 ・同業の企業の方のご参加はご遠慮いただいておりま
 す。ご了承ください。\n\nプログラム\n\n14:30～15:00　受
 付\n\n15:00～15:45　セッション\n\nかもめエンジニアリン
 グ株式会社　潮村剛\n\n15:45～16:30　質疑応答、ディス
 カッション\n\n主催\n\nかもめエンジニアリング株式会
 社\n\n当日会場アクセスに関するお問合せ\n\n03-3254-8787\n
 \nセミナー事務局\n\nマジセミ株式会社\n\n\n\n※当日は
 名刺を2枚お持ち下さい。\n\n※競合もしくは競合にな
 る可能性のある事業者様や、個人としての方は、当社
 判断によりご遠慮頂く場合がございます。予めご了承
 下さい。\n\n※ご記載頂いた内容、及び当日受付でご提
 示頂いた名刺情報は、マジセミ株式会社にて収集し、
 マジセミ株式会社／オープンソース活用研究所 および
 主催・共催・協賛・協力・講演の各企業に提供させて
 頂きます。ご記載を頂いた個人情報はマジセミ株式会
 社／株式会社オープンソース活用研究所および主催・
 共催・協賛・協力・講演企業にて厳重に管理し、サー
 ビス、製品、セミナー、イベントなどのご案内に使用
 させて頂き、また各社のメルマガに登録させていただ
 きます。ご記載いただいた個人情報は、法律に基づい
 た、警察等の行政機関や司法機関からの要請があった
 場合を除き、第三者には提供致しません。\n\n〔お問合
 せ先　及び　個人情報保護管理者〕　株式会社オープ
 ンソース活用研究所 個人情報保護管理者　連絡先：03-
 6809-1257
LOCATION:エッサム神田2号館　2-702 東京都千代田区内神田
 ３－２４－５ 
URL:https://techplay.jp/event/749816?utm_medium=referral&utm_source=ics&utm
 _campaign=ics
END:VEVENT
END:VCALENDAR
