BEGIN:VCALENDAR
VERSION:2.0
PRODID:-//https://techplay.jp//JP
CALSCALE:GREGORIAN
METHOD:PUBLISH
X-WR-CALDESC:高鮮度な情報共有！イケてるチームが当たり
 前にやってる開発プロジェクトの進め方：第９回デジ
 マ運営勉強会
X-WR-CALNAME:高鮮度な情報共有！イケてるチームが当たり
 前にやってる開発プロジェクトの進め方：第９回デジ
 マ運営勉強会
X-WR-TIMEZONE:Asia/Tokyo
BEGIN:VTIMEZONE
TZID:Asia/Tokyo
BEGIN:STANDARD
DTSTART:19700101T000000
TZOFFSETFROM:+0900
TZOFFSETTO:+0900
TZNAME:JST
END:STANDARD
END:VTIMEZONE
BEGIN:VEVENT
UID:749867@techplay.jp
SUMMARY:高鮮度な情報共有！イケてるチームが当たり前に
 やってる開発プロジェクトの進め方：第９回デジマ運
 営勉強会
DTSTART;TZID=Asia/Tokyo:20190926T163000
DTEND;TZID=Asia/Tokyo:20190926T190000
DTSTAMP:20260423T111458Z
CREATED:20190910T061511Z
DESCRIPTION:イベント詳細はこちら\nhttps://techplay.jp/event/74986
 7?utm_medium=referral&utm_source=ics&utm_campaign=ics\n\nWeb担当者さ
 んや現場でWeb運営をしているディレクターさんが中心
 となって、「デジタルマーケティングの運営でどうや
 って成果を出していくか？」というテーマについて、
 知恵と経験を共有していく勉強会。\n第９回となる今
 回のテーマはこちら。\n「高鮮度な情報共有！杓子定
 規でないツールの活用事例！！イケてるチームが当た
 り前にやってる開発プロジェクトの進め方」\nプロジ
 ェクトマネージャーとして数多くの事業開発の現場に
 携わってきた、大内 貴則さん（株式会社 ジルマーケ
 ティングアソシエイツ 社主）をお迎えして、新規のWeb
 事業開発において、プロジェクトメンバー内でのスピ
 ーディーな意思疎通とプロジェクト進行を実現させる
 ために、どのような情報共有方法やツールの活用がイ
 ケてるのか、実際の事例を踏まえながらお話していた
 だきます。\nこんな方向けの勉強会です\n新規Webサービ
 ス企画担当者\n自社のWebサイトやデジタルマーケティ
 ングの運営担当者\nプロジェクトマネジメントノウハ
 ウを学びたいWebディレクターやクリエイター\n\n\n\n10〜
 20名程度の規模で、参加者間の距離が近く、気軽に疑
 問や質問を直接聞ける雰囲気を作っていきたいと思っ
 ています。勉強会の後の軽い懇親会の時間もご用意し
 ています。\n社外のネットワークを広げたいWeb担当者
 さんや、マーケティングに興味のある方でしたら、ど
 なたでも歓迎です。どうぞお気軽にお越しください。\
 n過去の開催レポート\n【開催報告】第八回デジマ運営
 勉強会「企業のSNSで有効なフォロワーを獲得するには
 ？」\nhttps://blog.directorbank.co.jp/dejiben_20190724\n【開催報告
 】第七回デジマ運営勉強会「これからのWebディレクタ
 ーに求められる価値とは？」\nhttps://blog.directorbank.co.jp/
 dejiben_20190522\n【開催報告】第六回デジマ運営勉強会「
 【事例紹介】自社の顧客にフィットするコンテンツマ
 ーケティング」\nhttps://blog.directorbank.co.jp/dejiben_20190320\n
 【開催報告】第五回デジマ運営勉強会 「コンテンツマ
 ーケティングが上手くいく会社とそうでない会社の違
 い」\nhttps://www.webtanguide.jp/column/report-dejiben05/\n【開催報
 告】第四回デジマ運営勉強会 「行き詰まらないための
 コンテンツマーケティング運営」\nhttps://www.webtanguide.jp
 /column/report-dejiben04/\n【開催報告】第三回デジマ運営勉
 強会「ブランディングの重要性と今後のEC業界」\nhttps:
 //www.webtanguide.jp/column/report-dejiben03/\n今回の勉強会のテ
 ーマ\n①高鮮度な情報共有！杓子定規でないツールの
 活用事例！！イケてるチームが当たり前にやってる開
 発プロジェクトの進め方\n皆さんの携わっている開発
 プロジェクトは、鮮度が良いまま情報共有ができてい
 ますか？エクセルやパワポのドキュメントワークに時
 間をとられてませんか？すぐに話し合うべき議論を何
 日も寝かせてませんか？\n市場ニーズの変化速度や開
 発手法の進化により、サービス開発の工期の短縮や、
 その後のPDCAの高回転サイクルは一層のスピードアップ
 が求められるようになりました。\n主に新規サービス
 やプロダクト開発において、主にディレクターの観点
 から、鮮度を下げない情報共有方法、杓子定規でない
 ツールの活用事例、進め方を事例を交えてお伝えしま
 す！\nスピーカー：\n大内　貴則様 （株式会社 ジルマ
 ーケティングアソシエイツ 社主）\nプロフィール：\n
 大手SIerにて数千人月という途方も無い基幹システムの
 開発に従事後、組織歯車から主プレイヤーを目指し小
 規模なクリエイティブ会社のWebデザイナーに転職。\n
 一定の経験値を習得後、フィーチャーフォンからスマ
 ホへの変革期と、PCからモバイルへの一大市場シフト
 で、今までの経験がほとんどリセットされ、呆然とし
 た気持ちを味わいながらも、これはチャンスだ！とモ
 バイル事業に転身。モバイル分野の新基事業立ち上げ
 のため、独立系SIerのピーエスシーに転職。\nタイムワ
 ーナーグループとの共同事業など複数のWebメディアの
 立ち上げや、NTTドコモ社とのAndroid/iOSアプリR&D、資生
 堂グループのモバイルマーケティングなど月間460時間
 超の濃厚かつストイックなスタイルで、社内外を巻き
 込みながらおそらく100以上のプロジェクト立ち上げを
 実施。\nその後OtoOベンチャーにて新規事業部や経営企
 画を経験後、独立。ジルマーケティングではヘルスケ
 ア業界（ヘルスツーリズム、IoT、不妊治療等）、ブロ
 ックチェーン、セキュリティ、DMO（ツーリズム地方観
 光創生）など、多数の「人の生活になくてはならない
 基盤となるものをテクノロジーで再構築する」をテー
 マに、分野で事業開発やチームビルディングを行って
 います。\n趣味はお酒とサーキット走行。\n②デジタル
 広告の配信を効率化する「データフィード最適化ツー
 ル」のご紹介\n広告フォーマットに商品・サービス情
 報を接続する手段としてデータフィードが一般的にな
 ってきました。\nそれら広告の導入やパフォーマンス
 改善にあたり、クリエイティブを想定した適切なフィ
 ード設計や、複数の広告配信をマネジメントする手法
 について重要性が高まっています。\n広告配信に連動
 したフィード活用の動向や、ツールを活用した運用の
 ポイントなどをご紹介します。\nスピーカー：\n宮下　
 正伸様 （ニフティネクサス株式会社 デジタルマーケ
 ティング事業部）\nプロフィール：\n大手ショッピング
 モールでのECコンサルティング、通信キャリアでのWeb
 サービス企画などを経て、\n2009年にニフティネクサス
 （当時コマースリンク）にジョイン。\nWeb広告の最新
 情報やノウハウを提供するセミナー講師や大手企業を
 中心としたセールスを担当する。\n③デジマ運用のレ
 ポート作成工数をゼロに！ディレクターバンクが提供
 するレポート自動化サービスのご紹介\nRPAによる業務
 の自動化の流れは、デジタルマーケティング運営にお
 いても最近注目を集めるようになってきました。ディ
 レクターバンクでは、企業のWebサイト運営におけるレ
 ポート作成業務を、RPAツールとgoogleデータポータルと
 いったダッシュボードサービスの活用で自動化してい
 く支援を手がけております。今回は、ディレクターバ
 ンクで提供しているレポート自動化サービスを、具体
 的な事例とともにご紹介させていただきます。\nスピ
 ーカー：\n棟近  直広（ディレクターバンク株式会社  
 代表取締役）\nプロフィール：\n制作プロダクションで
 の企画制作業務を経て、1996年にニフティ株式会社に入
 社。一貫してネットの新規事業の企画、推進業務に携
 わる。2017年に富士通クラウドテクノロジーズ株式会社
 （ニフティ）を退社。ディレクターバンク株式会社を
 仲間と立ち上げ、現在に至る。詳しくはこちら\nタイ
 ムテーブル\n16:15〜  開場受付開始\n16:30〜  開演のご挨
 拶\n16:35〜  「デジタル広告の配信を効率化する「デー
 タフィード最適化ツール」のご紹介」\nスピーカー：
 宮下正伸\n　　ニフティネクサス株式会社デジタルマ
 ーケティング事業部\n16:50〜  「デジマ運用のレポート
 作成工数をゼロに！ディレクターバンクが提供するレ
 ポート自動化サービスのご紹介」\nスピーカー：棟近
 直広\n　　ディレクターバンク株式会社　代表取締役\n
 17:00〜  「高鮮度な情報共有！杓子定規でないツールの
 活用事例！！イケてるチームが当たり前にやってる開
 発プロジェクト進め方」\nスピーカー：大内　貴則様\n
 　　株式会社 ジルマーケティングアソシエイツ 社主\n
 17:50〜  懇親会・名刺交換（ワンドリンク、軽食付き）
 \n18:30〜  中締め\n19:00〜  終了\n開催概要\n日時：2019年9
 月26日（水）16時半〜19時\n場所：ニフティ株式会社18F
 セミナールーム\n　　　東京都新宿区北新宿二丁目21番
 1号　新宿フロントタワー（18階受付）\n　　　https://www
 .nifty.co.jp/company/access/\n会費：1\,500円（税込み）※領収
 書が必要な方は受付で申し付けください。\n主催：デ
 ィレクターバンク株式会社、\n持ち物：名刺（受付に
 て頂戴いたします。また懇親会でも名刺交換を行いま
 すのでご持参ください）\nキャンセルポリシー：\nキャ
 ンセルをされる場合は事前に事務局までご連絡下さい
 。\n代理出席は可能です。開催日当日、申込者のお名
 前で受付をしてください。
LOCATION:ニフティ株式会社 18Fセミナールーム 東京都新宿
 区北新宿二丁目21番1号　新宿フロントタワー
URL:https://techplay.jp/event/749867?utm_medium=referral&utm_source=ics&utm
 _campaign=ics
END:VEVENT
END:VCALENDAR
