BEGIN:VCALENDAR
VERSION:2.0
PRODID:-//https://techplay.jp//JP
CALSCALE:GREGORIAN
METHOD:PUBLISH
X-WR-CALDESC:【東京】TECH BASE 勉強会 〜Deep Learning 最新ユー
 スケース〜【#1】
X-WR-CALNAME:【東京】TECH BASE 勉強会 〜Deep Learning 最新ユー
 スケース〜【#1】
X-WR-TIMEZONE:Asia/Tokyo
BEGIN:VTIMEZONE
TZID:Asia/Tokyo
BEGIN:STANDARD
DTSTART:19700101T000000
TZOFFSETFROM:+0900
TZOFFSETTO:+0900
TZNAME:JST
END:STANDARD
END:VTIMEZONE
BEGIN:VEVENT
UID:749946@techplay.jp
SUMMARY:【東京】TECH BASE 勉強会 〜Deep Learning 最新ユースケ
 ース〜【#1】
DTSTART;TZID=Asia/Tokyo:20190925T193000
DTEND;TZID=Asia/Tokyo:20190925T220000
DTSTAMP:20260425T164105Z
CREATED:20190910T141412Z
DESCRIPTION:イベント詳細はこちら\nhttps://techplay.jp/event/74994
 6?utm_medium=referral&utm_source=ics&utm_campaign=ics\n\n最新テクノ
 ロジーの勉強会を開催します！\nヒューマンアカデミ
 ー TECH BASEでは、エンジニアおよびエンジニアを目指す
 初心者のバックアップを目的とした勉強会を定期的に
 開催することになりました。ヒューマンアカデミー新
 宿校の「TECH BASE ROOM」を会場に、最新テクノロジーの
 勉強会をお届けします！\n今回のテーマ\nファイナンス
 、マーケティング、エンターテインメント、ロボティ
 クス、自動運転、セキュリティなど、様々な分野への
 機械学習および Deep Learning （ディープラーニング、深
 層学習） の活用が進んでいます。それら世界最先端の
 事例の紹介と共に、Deep Learning の課題と可能性につい
 てディスカッションします！初心者歓迎の勉強会です
 。\nゲスト登壇者に、クーガー株式会社の石井 敦氏を
 お呼びしました！「機械学習/Deep Learningの世界最先端
 ユースケース」というタイトルでお話しいただく予定
 です！イベントの最後には、パネルディスカッション
 もありますよ！\n登壇者紹介\n 西田寛輔（とのさまラ
 ボ ）\nとのさまラボ代表。ロボットエバンジェリスト
 ／スマートスピーカーエバンジェリストとして活動し
 ているほか、ヒューマンアカデミー TECH BASEでは、アド
 バイザーに就任。ロボットメディア「ロボスタ」ライ
 ター。ヒトとロボットの音楽ユニット「mirai capsule」メ
 ンバー。\n\n 石井 敦 （クーガー株式会社）\nIBMを経て
 、楽天やインフォシークの大規模検索エンジン開発、
 日米韓を横断したオンラインゲーム開発プロジェクト
 の統括、Amazon Robotics Challenge参加チームへの技術支援や
 共同開発、ホンダへのAIラーニングシミュレーター提
 供、「NEDO次世代AIプロジェクト」でのクラウドロボテ
 ィクス開発統括などを務める。2017年に開始したブロッ
 クチェーン技術コミュニティ「Blockchain EXE」の代表を
 務め、世界10都市以上でイベントを開催。現在、「AIxAR
 xブロックチェーン」によるテクノロジー「Connectome（
 コネクトーム）」の開発を進めている。2018年、スタン
 フォード大学にて特別講義を実施。電気通信大学 客員
 研究員。\n対象となる方\n\n最新のテクノロジーに興味
 のある方\nエンジニアの方、将来エンジニアになりた
 い方\nAI、ディープラーニングに興味のある方\n\nタイ
 ムスケジュール\n\n\n\n時刻\nスケジュール\n\n\n\n\n19:30\n
 受付開始\n\n\n19:40\n受付終了（この時間までにご着席く
 ださい。）\n\n\n19:45\nヒューマンアカデミー TECH BASEの
 ご紹介\n\n\n19:50\nディープラーニング入門（とのさまラ
 ボ：西田氏）\n\n\n20:10\n機械学習/Deep Learningの世界最先
 端ユースケース（クーガー株式会社：石井氏）\n\n\n20:3
 0\n出演者によるパネルトーク\n\n\n21:00\n懇親会\n\n\n21:45\
 n終了（22:00完全撤収）\n\n\n\n会場\nTECH BASE ROOM\nヒュー
 マンアカデミー新宿校\n〒160-0022 東京都新宿区新宿３
 丁目１−１３ 京王新宿追分ビル8F\n\nJR新宿駅南口徒歩3
 分 東京メトロ副都心線丸ノ内線・都営新宿線「新宿三
 丁目駅」A1出口　徒歩2分。\nB1～3Fに、FOREVER21 新宿店が
 ある京王新宿追分ビルの８階です。\n懇親会について\n
 勉強会終了後に、会場で簡単な懇親会を予定しており
 ます。マナーを守ってご参加ください。\n参加費\n\n無
 料\n\n持ち物、その他\n\nお名刺2枚（学生の場合は、身
 分を証明できるものを受付で掲示ください）\n未成年
 者の場合は、受付でその旨をお伝え下さい \n\n主催\nヒ
 ューマンアカデミー TECH BASE\nハッシュタグ\nハッシュ
 タグは、「#TECH_BASE」です！\n撮影について\n当日は取
 材や配信等の写真、動画撮影を行う可能性があります
 。また、SNSへの写真シェアを推奨しております。\nお
 顔などが映り込む場合もありますのでご了承ください
 。（撮影NGの場合は、参加をご遠慮ください。）\n※会
 場には、撮影禁止のエリア等もございます。当日のア
 ナウンスを優先してください。\n注意事項\n\n営業、採
 用、勧誘活動を目的としたご参加はお断りします。\n
 参加できなくなった場合は、お早めにキャンセルをお
 願いします。\nイベントは、やむを得ず変更・中止さ
 せて頂く場合があります。\nその際は、connpassのメッセ
 ージでご連絡します。\n当日の無断キャンセルが発覚
 した場合、弊社が関係するイベント等への参加をお断
 りする可能性があります。\n
LOCATION:ヒューマンアカデミー新宿校 TECH BASE ROOM 東京都
 新宿区新宿3－1－13 (京王新宿追分ビル8F)
URL:https://techplay.jp/event/749946?utm_medium=referral&utm_source=ics&utm
 _campaign=ics
END:VEVENT
END:VCALENDAR
