BEGIN:VCALENDAR
VERSION:2.0
PRODID:-//https://techplay.jp//JP
CALSCALE:GREGORIAN
METHOD:PUBLISH
X-WR-CALDESC:Cookpad Product Kitchen #4　ユーザー体験を支える検
 索・マッチング技術
X-WR-CALNAME:Cookpad Product Kitchen #4　ユーザー体験を支える検
 索・マッチング技術
X-WR-TIMEZONE:Asia/Tokyo
BEGIN:VTIMEZONE
TZID:Asia/Tokyo
BEGIN:STANDARD
DTSTART:19700101T000000
TZOFFSETFROM:+0900
TZOFFSETTO:+0900
TZNAME:JST
END:STANDARD
END:VTIMEZONE
BEGIN:VEVENT
UID:749949@techplay.jp
SUMMARY:Cookpad Product Kitchen #4　ユーザー体験を支える検索
 ・マッチング技術
DTSTART;TZID=Asia/Tokyo:20190925T193000
DTEND;TZID=Asia/Tokyo:20190925T220000
DTSTAMP:20260425T170633Z
CREATED:20190910T141421Z
DESCRIPTION:イベント詳細はこちら\nhttps://techplay.jp/event/74994
 9?utm_medium=referral&utm_source=ics&utm_campaign=ics\n\nユーザー体
 験を支える検索・マッチング技術\n「発見をふやす検
 索」「好きなものが見つかる検索」「マッチングが叶
 う検索」など、エンドユーザーにとって価値のある検
 索体験を追求する三社が、実際の事例を踏まえながら
 開発の裏側をお話しします。各社がどのようにユーザ
 ーを捉え、検索で何を実現しようとしているのか、様
 々な立場にあるユーザーのニーズをどう叶えているの
 かなど、参加者のみなさんとも積極的に知見や課題を
 共有し、情報交換をできればと思っております。\nCookp
 ad Product Kitchenについて\nサービスを作ることで体験を
 提供し、ユーザーに価値を届ける 「サービス開発者」
 。しかし、サービス開発を続ける上ではいろいろな困
 難が立ちはだかります。そのような中、どのようにサ
 ービス開発を進め、どの段階でどう意思決定するのか
 などサービス開発の手法や考え方について、知見や学
 びを共有する勉強会が「Cookpad Product Kitchen」です。\n登
 壇者（順不同）\nクックパッド株式会社 VP of Search 兼山
  元太\n発表テーマ\n「クックパッドのレシピ検索とレ
 シピコミュニティ」\n発表内容\nクックパッドが運営す
 るレシピサービス「クックパッド」についてレシピ検
 索にフォーカスを置いてご紹介します。事業やレシピ
 コミュニティを大きく成長させるためのコアの体験の
 一つとしてのレシピ検索やそれを支える技術、行動ロ
 グ分析などについてご紹介します。\n\nプロフィール\n
 ソフトウェアエンジニア。ECサービス運営企業を経て20
 10年クックパッドに入社。レシピ検索のバックエンド
 ・UI・アルゴリズム・分析システム、有料会員事業の
 商品開発に携わる。世界中で使われる道具を作りたい
 。\nGitHub: penguinco\nTwitter: @PENGUINANA_\n株式会社メルカリ D
 irector of Search 森山 大朗\n発表テーマ\n「メルカリ商品
 検索のUI/UXと新たな挑戦」\n発表内容\n検索技術研究会
 が主催するイベント「Search Engineering Tech Talk #1」での講
 演「UI／UXが無意識に検索行動に与える影響」でお話
 しなかった内容や、最近メルカリの検索チームが取り
 組んでいる新たな挑戦についてお話します。\n\nプロフ
 ィール\n早稲田大学卒業後、リクルートやスタートア
 ップ立ち上げを経てビズリーチに入社。検索エンジニ
 アとして求人検索エンジンの開発と精度改善に従事。2
 016年にメルカリに入社。プロダクトマネージャー兼エ
 ンジニアリングマネージャーとしてUS/JP版メルカリの
 検索改善やパーソナライズ、AI出品などの新機能をリ
 リースする一方、カスタマーサポートにもAIを導入し
 業務効率を改善。\nGitHub: tairosan\nTwitter: @tairo\n株式会社
 エウレカ Search & Discovery Expert 小島 広樹\n発表テーマ\n
 「Pairsの検索体験について」\n発表内容\nオンラインデ
 ーティングであるPairsの主要機能である検索機能につ
 いて、機能自体とそれを動かすシステムの紹介や、過
 去に取り組んだ課題を改善例踏まえつつお話します。\
 n\nプロフィール\n2014年エウレカに新卒入社。サーバサ
 イドエンジニアとしてPairsを開発・運営。現在は検索
 周りの機能別責任者として検索システム・アルゴリズ
 ムの改善を主に担当。\nGitHub: bsoo\nTwitter: @__bsoo\n日時/
 場所\n2019/9/25(水)\n19:15~ 開場\n19:30~ 開始（登壇とQ&Aセッ
 ション）\n20:50~ 懇親会 ※参加無料\nクックパッド株式
 会社 東京都渋谷区恵比寿4-20-3 恵比寿ガーデンプレイ
 スタワー12F\n※ JR山手線 恵比寿駅より 徒歩約10分\n対
 象（本イベントはエンジニアの方を対象にしています
 ）\n\n検索技術に興味がある方\n検索に関わるソフトウ
 ェア開発，データ分析に携われている方\nクックパッ
 ドのサービス開発・技術に興味がある方\n学生の方の
 ご参加も大歓迎です！\n\n注意事項\n\n内容は予告なく
 変更される場合がございます。\n参加目的が不適切だ
 と判断される場合には、運営側で参加をキャンセルさ
 せていただく場合がございます。あらかじめご了承く
 ださい。\n補欠者の方はご来場いただいても、ご入場
 いただくことができませんのでご了承ください。\nイ
 ベントの途中参加・途中退出は、やむを得ない場合を
 除き、原則お断りいたします。\n会場は禁煙となって
 おります。\n懇親会ではアルコールの提供があります
 が、未成年者の方や車を運転される方の飲酒は法律で
 禁止されています。\n食事の提供がございますのでア
 レルギー等ある方は自己判断でお願いします。\nイベ
 ントレポート作成のため、お写真を撮らせていただく
 ことがございます。あらかじめご了承ください。\nキ
 ャンセルされる場合はイベントの3日前までにお願いい
 たします。\n
LOCATION:クックパッド株式会社 (恵比寿ガーデンプレイス
 タワー12F) 東京都渋谷区恵比寿4-20-3
URL:https://techplay.jp/event/749949?utm_medium=referral&utm_source=ics&utm
 _campaign=ics
END:VEVENT
END:VCALENDAR
