BEGIN:VCALENDAR
VERSION:2.0
PRODID:-//https://techplay.jp//JP
CALSCALE:GREGORIAN
METHOD:PUBLISH
X-WR-CALDESC:VRデバイスをバラそうの会
X-WR-CALNAME:VRデバイスをバラそうの会
X-WR-TIMEZONE:Asia/Tokyo
BEGIN:VTIMEZONE
TZID:Asia/Tokyo
BEGIN:STANDARD
DTSTART:19700101T000000
TZOFFSETFROM:+0900
TZOFFSETTO:+0900
TZNAME:JST
END:STANDARD
END:VTIMEZONE
BEGIN:VEVENT
UID:749951@techplay.jp
SUMMARY:VRデバイスをバラそうの会
DTSTART;TZID=Asia/Tokyo:20190916T130000
DTEND;TZID=Asia/Tokyo:20190916T190000
DTSTAMP:20260422T090808Z
CREATED:20190910T141520Z
DESCRIPTION:イベント詳細はこちら\nhttps://techplay.jp/event/74995
 1?utm_medium=referral&utm_source=ics&utm_campaign=ics\n\n株式会社Mogu
 raでの長年の使用により動作不良を起こしてしまった
 デバイスたちを供養する会。\n動作しないデバイスに
 関してはそのまま捨てるのももったいないため分解し
 て知見を共有できればと思います。\nまた最新のVR/ARデ
 バイスの検証会も同時に行います。\n※デバイスの体
 験会ではないためエンジニア、クリエイターではない
 方は応募をご遠慮願います。\n募集枠について\nデバイ
 スをバラしたい人\nデバイスを分解する役割の方。中
 身で凄いところなどあれば随時解説をお願いいたしま
 す\nこちらのチケットで来る方は工具は持参でお願い
 いたします。\n分解できるデバイス\n・Oculus Go\n・Mirage 
 Solo\n・Windows MR ヘッドセット（Dell）＋WinMRコントロー
 ラー\n・ベースステーション1.0\n・VIVEコントローラー
 ２本\nand more\n※分解するデバイスに関しては株式会社M
 oguraで購入したものとなります。デバイスの持ち込み
 はご遠慮ください。\nデバイスを検証したい人\n最新の
 デバイスを検証する役割の方。検証したのちに使い方
 やTips、面白い点など共有をお願いいたします。\n検証
 用のPCはご持参いただけますと非常にありがたいです
 。ない場合はこちらで用意することも可能です。\n検
 証できるデバイス\n・Azure Kinect\n・Realsense D435i\n・Vive Pr
 o Eye\n・Valve Index\n・ManusVR\n・Oculus Rift S\n・Vive Focus Plus\n
 and more\nイベント概要\n日時：2019年9月16日（月） 13:00～
 19:00（随時解散）\n場所：東京都千代田区飯田橋1-9-5 SKB
 ビル 2F\n対象：VR/ARデバイスの開発経験（もしくはそれ
 に準ずるもの）のあるエンジニア、クリエイター\n参
 加費：無料\n募集人数：10名程度\n■本イベントの対象
 者\n・VR/ARデバイスの開発経験（もしくはそれに準ずる
 もの）のあるエンジニア、クリエイター\n※デバイス
 の体験会ではないためエンジニア、クリエイターでは
 ない方は応募をご遠慮願います。\n■注意事項\n・最寄
 りのコンビニまでは徒歩１～2分です。\n・会場は禁煙
 となっております。\n・こちらで用意する検証用PCは追
 加されたデータは後程削除いたします。データなど保
 存したい方は記憶媒体をご用意ください。\n・分解な
 どの際に発生した事故やけがなどに関しては自己責任
 でお願いいたします。\n・後片付けにご協力いただけ
 ますと大変ありがたいです。\n・当日の様子はMoguLive等
 にて記事化する可能性があります（顔出しNGの方は顔
 出しなし）。御承知おきください。
LOCATION:株式会社Mogura 東京都千代田区飯田橋1-9-5\, SKBビル
 2F
URL:https://techplay.jp/event/749951?utm_medium=referral&utm_source=ics&utm
 _campaign=ics
END:VEVENT
END:VCALENDAR
