BEGIN:VCALENDAR
VERSION:2.0
PRODID:-//https://techplay.jp//JP
CALSCALE:GREGORIAN
METHOD:PUBLISH
X-WR-CALDESC:【初参加歓迎】React/Redux/TypeScript/Apollo/Expo他 勉
 強会・質問会
X-WR-CALNAME:【初参加歓迎】React/Redux/TypeScript/Apollo/Expo他 勉
 強会・質問会
X-WR-TIMEZONE:Asia/Tokyo
BEGIN:VTIMEZONE
TZID:Asia/Tokyo
BEGIN:STANDARD
DTSTART:19700101T000000
TZOFFSETFROM:+0900
TZOFFSETTO:+0900
TZNAME:JST
END:STANDARD
END:VTIMEZONE
BEGIN:VEVENT
UID:750105@techplay.jp
SUMMARY:【初参加歓迎】React/Redux/TypeScript/Apollo/Expo他 勉強
 会・質問会
DTSTART;TZID=Asia/Tokyo:20190925T193000
DTEND;TZID=Asia/Tokyo:20190925T210000
DTSTAMP:20260423T101629Z
CREATED:20190911T141351Z
DESCRIPTION:イベント詳細はこちら\nhttps://techplay.jp/event/75010
 5?utm_medium=referral&utm_source=ics&utm_campaign=ics\n\nWebアプリ開
 発塾 React/Redux/TypeScript/Apollo/Expo他 勉強会・質問会\nは
 じめに\nMeteor Fanは2015年頃より活動しているグループで
 、JavaScriptのフレームワークであるMeteor\, React\, Apollo Gra
 phQLを中心にWebアプリ開発の技術を学ぶイベントを開催
 しています。\n本勉強会は2019年1月から水曜日の夜に開
 催するプログラミング勉強会です。初心者から初級者
 ・中級者向けにJavaScriptを中心とした技術を学ぶ場とし
 ています。自習をしつつ適宜質問できるスタイルで進
 めますので、ご活用ください。\n対象とする技術スタ
 ックは、React\, JavaScript\, TypeScript\, Redux\, Apollo GraphQL\, Ex
 po React Nativeなどを想定していますが、それに限定する
 ものではありません。\n開催概要\n\n日時　: 水曜日 19:3
 0-21:00\n場所　: ギークオフィス恵比寿 (東京都渋谷区恵
 比寿4-7-6 KTビル3F)\n参加費: 2000円/1回（当日現金でお支
 払いください、お釣りの必要のないようにお願いしま
 す）\n持ち物: ノートPC\n\n1回だけでの参加でも問題あ
 りません。\n対象者\n\nJavaScript初心者\nReact初心者\nGraphQ
 L初心者\nWebアプリ開発に挑戦する初心者\nさらなる高
 みを目指す初級者・中級者\n\nタイムテーブル\n\n\n\n時
 間\n内容\n\n\n\n\n19:20-19:30\n受付\n\n\n19:30-20:50\n自習・質
 問会\n\n\n20:50-21:00\n振り返り、解散\n\n\n\n進め方につい
 て\n下記を参考に進めてください。\n\n会場にお越しい
 ただき、受付(参加費のお支払い)をする\n(初参加者) WiF
 iの設定をする\n(初参加者) Slackに参加する (招待リンク
 より参加した後、#webappjukuのチャンネルに参加する)\n
 自習開始\n質問会 (適宜聞きたいことを質問していただ
 けます、途中自己紹介タイムあり)\n振り返り\n退室\n\n
 教材リスト\n自習を進めるにあたって、参考にする教
 材のリストです。\nこれ以外の好きな教材を用いるこ
 とでも問題ありません。\n教材リストはこちらから\n主
 催者について\n\nDaishi Kato\nJavaScript開発を中心に活動す
 るフリーランスプログラマー\nOSS活動は GitHub Medium Twitt
 er で公開\n\n会場について\nギークオフィス恵比寿は会
 員制のシェアオフィスです。\n様々なバックグラウン
 ドの会員が日常的な仕事に使ったり、イベントや勉強
 会などを行ったりするのに使われています。\n連絡方
 法\n\n初めて参加する方で、主催者に連絡を取りたい場
 合は、本イベントページの「イベントへのお問い合わ
 せ」をお使いください\nもしくは、本コミュニティのSl
 ackに参加いただき、#webappjukuチャンネルにご連絡いた
 だくことも可能です\n2回目以降の方は、同様にSlackで
 ご連絡ください\n\n注意事項\n\n会場まではJR恵比寿駅東
 口から徒歩3分ですが少し迷いやすいです\n写真による
 会場までの道順を参照して気をつけてお越しください\
 n領収書が必要な方は参加申込時のアンケートにてお知
 らせください\n飲み物など必要であればご持参くださ
 い\n会場となるオフィスのドアが開いていない場合は
 呼び鈴を鳴らしてください\n
LOCATION:ギークオフィス恵比寿 東京都 渋谷区恵比寿4-7-6
URL:https://techplay.jp/event/750105?utm_medium=referral&utm_source=ics&utm
 _campaign=ics
END:VEVENT
END:VCALENDAR
