BEGIN:VCALENDAR
VERSION:2.0
PRODID:-//https://techplay.jp//JP
CALSCALE:GREGORIAN
METHOD:PUBLISH
X-WR-CALDESC:Pythonで学ぶ金融工学・数理ファイナンス入門
 ハンズオン #3 【ブラックショールズモデル編】
X-WR-CALNAME:Pythonで学ぶ金融工学・数理ファイナンス入門
 ハンズオン #3 【ブラックショールズモデル編】
X-WR-TIMEZONE:Asia/Tokyo
BEGIN:VTIMEZONE
TZID:Asia/Tokyo
BEGIN:STANDARD
DTSTART:19700101T000000
TZOFFSETFROM:+0900
TZOFFSETTO:+0900
TZNAME:JST
END:STANDARD
END:VTIMEZONE
BEGIN:VEVENT
UID:750106@techplay.jp
SUMMARY:Pythonで学ぶ金融工学・数理ファイナンス入門ハン
 ズオン #3 【ブラックショールズモデル編】
DTSTART;TZID=Asia/Tokyo:20190925T200000
DTEND;TZID=Asia/Tokyo:20190925T220000
DTSTAMP:20260425T172155Z
CREATED:20190911T141352Z
DESCRIPTION:イベント詳細はこちら\nhttps://techplay.jp/event/75010
 6?utm_medium=referral&utm_source=ics&utm_campaign=ics\n\n内容概要\n
 金融工学、数理ファイナンスに興味があるけれど、難
 しそうで手付かずになっていたり、\nデリバティブや
 ブラックショールズ方程式で挫折したりなど、興味は
 あるもののなかなか\n習得にまでは至れていない方も
 多いのではないでしょうか。\n\nそれを受けて本企画で
 は、ポートフォリオ理論、デリバティブ、ブラックシ
 ョールズ方程式\nという金融工学の基本について全3回
 のPythonでのハンズオンを通して理解することを目指し
 、\n企画させていただきました。\n\n第二回ではデリバ
 ティブの価格付け理論に関して取り扱っていきます。\
 nこれを機に金融工学の知見を身につけましょう！！\n\
 n\n\nアジェンダ\n①確率の基礎とポートフォリオ選択理
 論，デリバティブの価格付け理論[1]　←　8/28開催\n・
 数理ファイナンスとは？～統計に依らない資産価格付
 け理論～\n※確率空間と確率変数\n※確率分布と期待値
 \n※分散と共分散\n・ポートフォリオ選択理論\n・デリ
 バティブとは\n・無裁定(Arbitrage)\n\n②デリバティブの
 価格付け理論[2]　←　9/11開催\n・2項1期間モデルと2項T
 期間モデル\n・連続時間モデル\n・確率過程とブラウン
 運動、伊藤の公式\n\n③ブラックショールズモデルと感
 度解析　←　9/25開催\n・ブラックショールズ偏微分方
 程式\n・デルタ，ガンマヘッジ\n・ボラティリティスマ
 イル\n\n※この内容は原則説明はする予定ですが、状況
 次第で若干変更になる場合があります。\n\n\n\n開催日
 程\n9/25（水）　20:00〜22:00\n\n受付　：19:50〜20:00\n講義
 　：20:00〜22:00\n\n※ 途中5~10分程度、休憩をはさみます
 。\n\n\n\n会場\n水道橋駅、神保町駅、九段下駅周辺\n千
 代田区西神田2-7-14 YS西神田ビル2F\n\n\n\n対象者\n・金融
 工学、数理ファイナンスに興味のある方\n・高校数学
 の知識は問題のない方\n・Pythonを用いて金融工学、数
 理ファイナンスを直感的に理解したい方\n・ポートフ
 ォリオの最適化に関して興味のある方\n\n\n\n当日のお
 持物\n演習のためのノートやメモ帳\n筆記用具\nノートP
 C（なくても問題ないので、持ち込み可能であればで大
 丈夫です）\n\n\n\n費用\n・4\,000円（2時間）\n\n※ 領収書
 発行の際は事務手数料として（法人料金も兼ねてます
 ）追加1\,000円いただきます。\n\n\n\n定員\n8名（人数に
 合わせて調整します、別媒体でも募集していますので
 申し込み人数は当日参加者数を反映しません）\n\n\n\n
 講師プロフィール\n市村 峻也\n東京工業大学理学院 数
 学系数学コース 修士課程在籍中。\n確率解析(確率微分
 方程式)、数理ファイナンスが専門。\n中高の数学の教
 員免許を持ち、予備校での数学指導歴は7年になる。\n2
 019年4月より、私立高校で数学の教員として勤務も行っ
 ている。\n\n\n\nご参加にあたってのお願い\n無断欠席や
 前日以降のキャンセルに関しては当日人数読めなくな
 り非常に迷惑なので\n基本的に行わないようにお願い
 します。（直前参加は定員的に問題なければ歓迎です
 ！）\n体調不良、職務都合、ご家庭の事情などどうし
 てものケースは別途ご連絡いただくか、\nイベントへ
 のお問い合わせよりご連絡いただけますと嬉しいです
 。\n上記がひどいアカウントに関してはブラックリス
 ト処理を行い以後の参加をお断りさせて\nいただきま
 すので、その点だけ予めご了承ください\n（7割以上来
 れる前提でのお申し込みと前日以降のキャンセルはメ
 ッセージでのご連絡を\nいただくということだけ気を
 つけていただければ大丈夫だと思います）\n\nモチベー
 ションの高い参加者の方を重視する運営としていきた
 いと考えています。\nご協力のほど、よろしくお願い
 いたします。\n
LOCATION:水道橋駅周辺 千代田区西神田2-7-14 YS西神田ビル2F
URL:https://techplay.jp/event/750106?utm_medium=referral&utm_source=ics&utm
 _campaign=ics
END:VEVENT
END:VCALENDAR
