BEGIN:VCALENDAR
VERSION:2.0
PRODID:-//https://techplay.jp//JP
CALSCALE:GREGORIAN
METHOD:PUBLISH
X-WR-CALDESC:はじめての GCP 〜 AWS ユーザー向け GCP データ
 分析〜
X-WR-CALNAME:はじめての GCP 〜 AWS ユーザー向け GCP データ
 分析〜
X-WR-TIMEZONE:Asia/Tokyo
BEGIN:VTIMEZONE
TZID:Asia/Tokyo
BEGIN:STANDARD
DTSTART:19700101T000000
TZOFFSETFROM:+0900
TZOFFSETTO:+0900
TZNAME:JST
END:STANDARD
END:VTIMEZONE
BEGIN:VEVENT
UID:750252@techplay.jp
SUMMARY:はじめての GCP 〜 AWS ユーザー向け GCP データ分析
 〜
DTSTART;TZID=Asia/Tokyo:20190917T140000
DTEND;TZID=Asia/Tokyo:20190917T180000
DTSTAMP:20260423T125525Z
CREATED:20190912T140011Z
DESCRIPTION:イベント詳細はこちら\nhttps://techplay.jp/event/75025
 2?utm_medium=referral&utm_source=ics&utm_campaign=ics\n\nAWSユーザー
 向けに、GCP でデータ分析基盤構築の入門ハンズオンを
 開催します。\n実際にAWS S3からデータを移行して、BigQu
 ery™️ 上で可視化まで一連の流れを体感できます。\n\
 n※必要事項\n\n・Webブラウザ(Google Chrome™️ 推奨)を使
 用可能なパソコンをお持ちください。\n・AWSのS3に指定
 のデータを格納した状態でお越しください。\n・GCP の
 請求アカウント/プロジェクトを作成の上ご来場くださ
 い。\n（S3に格納するデータ/ GCP の請求アカウントとプ
 ロジェクトの作成方法については別途、後日ご案内差
 し上げます）。\n\n講演内容\n\nご挨拶・BigQuery™️のご
 紹介（15分）\n講演者：クラウドエース株式会社 第1営
 業部 松本・萩生\n講演内容    BigQuery のご紹介と、なぜ
  AWS を使用してるのに、BQ を利用するケースが増えて
 いるのか、ご説明いたします。\n\nハンズオン（2時間45
 分）\n\n講演者：クラウドエース リードエンジニア　
 富永 裕貴\nハンズオン シナリオ\n\n・公開データセッ
 トをS3に入れてある状態がスタート（事前にAWSの環境
 をご用意ください）\n・用意されたデータセットを GCS
 （バケットの作り方から説明）経由、BQに入れる\n・BQ 
 の使い方（クエリを投げるなど）\n・最後に可視化。
 （データポータルで可視化）\n\nシナリオ説明後、実際
 にハンズオンを開始いたします。\n\n※途中15分の休憩
 を挟みます。\n\nクラウドエースサービス紹介・Q&A（1
 時間）\n\n講演者：クラウドエース株式会社 第1営業部 
 萩生\n\n※セミナー内容は一部変更となる場合がござい
 ます。ご了承下さい。
LOCATION:クラウドエース株式会社12F セミナールーム 東京
 都千代田区大手町2-6-2 日本ビル12F（大手町駅B8a出口直
 結）
URL:https://techplay.jp/event/750252?utm_medium=referral&utm_source=ics&utm
 _campaign=ics
END:VEVENT
END:VCALENDAR
