BEGIN:VCALENDAR
VERSION:2.0
PRODID:-//https://techplay.jp//JP
CALSCALE:GREGORIAN
METHOD:PUBLISH
X-WR-CALDESC:Ethereum Yellow Paper をゆるーく読む会
X-WR-CALNAME:Ethereum Yellow Paper をゆるーく読む会
X-WR-TIMEZONE:Asia/Tokyo
BEGIN:VTIMEZONE
TZID:Asia/Tokyo
BEGIN:STANDARD
DTSTART:19700101T000000
TZOFFSETFROM:+0900
TZOFFSETTO:+0900
TZNAME:JST
END:STANDARD
END:VTIMEZONE
BEGIN:VEVENT
UID:750285@techplay.jp
SUMMARY:Ethereum Yellow Paper をゆるーく読む会
DTSTART;TZID=Asia/Tokyo:20190918T191500
DTEND;TZID=Asia/Tokyo:20190918T211500
DTSTAMP:20260421T234414Z
CREATED:20190912T141645Z
DESCRIPTION:イベント詳細はこちら\nhttps://techplay.jp/event/75028
 5?utm_medium=referral&utm_source=ics&utm_campaign=ics\n\n概要\nEthereum
  Yellow Paperをゆるーく読みます。初心者歓迎。\n学生の
 方は学生証を、その他の方は名刺を必ずご持参くださ
 い。\n会場\nNetrino Tokyo\n主催\nBITBEARS 早稲田大学ブロッ
 クチェーン研究開発団体\nhttps://twitter.com/waseda_bitbears?la
 ng=ja\n注意\n今回のイベントはブロックチェーンの健全
 な発展に貢献するためのものであり投資、採用に関す
 るものではありません。\n投資勧誘はもちろんリクル
 ーティング活動も禁止とします。見つかり次第退場し
 ていただき、以降の勉強会への参加はお断りいたしま
 す。\nOutline\nWe'll read the Ethereum Yellow Paper.\nVenue\nNeutrino T
 okyo\nHost\nBITBEARS Waseda Blockchain R&D Club\nBITBEARS公式HP\nhttps:
 //twitter.com/waseda_bitbears?lang=ja\nNotice\nPlans subject to change wi
 th no prior notification. This is not a meetup for promoting investment a
 nd ICOs. You may be asked to leave if we find you trying to sell or promo
 te something during this event.
LOCATION:Neutrino 東京都渋谷桜丘町12-10
URL:https://techplay.jp/event/750285?utm_medium=referral&utm_source=ics&utm
 _campaign=ics
END:VEVENT
END:VCALENDAR
