BEGIN:VCALENDAR
VERSION:2.0
PRODID:-//https://techplay.jp//JP
CALSCALE:GREGORIAN
METHOD:PUBLISH
X-WR-CALDESC:【初学者向け】HTML.CSSではじめてのwebサイト作
 成！ (キャリア相談つき)
X-WR-CALNAME:【初学者向け】HTML.CSSではじめてのwebサイト作
 成！ (キャリア相談つき)
X-WR-TIMEZONE:Asia/Tokyo
BEGIN:VTIMEZONE
TZID:Asia/Tokyo
BEGIN:STANDARD
DTSTART:19700101T000000
TZOFFSETFROM:+0900
TZOFFSETTO:+0900
TZNAME:JST
END:STANDARD
END:VTIMEZONE
BEGIN:VEVENT
UID:750419@techplay.jp
SUMMARY:【初学者向け】HTML.CSSではじめてのwebサイト作成
 ！ (キャリア相談つき)
DTSTART;TZID=Asia/Tokyo:20190915T133000
DTEND;TZID=Asia/Tokyo:20190915T153000
DTSTAMP:20260423T234133Z
CREATED:20190913T141348Z
DESCRIPTION:イベント詳細はこちら\nhttps://techplay.jp/event/75041
 9?utm_medium=referral&utm_source=ics&utm_campaign=ics\n\nこんな人に
 オススメ\n・プログラミングってものをやった方がい
 いらしいと聞いたことある人\n・Progateなどでやってみ
 たけど次何したらいいの？となってる人\n・将来フリ
 ーランスで活躍したい人\n・とりあえず手に職をつけ
 たい人\n・就活での武器を作りたい人\n・やりたいこと
 やできることがなく将来不安な人\nなどなど\nなぜやっ
 ているのか？(なるべく読んで欲しいです。)\n主体的な
 キャリア選択を応援したい\nこの先何10年と生きて行く
 中で大半の時間を占めるのが仕事です。\n私は今まで
 その仕事を受動的に選択して、後悔をしている社会人
 の方をたくさん見てきました。\nこれから関わる人た
 ちにはそんな思いは絶対にして欲しくない。\nもっと
 多くの方に、本当にやりたいことをやるためや\nやり
 たいこと、できることの幅を広げるために自分にあっ
 たキャリアを主体的に選択してほしい。\nそんな思い
 でこのイベントを開催しています。\nそこで私たちが
 提供できる価値として、\n弊社が運営しているプログ
 ラミングスクールで蓄積されてきた情報を生徒様だけ
 でなく、もっと沢山の方に共有したい\nと思っていま
 す。もちろん生徒様にはより一層の価値提供をさせて
 いただきます。w\nなお、ITに特化した人材関係のお仕
 事もしているので、キャリア関係の情報も沢山提供し
 たいと思っています。\n「もう遅かった」と後になっ
 て後悔するのは自分です。\n「あの時行動してよかっ
 た」と思うのも自分です。\nスキル習得には早すぎる
 ことも遅すぎることもありません。\nまずは、一歩行
 動してみましょう！\n全力でサポートさせていただき
 ます！\n概要\nはじめに\n皆さんでアイスブレイクタイ
 ムを挟み、我々の紹介を軽くさせて頂き、当日の流れ
 や詳細をお伝えします。\nワークショップ\n主に、未経
 験者/初学者を対象にHTML5、CSS3を使ってwebサイトのレイ
 アウトを作成するワークショップです。\nオリジナル
 のテキストを用いてまず基礎的なweb周りの理解からVisu
 al Studio Codeでの環境構築、emmetを活用しながらHTML\,CSSで
 実際にレイアウト作成やアニメーションなども出来れ
 ばと思っています。時間の許す限り進められればと思
 います！\n※プログラミング初心者の方でないと物足
 りない内容になる可能性がございます。\n交流会\n集ま
 った人で交流会のようなものも考えております。ぜひ
 、同じ志をもった人と新しい出会いを作ってください
 。\nなお、弊社ではIT職のキャリア設計などもお手伝い
 させて頂いているので、なにか悩み事や気になってい
 ることなどあれば是非相談に乗らせていただきます！\
 nちょっとしたコミュニティにも参加できます。\nSlack
 というコミュニケーションツールを使った、参加者の
 皆さまで作っていくサロンのようなものに招待します
 ！(もちろん参加は任意です)\nここでは、過去の参加者
 の皆さんが各々学習の進捗や、ためになる情報を共有
 しながら、なにかプロダクトを集まった皆さんで作っ
 たりしていけるような場所にしたいと思っています。\
 nもちろん、我々の方でも、スクールをやっている中で
 のよくある質問や、キャリア関係の良質な情報などを
 配信していきます。\n皆さんのモチベーション維持に
 少しでも繋がれば幸いです！\n日時\n2019年09月15日　13:3
 0~15:30\nアクセス\n東京都豊島区東池袋3丁目7−8 セント
 ヒルズ池袋ワカイビル301\nCodeShip https://www.google.com/maps/p
 lace/CodeShip/@35.7329618\,139.7170293\,15z/data=!4m5!3m4!1s0x0:0x4325a7f
 441c249a1!8m2!3d35.7329618!4d139.7170293\n※池袋駅から徒歩10分\n
 持ち物\nノートパソコンをご持参ください。\n※貸し出
 しはしておりませんのでご了承下さい。\nご注意点\n知
 識の共有およびサービス開発が目的の勉強会です。\n
 ・参加目的が不適切だと判断される場合には、運営側
 で参加をキャンセルさせていただく場合がございます
 。あらかじめご了承ください。\n・イベントの途中参
 加・途中退出は、やむを得ない場合を除き、原則お断
 りいたします。\n・会場は禁煙となっております。\n・
 イベントレポート作成のため、お写真を撮らせていた
 だくことがございます。あらかじめご了承ください。
LOCATION:株式会社ウィモーション 東京都豊島区東池袋3丁
 目7−8 (セントヒルズ池袋ワカイビル301)
URL:https://techplay.jp/event/750419?utm_medium=referral&utm_source=ics&utm
 _campaign=ics
END:VEVENT
END:VCALENDAR
