BEGIN:VCALENDAR
VERSION:2.0
PRODID:-//https://techplay.jp//JP
CALSCALE:GREGORIAN
METHOD:PUBLISH
X-WR-CALDESC:【初心者大歓迎】たった4時間でWebサイトを開
 発！無料プログラミング体験会
X-WR-CALNAME:【初心者大歓迎】たった4時間でWebサイトを開
 発！無料プログラミング体験会
X-WR-TIMEZONE:Asia/Tokyo
BEGIN:VTIMEZONE
TZID:Asia/Tokyo
BEGIN:STANDARD
DTSTART:19700101T000000
TZOFFSETFROM:+0900
TZOFFSETTO:+0900
TZNAME:JST
END:STANDARD
END:VTIMEZONE
BEGIN:VEVENT
UID:750775@techplay.jp
SUMMARY:【初心者大歓迎】たった4時間でWebサイトを開発！
 無料プログラミング体験会
DTSTART;TZID=Asia/Tokyo:20191013T140000
DTEND;TZID=Asia/Tokyo:20191013T180000
DTSTAMP:20260422T042832Z
CREATED:20190917T065215Z
DESCRIPTION:イベント詳細はこちら\nhttps://techplay.jp/event/75077
 5?utm_medium=referral&utm_source=ics&utm_campaign=ics\n\n◆プログラ
 ミング体験会、開催！\n大学生限定プログラミングコ
 ミュニティGeekSalonでは\nゲーム開発コースの無料体験
 会を開催します！\n誰しも少しは気になっているであ
 ろう「プログラミング」\n普段の生活では挑戦しにく
 いですが\nこの機会に、プログラミングに挑戦してみ
 ませんか？\n「自分でもできるのかな…？」\n「そもそ
 もプログラミングって何？！」\nなどなど、どなたで
 も大歓迎です！\nプログラミング初心者はもちろんPCが
 苦手な方も\nGeekSalonのメンターが全力でサポートする
 ので\n安心してご参加ください！！！\nたった3時間で
 、プログラミングを体感\nオリジナルのゲームを開発
 するプログラミング体験会。\nお申込み、お待ちして
 おります！\n【 ゲーム開発コース体験会 】\n▼日時：1
 0月13日(日) 14-18時\n▼会場：GeekSaon京都教室\n〒600-8032 
 京都府京都市下京区中之町583-4 國友ビル4F\n▼持ち物：
 PC（Mac/Windows）\n※貸出PCのご用意がございません。ご
 了承ください。\n▼アクセス\n河原町駅より徒歩3分\n祇
 園四条駅より徒歩6分\n烏丸駅より徒歩10分\n▼GeekSalonの
 公式LINE@の登録をお願いします。\n\n
LOCATION:GeekSalon 京都教室 〒600-8032 京都府京都市下京区中
 之町583-4 國友ビル4F
URL:https://techplay.jp/event/750775?utm_medium=referral&utm_source=ics&utm
 _campaign=ics
END:VEVENT
END:VCALENDAR
