BEGIN:VCALENDAR
VERSION:2.0
PRODID:-//https://techplay.jp//JP
CALSCALE:GREGORIAN
METHOD:PUBLISH
X-WR-CALDESC:fun-tech meetup #13 みんなのサーバレストーク！
X-WR-CALNAME:fun-tech meetup #13 みんなのサーバレストーク！
X-WR-TIMEZONE:Asia/Tokyo
BEGIN:VTIMEZONE
TZID:Asia/Tokyo
BEGIN:STANDARD
DTSTART:19700101T000000
TZOFFSETFROM:+0900
TZOFFSETTO:+0900
TZNAME:JST
END:STANDARD
END:VTIMEZONE
BEGIN:VEVENT
UID:750930@techplay.jp
SUMMARY:fun-tech meetup #13 みんなのサーバレストーク！
DTSTART;TZID=Asia/Tokyo:20190927T190000
DTEND;TZID=Asia/Tokyo:20190927T213000
DTSTAMP:20260420T144046Z
CREATED:20190918T061545Z
DESCRIPTION:イベント詳細はこちら\nhttps://techplay.jp/event/75093
 0?utm_medium=referral&utm_source=ics&utm_campaign=ics\n\nfun-tech meetup 
 #13 みんなのサーバレストーク！\nみんなのサーバレス
 トーク！ 今回はサーバレスについて話そう！\n\nサー
 バレスってどんなことができるの\nサーバレスでモノ
 を作った感想を知りたい！\n\nそんな方にオススメです
 。  \nまた、この勉強会で新たな知見や人と出会ってみ
 ませんか。\nみなさまのご参加をお待ちしております
 ！     \n＊なお今回は、サーバレスの基礎については原
 則として解説いたしません。あらかじめご了承くださ
 い。\nスケジュール\n\n\n\n開始時間\nアジェンダ\n登壇
 者\n\n\n\n\n18:30\n受付開始\n-\n\n\n19:00\nオープニング + 会
 場説明 + fun-tech について\nfun-tech 運営\n\n\n19:15\n(仮)Azure
 におけるサーバレスアプリケーション構築\n蓬田 晃裕 
 さん\n\n\n19:35\nAlibaba CloudサーバレスKubernetesでクローラ
 ーを作ろう\n安齋 久美子 さん\n\n\n19:55\n休憩\n\n\n\n20:00\
 nサーバーレスフレームワークを触って考えた私的まと
 め\n長内 毅志 さん\n\n\n20:30\nFargateとLambdaを使ってAWS Bat
 chを駆逐しようとした話\n松下 智彦 さん\n\n\n20:45\nクロ
 ージング & 懇親会\nみんな\n\n\n21:30\n解散\n-\n\n\n\n発表
 概要\n(仮)Azureにおけるサーバレスアプリケーション構
 築 ＊ 株式会社オープンストリーム 蓬田 晃裕 さん\n調
 整中\n株式会社オープンストリーム 蓬田 晃裕\nNow Printi
 ng...\nAlibaba CloudサーバレスKubernetesでクローラーを作ろ
 う ＊ 株式会社オープンストリーム 安齋 久美子 さん\n
 株式会社オープンストリーム 安齋 久美子\n2014年にOpenS
 treamにジョイン。\nAWS上の業務用アプリ基盤の設計や構
 築を3年ほど経験。\nPHPやPythonによるこれまた業務用ア
 プリを開発することもあり。\n今年の5月からAlibaba Cloud
  & Docker & Kubernetesを始めて、\nクラウドの武器としてAlib
 aba Cloudを使いこなすべく、日々勉強中。\n好きな言語
 はPython。\nサーバーレスフレームワークを触って考え
 た私的まとめ ＊ freee株式会社 長内 毅志 さん\nAWS Lambda
 、Azure Functions を使って、個人的なプログラムを開発・
 利用した感想をまとめて発表します。\nfreee株式会社 
 長内毅志 (Takeshi Nick Osanai)\n早稲田大学卒業後、アスキ
 ーでゲームビジネス従事。シックス・アパート株式会
 社でディベロッパーリレーションを担当後、2019年8月
 にfreeeへjoin。\n\nAWS認定ソリューションアーキテクト(SA
 A)\nQiita Microsoft Azure Antenna賞(2018)\nTOEIC 875点\n\n好きなこ
 と：\nジョギング、ダンス、野球観戦 (埼玉西武ライオ
 ンズと横浜DeNAベイスターズファン)\nゲーム (スプラト
 ゥーン、ドラクエ)\n家族と過ごす時間  \n（仮）Fargate
 とLambdaを使ってAWS Batchを駆逐しようとした話 ＊ スト
 ックマーク株式会社  松下 智彦 さん\nストックマーク
 株式会社  松下 智彦\n2019年4月からStockMarkにジョイン。
 SREとしてインフラ、セキュリティ、運用保守などの業
 務を担当。\n持ち物\n1. お名刺1枚（会場入館手続きの
 ため）\nお名刺をお持ちでない方は当日受付でフルネ
 ームの記帳をお願いします。\n2. 参加費用: 無料\n本勉
 強会では参加費をいただきません。\n会場\n株式会社オ
 ープンストリーム　本社 22F 中会議室\n東京都新宿区西
 新宿2-7-1　小田急第一生命ビル 22階  map\n\nfun-techとは\n
 株式会社オープンストリーム  の有志によって 2017 年
 に立ち上がりました。\n様々な技術への『入門』を通
 して人との『繋がり』や学ぶことを『楽しむ』コミュ
 ニティです！！\nfun-techの成り立ち \n\nせっかく勉強会
 を開催するなら、社外の人にも来てもらおう！\n社外
 交流初心者の初めの一歩になる勉強会があるといいね
 ！\n\nfun-techに込めた想い\n\n楽しみながら学ぼう！\n学
 ぶことを楽しもう！\n\nfun-techの目指すべき姿\n\n技術分
 野を問わずに入門し続けるコミュニティ！\n会社の枠
 にとらわれない繋がりを作ろう！\n\n初心者から入門者
 まで、いろんなタイプの「初めて」の人に楽しんでい
 ただけるようなコンテンツにしていきたいと思います
 。
LOCATION:株式会社オープンストリーム　22階会議室 東京都
 新宿区西新宿2-7-1　小田急第一生命ビル22階
URL:https://techplay.jp/event/750930?utm_medium=referral&utm_source=ics&utm
 _campaign=ics
END:VEVENT
END:VCALENDAR
