BEGIN:VCALENDAR
VERSION:2.0
PRODID:-//https://techplay.jp//JP
CALSCALE:GREGORIAN
METHOD:PUBLISH
X-WR-CALDESC:福岡ブロックチェーン勉強会#36(初心者向けReac
 t x Truffleハンズオン)
X-WR-CALNAME:福岡ブロックチェーン勉強会#36(初心者向けReac
 t x Truffleハンズオン)
X-WR-TIMEZONE:Asia/Tokyo
BEGIN:VTIMEZONE
TZID:Asia/Tokyo
BEGIN:STANDARD
DTSTART:19700101T000000
TZOFFSETFROM:+0900
TZOFFSETTO:+0900
TZNAME:JST
END:STANDARD
END:VTIMEZONE
BEGIN:VEVENT
UID:751529@techplay.jp
SUMMARY:福岡ブロックチェーン勉強会#36(初心者向けReact x T
 ruffleハンズオン)
DTSTART;TZID=Asia/Tokyo:20190925T190000
DTEND;TZID=Asia/Tokyo:20190925T210000
DTSTAMP:20260423T043849Z
CREATED:20190922T141350Z
DESCRIPTION:イベント詳細はこちら\nhttps://techplay.jp/event/75152
 9?utm_medium=referral&utm_source=ics&utm_campaign=ics\n\n福岡ブロッ
 クチェーン勉強会&もくもく会#35\nEthereumの研究をして
 いる、chaintope、Cryptoeconomics Labなどの方をお呼びして、
 ブロックチェーンの勉強会を開催します。\n今回の内
 容は【React x Truffle ハンズオン】です。\njavascriptのフレ
 ームワーク、React.jsと\nEthereumでのスマートコントラク
 トのフレームワークTruffle\nの連携を、Truffleのチュート
 リアルを進めながらやっていきます。\n今回、事前準
 備とPCの持参が必要となります。ご注意ください。\nRea
 ct、Drizzleのチュートリアル( https://www.trufflesuite.com/tutori
 als/getting-started-with-drizzle-and-react )を進めていきます。\n
 どなたでも参加可能です。\n是非ご参加ください！\n【
 ハッシュタグ】\nETHFUK\n【概要】\n\n日時: 9/25(水) 19:00開
 始\n場所:GBEC Park(福岡市博多区中洲4丁目6-12 プラート中
 洲8F the company中洲川端)\n\n【事前準備】\nお手持ちのPC
 にnpmが使える環境をご準備ください。\n参考記事\n\n\nMa
 cユーザーの方\nhttps://qiita.com/PolarBear/items/62c0416492810b7ecf
 7c\n\n\nWindowsユーザーの方\nhttps://qiita.com/taiponrock/items/900
 1ae194571feb63a5e\n\n\n【タイムテーブル】\n\n\n\n時間\n内容\
 n\n\n\n\n19:00\n自己紹介\n\n\n19:10\nReact x Truffleハンズオン\n
 \n\n21:00\n終了予定\n\n\n\n【教材】\n\n\nScrapbox\n\n\nGBEC\n\n\n
 Cryptozombies\n\n
LOCATION:GBEC Park 福岡市博多区中洲4丁目6-12(プラート中洲7F
 )
URL:https://techplay.jp/event/751529?utm_medium=referral&utm_source=ics&utm
 _campaign=ics
END:VEVENT
END:VCALENDAR
