BEGIN:VCALENDAR
VERSION:2.0
PRODID:-//https://techplay.jp//JP
CALSCALE:GREGORIAN
METHOD:PUBLISH
X-WR-CALDESC:Super Lumion Seminar #05
X-WR-CALNAME:Super Lumion Seminar #05
X-WR-TIMEZONE:Asia/Tokyo
BEGIN:VTIMEZONE
TZID:Asia/Tokyo
BEGIN:STANDARD
DTSTART:19700101T000000
TZOFFSETFROM:+0900
TZOFFSETTO:+0900
TZNAME:JST
END:STANDARD
END:VTIMEZONE
BEGIN:VEVENT
UID:751739@techplay.jp
SUMMARY:Super Lumion Seminar #05
DTSTART;TZID=Asia/Tokyo:20191102T140000
DTEND;TZID=Asia/Tokyo:20191102T160000
DTSTAMP:20260425T165600Z
CREATED:20190924T105155Z
DESCRIPTION:イベント詳細はこちら\nhttps://techplay.jp/event/75173
 9?utm_medium=referral&utm_source=ics&utm_campaign=ics\n\n\n\nSuper Lumion
  Seminar #05\n　　　　　　　\n概要\n新しいLUMIONの活用法
 や知識、裏技的な使い方などを特別な講師をお迎えし
 てレクチャーしていただくSuper Lumion Seminarシリーズの
 第5弾！株式会社日建スペースデザイン石井雄太氏お迎
 えし、特別講義をしていただきます。\n【無料イベン
 トとの違い】 LUMION中上級者向けへの特別講義\n【参加
 者のメリット】 直接質疑応答が出来る\n\nテーマ\nテー
 マ：撮影ノウハウを活かしたインテリア空間のビジュ
 アライゼーション\n\n                   \nタイムスケジュー
 ル\n\n\n\n\n時間\n内容\n\n\n\n\n13:30〜\n受付開始\n\n\n14:00〜
 15:15\n\n特別講義株式会社日建スペースデザイン　石井 
  雄太氏１．Introduction２. Material tips  　インテリアで使
 うマテリアルの表現３. Lighting tips  　ライティングの
 考え方４. Camera tips    インテリア空間でのレンズの使
 い分けとカメラワーク５. Secret tips   　 秘密のムービ
 ーテクニック\n\n\n\n15:15〜15:30\n名刺交換会\n\n\n15:30〜16:
 00\n懇親会\n\n\n\n※ 当日予告なく時間配分・内容が変更
 になる可能性がございます。\n\n登壇者\n\n\n\n\n\n\n石井 
 雄太氏\n株式会社日建スペースデザインデジタルデザ
 インチーム\n\n納谷建築設計事務所、UDS株式会社、株式
 会社日建設計を経て2016年株式会社日建スペースデザイ
 ン入社。デジタルデザインチーム所属。一級建築士、
 インテリアプランナー。主な業務は3Dビジュアライゼ
 ーションで、最近では自社のウェブサイトのポートレ
 ート撮影、リクルート動画の企画、撮影、編集など幅
 広い業務に携わる。\n\n\n\n\n参加対象\n\n設計士・建築
 関連業\n映像クリイター\nデザイナー\n\n※ リクルーテ
 ィング、勧誘など、採用目的でのイベント参加はお断
 りしております。 ※ 飲食のみを目的としたご応募・
 ご来場はご遠慮ください。 ※ 補欠者の方は、ご来場
 いただいてもご入場いただくことが出来ませんのでご
 了承ください。 ※ 欠席される場合は、お手数ですが
 速やかにキャンセル処理をお願い致します。\n持ち物\n
 名刺1枚\n※ 受付時にお渡し下さい。\nお問い合わせ\nlu
 m@livingcg.jp\n事前支払いができない場合等、ご連絡くだ
 さい\n参加費\n一般 3\,000円Lumionサブス会員 無料\n学生1\
 ,000円\nハッシュタグ\n#techplayjp\n\n
LOCATION:31Builedge 飯田橋 〒102-0071　東京都千代田区富士見2
 -10-2　飯田橋グラン・ブルーム3階
URL:https://techplay.jp/event/751739?utm_medium=referral&utm_source=ics&utm
 _campaign=ics
END:VEVENT
END:VCALENDAR
