BEGIN:VCALENDAR
VERSION:2.0
PRODID:-//https://techplay.jp//JP
CALSCALE:GREGORIAN
METHOD:PUBLISH
X-WR-CALDESC:【平日朝】田んぼロボがいる定時前のITオンラ
 イン朝活 2019/09/26
X-WR-CALNAME:【平日朝】田んぼロボがいる定時前のITオンラ
 イン朝活 2019/09/26
X-WR-TIMEZONE:Asia/Tokyo
BEGIN:VTIMEZONE
TZID:Asia/Tokyo
BEGIN:STANDARD
DTSTART:19700101T000000
TZOFFSETFROM:+0900
TZOFFSETTO:+0900
TZNAME:JST
END:STANDARD
END:VTIMEZONE
BEGIN:VEVENT
UID:751999@techplay.jp
SUMMARY:【平日朝】田んぼロボがいる定時前のITオンライ
 ン朝活 2019/09/26
DTSTART;TZID=Asia/Tokyo:20190926T073000
DTEND;TZID=Asia/Tokyo:20190926T090000
DTSTAMP:20260423T103701Z
CREATED:20190925T141523Z
DESCRIPTION:イベント詳細はこちら\nhttps://techplay.jp/event/75199
 9?utm_medium=referral&utm_source=ics&utm_campaign=ics\n\n概要\n仕事
 が始まる前、わくわくするクリエイティブな活動をし
 たい人のために、プロジェクトを開放します。\nそこ
 には皆様同様に働くプロのクリエイターと、非IT系の
 メイドのおかんがいます。\n楽しくお話しながら進め
 ていくのでテーマから脱線するかも知れません。\n注1
 ：現地参加イベントではありません。\n注2：メイドカ
 フェでノマド会の主催イベントではありません。\n参
 加ルール\n\nオンラインで作るのは「すごろく」で、AI
 田んぼロボではありません。\n（田んぼロボは、まさ
 みさんご自身が自由に楽しく制作していきます）\n最
 初の参加費は無料ですが、2回目以降は有料の枠で、お
 願いします。\n（場所代や機材購入費などの活動費に
 使わせていただきます）\nお支払いは当日、QRコード決
 済アプリの「PayPay」の送金機能を利用します。\n（開
 催遅延や通信不良などでのご返金の際も「PayPay」を利
 用します）\nその他の詳細は、随時Q&Aに追加していき
 ます。\n\nクリエイター紹介\nはせがわまさみ（パソコ
 ンシッター）\n初心者を対象にしたパソコンシッター
 として活躍するも、元SEとしての豊富なプログラミン
 グスキルのおかげで、他のSEが解決できない開発案件
 の依頼も絶えず、「仕事と別に、もっと私が楽しめる
 ことしたい」との気持ちで「IT工房」を開始し、ゆる
 く楽しく美しく「AI田んぼロボ」を制作中。\nランチが
 ついて15\,000円の「英語やスペイン語のプロフィールペ
 ージの制作ワークショップ」を開始する一方、毎週、
 都内の農園で野菜づくりにも励む「農業IT女子」でも
 あります。\nhttp://p-sitter.net/\nちよ子（移住ソムリエ）\
 n未だに静電式タッチパネルを強く押さないと気が済ま
 ないぐらい「根っからの非ITおかん系」で、まさみさ
 んの朝活と言うだけで参加するも、ひたすら隣でAI田
 んぼロボのお絵かきざんまい＆「AI田んぼロボすごろ
 く」を作ろうとしたところ、今回のプロジェクトが誕
 生。\n夢に見たアプリができるかも知れない…とわく
 わくし、移住ソムリエの活動で使っているZoomやメッセ
 ンジャーなどを駆使して、地域の皆様と一緒に創って
 いこうと思ってます。\nhttps://tsunagitai.com/\n ↑転送先の
 Wixのページは、まさみさんのワークショップで制作し
 たものです (^-^)/ \nQ&A\n現地参加することはできますか
 ？\n現地でのIT工房朝活は、まさみさんのお友達のため
 のイベントのため、オンライン参加が基本になります
 。\nほかに現地参加できるイベントはありませんか？\n
 色々あります！\n「ITクリエイターを癒す会」では、朝
 活終了後も、リフレッシュThursdayとして夜までイベン
 トを開催してます。\nご興味がございましたら、以下
 のいずれかまで、ご連絡ください。\n・Twitter\n・Facebook
 \n・メイドカフェでノマド会のSlack（「itクリエイター
 を癒す会」のチャンネル）\n会場払いというのは、ど
 ういうことでしょうか？\nConnpass様の仕様により、現地
 払いの扱いになりますが、ご参加いただきました後に
 、PayPayの送金機能を使って参加費を送金していただき
 ます。\n加盟店になっておりますが、現在、加盟店は
 対面での支払いに限定されますので、個人間の送金機
 能を利用します。\nそのため、還元されたポイントや
 、チャージをせずに直接、クレジットカードでの送金
 はできないようですので、ご注意ください。\nhttps://pay
 pay.ne.jp/guide/send/\nなぜPayPayを使うのでしょうか？\n実際
 に使ってみて利用できる店舗が多くて使いやすかった
 ので、私自身が加盟店としても登録させていただいた
 からですが、コンビニからのチャージのしやすさと送
 金手数料が発生しないのが、一番大きな理由になりま
 す。\n但し、今後の状況などを加味して、変更させて
 いただく場合もございます。\nPayPay以外での支払いは
 できますか？\nどうしても難しい場合は、 PayPal.Me で対
 応させていただきますが、料金が異なりますので、事
 前にご確認お願いしまます。\n「今回のスポンサーさ
 ま」とは何ですか？\nその回のイベントの経費を負担
 くださる【神様】でございます m( )m\n即時決済ですの
 で、当日、ご参加いただくことなく、ご支援だけいた
 だくことも歓迎です！\n（もちろん、ご参加も大歓迎
 です！）\nなお、スポンサー様がいらした場合は、イ
 ベント紹介の際は、\n\n田んぼロボがいる定時前のオン
 ライン朝活 Supporter by 〇〇〇〇（=スポンサーさま名）\
 n\nとさせていただきます。\nすごろくではなく、AI田ん
 ぼロボづくりに参加できませんか？\nAI田んぼロボは、
 まさみさんにとっての言わば「アート」なので、皆様
 の意見やアイデアを元に作るプロジェクトではありま
 せん。\nただ、ご自身でも興味があるのなら、利用キ
 ットなどをお教えしますので、ご自身で創っていくの
 も面白いはずです！\nすごろくって、何するのでしょ
 うか？\nこのIT工房朝活で、皆さんの試しては失敗した
 り成功する一喜一憂ストーリーを「すごろく」にして
 、最終的にアプリにして皆で遊ぶ構想です。\nどんな
 アプリを考えてますか？\nまだ誰も分かりませんので
 、だから面白いと感じる皆様のご参加、お待ちしてい
 ます！\n（ただ、最終的にプログラミングはしますが
 、一見無駄に思えるようなチャレンジを楽しい面白い
 と思える方向きで、プログラミングで自分でドンドン
 作りたい方向きではありません）\nすごろくプロジェ
 クトの目的は何ですか？\n普段のお仕事ですと、何よ
 りも重要なのは与えられた課題を正確に解決していく
 ことだと思います。\nそうではなく、何もないところ
 から、何ができるかわからない楽しさ、そして完成し
 たものではなく、完成させるまでの過程を楽しむこと
 も、目的かも知れません。\nスキルアップを目的とす
 るのではなく、楽しむため、日々の張り詰めた心の緊
 張がゆるむような、そんなプロジェクトにできるとい
 いな…と思ってます！\n「ITクリエイターを癒す会」と
 は？\nメイドカフェでノマド会のアンバサダー兼メイ
 ドのおかんの、私、ちよ子がオーガナイザーを務め、I
 Tクリエイターの皆様のおしごと疲れに効きそうなイベ
 ントを立てていく会です。\nノマド会の中の分科会を
 目指していますので、皆様、ぜひご参加お願いします 
 (^-^)/\nhttps://tips-work.connpass.com/
LOCATION:オンライン ZooｍのURLは当日ご連絡します。
URL:https://techplay.jp/event/751999?utm_medium=referral&utm_source=ics&utm
 _campaign=ics
END:VEVENT
END:VCALENDAR
